BEGIN:VCALENDAR
VERSION:2.0
PRODID:-//https://techplay.jp//JP
CALSCALE:GREGORIAN
METHOD:PUBLISH
X-WR-CALDESC:RPA勉強会 Automation Anywhere Talk vol.2～A2019にでき
 ること～
X-WR-CALNAME:RPA勉強会 Automation Anywhere Talk vol.2～A2019にでき
 ること～
X-WR-TIMEZONE:Asia/Tokyo
BEGIN:VTIMEZONE
TZID:Asia/Tokyo
BEGIN:STANDARD
DTSTART:19700101T000000
TZOFFSETFROM:+0900
TZOFFSETTO:+0900
TZNAME:JST
END:STANDARD
END:VTIMEZONE
BEGIN:VEVENT
UID:798846@techplay.jp
SUMMARY:RPA勉強会 Automation Anywhere Talk vol.2～A2019にできるこ
 と～
DTSTART;TZID=Asia/Tokyo:20201120T193000
DTEND;TZID=Asia/Tokyo:20201120T203000
DTSTAMP:20260421T074232Z
CREATED:20201106T141711Z
DESCRIPTION:イベント詳細はこちら\nhttps://techplay.jp/event/79884
 6?utm_medium=referral&utm_source=ics&utm_campaign=ics\n\n\n\n\nこの支
 部で学べる・楽しめること！\n\n\n\n\n\nタイムテーブル\
 n\n\n\n時間\n内容\n発表タイトル\n\n\n\n\n19:00\nオンライン
 開始\nイベント前の交流Time\n\n\n19:30\nオープニング： RP
 ACommunity Mitz\nコミュニティ＆趣旨説明\n\n\n\n【セミナー
 】\n学びの時間\n\n\n\nじっくり見せます！ライブデモ「
 A2019でできること」\nSB C&S株式会社 大裏明日香 SB C&S株
 式会社 うえの\n\n\n\n容赦なく聞きます！メーカートー
 ク「80社の事例分析からわかった!スケールするRPAプロ
 ジェクトの勘所」\nオートメーション・エニウェア社 
 米田さん＆SB C&S株式会社RPAユーザー代表 浅利さんRPAユ
 ーザー代表 たまいさん\n\n\n\nQA\n\n\n\n\nクロージング\n\n
 \n\n20:30\n終了\n\n\n\n\n\n\nさらにAutomation Anywhereの事を深
 く学べるイベントAA de Knight（SB C&S主催） もおすすめで
 す！次回は12/4 こちらも是非ご参加ください！\n\n\n\nRPA
 Communityについて\n\nRPAユーザー同士で情報や悩みを共有
 しながらRPAを学び、各々が目指す業務改善・働き方改
 革の実現に繋げる事を目的にしているのがRPACommunityで
 す。\n\n\nすでにRPAに取り組んでいる方、これから学ぼ
 うとしている方、ちょっと興味がある方、どんな方で
 も大歓迎です。\n\nRPAに関するネタ、悩みや、言いたい
 事を、狭くはRPAですが広くは自動化、業務改善、働き
 方改革に繋がるテーマでセミナーやライトニングトー
 ク（LT※）を楽しむコミュニティです！\n\n\n※ LTとは
 「Lightning Talk(s)」の頭文字を取ったもので5分間程度の
 短い時間で行われる発表を連続して続けていく形式の
 プレゼンテーション。\n\n\n参加メリット\n\n\nユーザー
 主体だからこそ、つまらない営業トークも宣伝トーク
 もありません。RPAに関する情報を得ながら、拡くは業
 務改善・働き方改革に至る様々な情報を参加者同士で
 楽しく交換し合えるコミュニティです。\n\n\n\n参考\nRPA
 Community YouTubeチャンネル\nイベントレポート web記事\n\n\
 n\n開催前後の交流ためのFBグループもあります！\n\n\nRP
 ACommunity FBグループ \n\n\n是非ご参加下さい！\n\n\n\n参加
 費　無料\n\n\n主催 RPACommunity Automation Anywhere Talk支部\n協
 力 パートナー企業\n  \n  \n\n  \n\n諸注意\n\nイベント内
 容は一部変更になる可能性がございます。\nイベント
 当日の様子は後日何らかの媒体にて公開させていただ
 くことがございます。\nお申込後運営都合によりご参
 加をキャンセルさせて頂く場合がございます。予めご
 了承頂けますようお願いいたします。\n当イベントで
 は全ての参加者がこのイベントを楽しめるよう、RPAComm
 unity運営グループの管理のもと開催しています。その
 ため、以下のような行動を取られた方は退室いただく
 場合があります。また次回以降の参加をお断りします
 のでご了承下さい。過去に以下のような行動を取られ
 た方からのお申込についてもお断りさせていただく場
 合がございます。\n\n　■他の参加者やLT登壇者に対し
 ての迷惑行為と見られる言動や行動\n　■人材紹介、
 転職、マルチ商法、宗教など、本イベントとは関係の
 ない勧誘\n
LOCATION:オンライン オンライン
URL:https://techplay.jp/event/798846?utm_medium=referral&utm_source=ics&utm
 _campaign=ics
END:VEVENT
END:VCALENDAR
