BEGIN:VCALENDAR
VERSION:2.0
PRODID:-//https://techplay.jp//JP
CALSCALE:GREGORIAN
METHOD:PUBLISH
X-WR-CALDESC:データ活用とDX実践方法を一挙公開【参加費無
 料】Cloudera Sessions バーチャルイベント
X-WR-CALNAME:データ活用とDX実践方法を一挙公開【参加費無
 料】Cloudera Sessions バーチャルイベント
X-WR-TIMEZONE:Asia/Tokyo
BEGIN:VTIMEZONE
TZID:Asia/Tokyo
BEGIN:STANDARD
DTSTART:19700101T000000
TZOFFSETFROM:+0900
TZOFFSETTO:+0900
TZNAME:JST
END:STANDARD
END:VTIMEZONE
BEGIN:VEVENT
UID:798856@techplay.jp
SUMMARY:データ活用とDX実践方法を一挙公開【参加費無料
 】Cloudera Sessions バーチャルイベント
DTSTART;TZID=Asia/Tokyo:20201118T140000
DTEND;TZID=Asia/Tokyo:20201118T180000
DTSTAMP:20260420T013855Z
CREATED:20201106T190315Z
DESCRIPTION:イベント詳細はこちら\nhttps://techplay.jp/event/79885
 6?utm_medium=referral&utm_source=ics&utm_campaign=ics\n\nCloudera Session
 s Japan 2020～データが切り拓く激動の新時代～\n概要\nデ
 ータ活用によるデジタルトランスフォーメーション（D
 X）を推進し、世界をリードするCloudera は、日本初のバ
 ーチャルイベントCloudera Sessions Japan を11月18（水）に開
 催いたします。当イベントでは、CEO の Rob Bearden や CMO 
 の Mick Hollison による米国やグローバルの最新の市場動
 向をはじめ、日本国内の先進企業のDXの具体的な実践
 方法やデータ人材不足を克服する方法など、激動する
 時代を勝ち抜くためのデータ戦略について、様々な観
 点からご紹介します。\n\nお客様基調講演に、「世界一
 わかりやすい DX入門」の著者である株式会社KADOKAWA Conn
 ected 代表取締役社長 各務 茂雄 様をお招きして、「Digi
 tal Transformation の真実 ～老舗企業が DX 推進に成功した
 理由～」と題して、DX 実践の具体的な方法についてご
 紹介頂きます。ご参加の方に最新のノートPCや Apple Watc
 h 6などの豪華賞品が当たる抽選会も実施します。是非
 、ご参加ください。\nプログラム\n\n  \n\n\n14:00\nご挨拶\
 n\n\n　\nCloudera 株式会社 社長執行役員 大澤 毅\n\n\n14:10\
 n今日の企業が直面する変化の嵐\n\n\n　\nCloudera Inc. 最
 高経営責任者 兼 社長 Rob Bearden\n\n\n14:15\n基調講演: エ
 ンタープライズデータクラウドの進化\n\n\n　\nCloudera In
 c. 最高マーケティング責任者 Mick Hollison & 最高顧客責
 任者 Anupam Singh\n\n\n15:00\nお客様基調講演: Digital Transforma
 tion の真実 ～老舗企業が DX 推進に成功した理由～\n\n\n
 　\n株式会社KADOKAWA Connected 代表取締役社長 各務 茂雄 
 様\n\n\n15:25\n休憩\n\n\n15:40\nAre you ready for digital transformati
 on?　～SIer の変革とチャレンジ～\n\n\n　\nクオリカ株式
 会社 執行役員 CTO イノベーションテクノロジー本部長 
 坪口 智泰 様\n\n\n16:05\n日本国内企業におけるデータ活
 用を阻害する主要３大要因を取り除く　～ Dell Technologi
 es\, Red Hat\, Cloudera３社連合によるリアルな実践的アプ
 ローチ ～\n\n\n　\nデル・テクノロジーズ株式会社 DCW 
 ソリューション本部 データ分析 主幹 堀田　鋭二郎 様
 \n\n\n16:40\n先進企業の DX を促進する Cloudera Data Platform\n\
 n\n　\nCloudera 株式会社 Solutions Engineer Manager Zhen Zeng\n\n\n1
 7:05\nハイブリッドクラウドの世界でデータと洞察を最
 適化するための機会と課題とは？\n\n\n　\nCloudera 株式
 会社 社長執行役員 大澤 毅 ＆ チーフエバンジェリス
 ト 吉田 栄信\n\n\n17:20\n質疑応答および抽選会\n\n\n\n※ 
 プログラムは予告なく変更する場合がございます。\n
 参加対象\n\n企業のデータ活用に関わる方、導入を検討
 している方\nビジネスリーダー\nエンジニア\n\n参加登
 録・詳細\nhttps://bit.ly/38kqzuO\n参加費\n無料\nハッシュタ
 グ\n#CS2020\n注意事項\n※ 企業・団体のビッグデータ活
 用に関わる方、導入を検討している方を対象としたイ
 ベントです。個人メールでのお申し込みの方や、競合
 他社の方は、ご参加をお断りさせて頂く場合がござい
 ますので、予めご了承ください。\n 
LOCATION:オンライン
URL:https://techplay.jp/event/798856?utm_medium=referral&utm_source=ics&utm
 _campaign=ics
END:VEVENT
END:VCALENDAR
