BEGIN:VCALENDAR
VERSION:2.0
PRODID:-//https://techplay.jp//JP
CALSCALE:GREGORIAN
METHOD:PUBLISH
X-WR-CALDESC:『詳解 確率ロボティクス』の演習問題を解く
 会#14
X-WR-CALNAME:『詳解 確率ロボティクス』の演習問題を解く
 会#14
X-WR-TIMEZONE:Asia/Tokyo
BEGIN:VTIMEZONE
TZID:Asia/Tokyo
BEGIN:STANDARD
DTSTART:19700101T000000
TZOFFSETFROM:+0900
TZOFFSETTO:+0900
TZNAME:JST
END:STANDARD
END:VTIMEZONE
BEGIN:VEVENT
UID:798959@techplay.jp
SUMMARY:『詳解 確率ロボティクス』の演習問題を解く会#14
DTSTART;TZID=Asia/Tokyo:20201123T190000
DTEND;TZID=Asia/Tokyo:20201123T213000
DTSTAMP:20260422T072051Z
CREATED:20201108T141155Z
DESCRIPTION:イベント詳細はこちら\nhttps://techplay.jp/event/79895
 9?utm_medium=referral&utm_source=ics&utm_campaign=ics\n\nロボットに
 ついていろんな角度から考えて一緒に学ぼう\nハード
 からソフトまで様々な要素技術の集合体であるロボッ
 ト。\nそして、今後の更なる応用分野拡大が望まれる
 ロボット。\nそんなロボットの分野を通じて、この不
 確かな世界を新たな視点から覗こう\n『詳解 確率ロボ
 ティクス』の紹介\n名著『Probabilistic Robotics』の翻訳者
 でもある上田隆一先生の著書『詳解　確率ロボティク
 ス　Ｐｙｔｈｏｎによる基礎アルゴリズムの実装』を
 教科書にして進めます\nこの本は、確率やロボティク
 スの様々なエッセンスを、数学的背景から実装レベル
 の問題まで幅広くかつ丁寧に解説した確率ロボティク
 ス学習の新たな金字塔ともなりうる本です。\nまた、
 章末問題には非常にユニークかつ明確な答えの出せな
 い問題がいくつも収録されています。\n参考※上田先
 生のブログ\n※本ページサムネイル画像は本のカバー
 から引用させて頂きました。\n進め方\n予習を前提とし
 、本章の内容は大まかになぞりながら、章末問題をメ
 インで紐解きます。\n誰かが前に立って教えるのでは
 なく、参加者が問いや考えを寄せ合うことで\n様々な
 切り口から確率ロボティクスの分野を深めます。\n前
 提知識・準備物\n\n数Ⅲ・数Cレベルの数学、確率の基
 礎  \n教科書は個人で揃えてください\nZoomでの会議がで
 きる環境  \npythonおよびjupyterの使える環境のPCがあると
 捗ります※無くても可\n\nこんな人におすすめ\n\n確率
 分野に興味がある\nロボットに興味がある\n学びの視野
 を広げたい\n自分のキャリア、進路に悩んでいる社会
 人・学生\n\n予定\n3週に1回程のペースで１年ぐらいか
 けて１冊やり切る  \n第14回\n\n第三部\n11章 強化学習  \n
 \n\n\n第三部について\n三部からは、ロボットに方策(poli
 cy)を持たせ学習させていきます\n最新の研究にもつな
 がる技術や概念を基礎から議論します\nマルコフ過程
 、強化学習、、、気にはなっていたけど中々勉強出来
 なかったという方も、その道を極めし方も、是非一緒
 に勉強してみませんか？\n受付の流れ\n主催者がZoomで
 会議を立てます。\n開始30分前を目安に会議の参加用URL
 を共有します。\n各自開始までにログインしてくださ
 い。\n\n場所\n感染症対策のためオンライン開催\n\n\nそ
 の他\nやむを得ない場合を除く急なキャンセルや、サ
 イレントキャンセルはお控えください。\n（何度も行
 う場合は以降の参加をお断りします）\n運営・ファシ
 リテート\nオムロン株式会社　井上\n！！運営メンバー
 募集中！！
LOCATION:オンライン オンライン
URL:https://techplay.jp/event/798959?utm_medium=referral&utm_source=ics&utm
 _campaign=ics
END:VEVENT
END:VCALENDAR
