BEGIN:VCALENDAR
VERSION:2.0
PRODID:-//https://techplay.jp//JP
CALSCALE:GREGORIAN
METHOD:PUBLISH
X-WR-CALDESC:渋谷Unityもくもく会 ＃2
X-WR-CALNAME:渋谷Unityもくもく会 ＃2
X-WR-TIMEZONE:Asia/Tokyo
BEGIN:VTIMEZONE
TZID:Asia/Tokyo
BEGIN:STANDARD
DTSTART:19700101T000000
TZOFFSETFROM:+0900
TZOFFSETTO:+0900
TZNAME:JST
END:STANDARD
END:VTIMEZONE
BEGIN:VEVENT
UID:799095@techplay.jp
SUMMARY:渋谷Unityもくもく会 ＃2
DTSTART;TZID=Asia/Tokyo:20201122T110000
DTEND;TZID=Asia/Tokyo:20201122T190000
DTSTAMP:20260421T120524Z
CREATED:20201109T141129Z
DESCRIPTION:イベント詳細はこちら\nhttps://techplay.jp/event/79909
 5?utm_medium=referral&utm_source=ics&utm_campaign=ics\n\n会の内容\nUn
 ityでゲームなどを作っている人のための集い\n本会で
 は各々が目標に向かってもくもく作業します。\n詰ま
 ったら質問やテストプレイなどで協力しあいましょう
 。\n週末の時間を使って個人制作や学習を進めるきっ
 かけになれば嬉しいです。\n一人だとできなくてもみ
 んなで集まればできるはず！\n参加の際には【注意事
 項】を必ずご確認いただくようお願いします。\n協賛
 ： ミクシィグループ\n注意事項　〜参加申込前に必ず
 お読みください〜\n新型コロナウイルス対策について\n
 本会は会場に集まって行うオフライン型のもくもく会
 です。\n参加の皆様は新型コロナウイルスへの感染予
 防にご協力をお願いします。\n(1) 会の中止・延期措置\
 n都内での感染拡大などやむまれぬ事情があった場合、
 中止・延期とさせていただきます。\nあらかじめご了
 承ください。\n(2) 事前の健康チェック\n当日や直前に
 発熱や風邪などの症状がある場合、参加を控えるよう
 お願いします。\n(3) 当日の出欠確認・連絡先\n当日は
 参加者の出欠と連絡先（Twitter、connpassのID、メールア
 ドレス等）を確認させていただきます。\n万が一、会
 場にて感染が発生した際にはご連絡させていただく可
 能性がありますのでご了承ください。\n(4) マスクの持
 参・着用\n当日はマスクを持参いただき、会場内では
 着用をお願いします。また大声での会話はお避けくだ
 さい。\n(5) ソーシャルディスタンスの維持\n作業時は
 密集状態を避けるため各人が2m程度間隔をあけるよう
 お願いします。\n(6) こまめな手洗い・消毒\n入退出や
 休憩時等で感染リスクを減らすため、こまめな手洗い
 ・消毒をお願いします。\n会場施設の入口には消毒液
 が設置されておりますので入退出時にご利用ください
 。\n(7) 飲食について\n会場内での飲食は可能ですが対
 面での飲食はご遠慮ください。\nその他\n・ネットワー
 クビジネスや宗教等の勧誘行為は堅くお断りします。\
 n・主催側で不適切と判断された方はご退場いただき、
 以後参加をお断りする場合があります。\nこんな人に
 おすすめ\n\n\nAmazonで買ったUnity本は半年間積ん読\n\n\n
 久しぶりにUnity開くも30分後にはTwitter見てる\n\n\n自分
 のゲームが面白いのか分からなくなってきた\n\n\n作品
 の完成までモチベーションが続かない\n\n\nAssetStoreのセ
 ールで散財してる\n\n\nUnity1Weekは常連\n\n\n時間割\n\n\n\n
 時間\n内容\n\n\n\n\n11:00\n開会\n\n\n11:30\n自己紹介、今日
 やることを共有\n\n\n12:00\nもくもく、お昼ごはん\n\n\n15:
 00\n希望者によるLTタイム\n\n\n18:00\n今日やったことを共
 有\n\n\n18:50\n会場の清掃、退室準備\n\n\n19:00\n閉会\n\n\n\n
 場所・持ち物・参加費\n場所\n会場は渋谷駅直結のビル
 「渋谷スクランブルスクエア」の中にあります。\n会
 場へのアクセス\n\n同ビルのオフィス階のエントランス
 ロビーである17階へ\nゲート前に警備員さんがいますの
 で、ゲストシールを発行してもらう\nゲートを通りエ
 レベーターにて36階へ\n36階にはスタッフの方がいます
 ので、案内に従う\n\n持ち物\n\n\nUnityが入ったPC\n\n\nマ
 スク\n\n\n参加費\n無料\n最後までお読みいただきありが
 とうございました！
LOCATION:株式会社ミクシィ 東京都渋谷区渋谷２丁目２４
 −１２(渋谷スクランブルスクエア 36F)
URL:https://techplay.jp/event/799095?utm_medium=referral&utm_source=ics&utm
 _campaign=ics
END:VEVENT
END:VCALENDAR
