BEGIN:VCALENDAR
VERSION:2.0
PRODID:-//https://techplay.jp//JP
CALSCALE:GREGORIAN
METHOD:PUBLISH
X-WR-CALDESC:〜たった３時間でGameアプリ / iPhoneアプリを開
 発！無料プログラミング体験会
X-WR-CALNAME:〜たった３時間でGameアプリ / iPhoneアプリを開
 発！無料プログラミング体験会
X-WR-TIMEZONE:Asia/Tokyo
BEGIN:VTIMEZONE
TZID:Asia/Tokyo
BEGIN:STANDARD
DTSTART:19700101T000000
TZOFFSETFROM:+0900
TZOFFSETTO:+0900
TZNAME:JST
END:STANDARD
END:VTIMEZONE
BEGIN:VEVENT
UID:799147@techplay.jp
SUMMARY:〜たった３時間でGameアプリ / iPhoneアプリを開発！
 無料プログラミング体験会
DTSTART;TZID=Asia/Tokyo:20201121T140000
DTEND;TZID=Asia/Tokyo:20201121T170000
DTSTAMP:20260422T232829Z
CREATED:20201110T015652Z
DESCRIPTION:イベント詳細はこちら\nhttps://techplay.jp/event/79914
 7?utm_medium=referral&utm_source=ics&utm_campaign=ics\n\n◆Game / iPhone
 アプリ開発プログラミング体験会、開催！\n大学生限
 定プログラミングコミュニティGeekSalonです！\n誰しも
 少しは気になっているであろう「プログラミング」\n
 普段の生活では挑戦しにくいですが\nこの機会に、プ
 ログラミングに挑戦してみませんか？\n「自分でもで
 きるのかな…？」\n「文系だけど大丈夫かな...?」\n「
 就活に使える武器が欲しい！」\nなどなど、どなたで
 も大歓迎です！\nプログラミング初心者はもちろんPCが
 苦手な方も\nGeekSalonのメンターが全力でサポートする
 ので\n安心してご参加ください！！！\nたった3時間で
 、プログラミングを体感\nオリジナルのアプリを開発
 するプログラミング体験会。\nGeekSalon公式HPはこちらか
 ら\n→https://bit.ly/36Iy9yb\n【 Game開発/iPhoneアプリ開発コ
 ース体験会 】\n▼日時：11月21日（土) 14時-17時00分\n▼
 会場：GeekSalon 東京教室\n▼持ち物：PC（Mac/Windows）\n※i
 Phoneコースご希望の方はMac必須となります。\n※貸出PC
 のご用意がございません。ご了承ください。\n▼GeekSalo
 nの公式LINE@の登録をお願いします。\n
LOCATION:GeekSalon 東京教室 〒150-0022 東京都渋谷区恵比寿南3
 丁目3−8 烏山恵比寿ビル1階
URL:https://techplay.jp/event/799147?utm_medium=referral&utm_source=ics&utm
 _campaign=ics
END:VEVENT
END:VCALENDAR
