BEGIN:VCALENDAR
VERSION:2.0
PRODID:-//https://techplay.jp//JP
CALSCALE:GREGORIAN
METHOD:PUBLISH
X-WR-CALDESC: FAX受注業務をAI-OCR×RPAで自動化する 〜製造、
 小売、BtoB事業者向け「脱・紙業務」〜
X-WR-CALNAME: FAX受注業務をAI-OCR×RPAで自動化する 〜製造、
 小売、BtoB事業者向け「脱・紙業務」〜
X-WR-TIMEZONE:Asia/Tokyo
BEGIN:VTIMEZONE
TZID:Asia/Tokyo
BEGIN:STANDARD
DTSTART:19700101T000000
TZOFFSETFROM:+0900
TZOFFSETTO:+0900
TZNAME:JST
END:STANDARD
END:VTIMEZONE
BEGIN:VEVENT
UID:799168@techplay.jp
SUMMARY: FAX受注業務をAI-OCR×RPAで自動化する 〜製造、小売
 、BtoB事業者向け「脱・紙業務」〜
DTSTART;TZID=Asia/Tokyo:20201127T130000
DTEND;TZID=Asia/Tokyo:20201127T143000
DTSTAMP:20260419T222056Z
CREATED:20201110T060033Z
DESCRIPTION:イベント詳細はこちら\nhttps://techplay.jp/event/79916
 8?utm_medium=referral&utm_source=ics&utm_campaign=ics\n\n本セミナー
 は終了いたしました。\n資料は、セミナー開催報告ペ
 ージで公開しています。\n\n手作業から抜け出せないFAX
 受注業務\n\n日々大量に発生する取引先や顧客からのFAX
 注文。その処理に膨大な人的作業が発生します。FAX文
 書の受信後に文書内の文字情報を目視確認し、システ
 ムに手動入力していきます。受注確認の電話・メール
 処理があることや、処理作業が煩雑で属人化しやすい
 ため、なかなか手作業から抜け出せないという実態が
 あります。\n\nテレワーク でのFAX伝票処理の課題\n\nテ
 レワークが普及しつつある今、「現場にいないとFAX対
 応ができない」という課題が生じています。リモート
 での作業が不可能であり、テレワークへ切り替えるこ
 とに壁があるのではないでしょうか？CO-NEXT社の2020年
 の調査によると、約35％の企業が「FAX対応の為に一部
 社員のテレワークが実現できない」と回答しています
 。\n\n（参照：https://prtimes.jp/main/html/rd/p/000000037.000017245.
 html ）\n\nAI-OCRを活用して、FAX帳票を自動データ化する\
 n\n上記の課題を解決する一つが、AI-OCRです。従来のOCR
 では困難だった複雑な帳票や手書き文字の読み取りが
 可能に。取引先のシステムから出力された異なる帳票
 フォーマットにも対応ができ、自動化を推進できます
 。\n\nRPAでFAX受注業務の自動化を実現\n\nAI-OCRで読み取
 ったデータをシステムへ入力する作業はRPAで自動化。A
 I-OCRと組み合わせることで受注処理の業務全体を効率
 化します。\n\n本セミナーでは、インターコムの提供す
 るFAXソリューション「まいと〜く」シリーズ、ネット
 スマイルの提供するAI-OCR「AIスキャンロボ」、デリバ
 リーコンサルティングの業務効率化RPAツール「ipaSロボ
 」の製品紹介を行うとともに、FAX受注業務の効率化の
 事例をご紹介します。\n\n・カタログ通販の受注業務を
 どうにかしたい\n\n・手作業のFAX伝票処理に依存して業
 務効率化ができない\n\n・RPAを導入してみたが上手く活
 用できていない\n\nといった課題を持たれる製造・小売
 ・BtoB事業者のご担当者様にオススメの内容となります
 。\n\nプログラム　\n\n12:45～13:00　受付\n\n13:00～13:05　
 オープニング（マジセミ）\n\n13:05～13:10　オープニン
 グ（デリバリーコンサルティング）\n\n13:10～13:30　テ
 レワークで処理しにくいFAX受注処理のリモート化・自
 動化（インターコム）\n\nFAXの電子化運用に欠かせない
 FAXソリューションについて、便利なWebクライアントで
 の送受信履歴管理や、受信した注文書FAXを AI-OCRへ受け
 渡しての自動データ化など、成功事例と併せてご紹介
 します。\n\n13:30～13:50　AI-OCRで実現するFAX帳票の自動
 データ化（ネットスマイル）\n\nビジネス文書の読み取
 りに強いAI-OCRで注文書を電子化して、そのまま販売管
 理システムに連携できる仕組みをデモを交えながらご
 紹介します。\n\n13:50～14:10　RPAを活用して受注業務自
 動化へのチャレンジ（デリバリーコンサルティング）\
 n\n現場部門で運用可能なデスクトップ型RPA「ipaSロボ」
 を活用した受注業務の自動化について、ロボット作成
 やスケジュール機能を利用した運用のポイントなどを
 実際のデモを交えながらご紹介します。\n\n14:10～14:30
 　質疑応答\n\n主催\n\n株式会社デリバリーコンサルテ
 ィング\n\n共催\n\n株式会社インターコム\n\nネットスマ
 イル株式会社\n\n当日会場アクセスに関するお問合せ\n\
 nzoom@osslabo.com\n\nセミナー事務局\n\nマジセミ株式会社\n\
 n\n\n※リアルセミナーの場合は、当日は名刺を2枚お持
 ち下さい。Webセミナーの場合は不要です。\n\n※以下の
 方について、当社判断によりご参加をご遠慮頂く場合
 がございます。予めご了承下さい。\n\n・講演企業の競
 合となる商品・サービスを提供している企業、同業の
 企業、及びそのグループ企業・関連企業の方\n\n・個人
 や個人事業主の方\n\n・その他、弊社及び講演企業が不
 適切と判断した企業・個人の方\n\n※申込が多数の場合
 、弊社抽選にてご参加をご遠慮頂く場合がございます
 ので、予めご了承ください。\n\n※本コミュニティにご
 提示いただいた情報、及び、申込時にご記載頂いた内
 容、当日アンケートにご記入いただいた内容は、マジ
 セミ株式会社にて収集し、マジセミ株式会社／オープ
 ンソース活用研究所、及び、主催・共催・協賛・協力
 ・講演の各企業へ提供します。ご記入頂いた個人情報
 は、マジセミ株式会社／株式会社オープンソース活用
 研究所及び主催・共催・協賛・協力・講演企業にて厳
 重に管理し、各社のサービス、製品、セミナー、イベ
 ントなどのご案内に使用させて頂き、また各社のメル
 マガに登録させていただきます。ご記入頂いた個人情
 報は、法で定める場合を除きご本人の同意を得ること
 なく第三者へ提供いたしません。利用目的遂行のため
 個人情報の取扱いを外部に委託する場合は、委託した
 個人情報の安全管理が図られるように、委託をする各
 社が定めた基準を満たす委託先を選定し、委託先に対
 して必要かつ適切な監督を行います。 お客様の個人情
 報に関する開示等は、お申し出頂いた方がご本人（代
 理人）であることを確認した上で、各社において合理
 的な期間および範囲で対応いたします。開示等の手続
 き、個人情報の取扱いに関するお問い合わせは下記の
 お問い合わせ窓口へご連絡下さい。\n\n〔お問合せ先　
 及び　個人情報保護管理者〕　株式会社オープンソー
 ス活用研究所 個人情報保護管理者　連絡先：03-6721-8548
LOCATION:オンライン
URL:https://techplay.jp/event/799168?utm_medium=referral&utm_source=ics&utm
 _campaign=ics
END:VEVENT
END:VCALENDAR
