BEGIN:VCALENDAR
VERSION:2.0
PRODID:-//https://techplay.jp//JP
CALSCALE:GREGORIAN
METHOD:PUBLISH
X-WR-CALDESC:人協働ロボットの実践講座(11/19開催)
X-WR-CALNAME:人協働ロボットの実践講座(11/19開催)
X-WR-TIMEZONE:Asia/Tokyo
BEGIN:VTIMEZONE
TZID:Asia/Tokyo
BEGIN:STANDARD
DTSTART:19700101T000000
TZOFFSETFROM:+0900
TZOFFSETTO:+0900
TZNAME:JST
END:STANDARD
END:VTIMEZONE
BEGIN:VEVENT
UID:799298@techplay.jp
SUMMARY:人協働ロボットの実践講座(11/19開催)
DTSTART;TZID=Asia/Tokyo:20201119T103000
DTEND;TZID=Asia/Tokyo:20201119T163000
DTSTAMP:20260419T212718Z
CREATED:20201111T085216Z
DESCRIPTION:イベント詳細はこちら\nhttps://techplay.jp/event/79929
 8?utm_medium=referral&utm_source=ics&utm_campaign=ics\n\n現場で使わ
 れるプログラム例やティーチング実習で実践力を磨く\
 n\n人協働ロボットの機能・知識を学ぶ講座です。現場
 で人協働ロボットを用いてティーチングする際効率的
 な方法を考えていただいたり、現場で使われるプログ
 ラムの例をいくつか紹介したりします。座学の後はテ
 ィーチング実習として実際にロボットティーチングに
 触れていただきます。\n\n\n\n\n内容\n\n・産業用ロボッ
 トの基礎知識：種類、選び方、スペック、構成部品の
 知識など・関係法令：産業用/人協働ロボットの法令、
 リスクアセスメント、安全対策など・ロボット教示知
 識：軌跡補間、PTP/CP制御など・ロボット教示実習\n\nこ
 んな方にオススメ！\n\n・協働ロボットに関連する案件
 がこれから増えるため基礎知識を学ぶ必要がある・協
 働ロボットを使ってみて出た疑問点の解消・初心者だ
 が協働ロボットに興味がある、勉強したい・社内の自
 動化のためにロボットについても知識を身に付ける必
 要がある\n\n講師\n\n\n小松　将基 氏E Robotics代表㈱ウィ
 ルテックで製造や産業用ロボットについて学ぶ。いく
 つかの展示用ティーチングとロボットシステムのティ
 ーチングを経験し、その後独立。特に協働ロボットの
 ティーチングを得意とする。中央労働災害防止協会産
 業用ロボット特別教育インストラクター\n\n\n対象\n\n中
 小企業の工場責任者、自社の工場を改善したい方、人
 手不足で困っている方、SIerとしてコンサルティングし
 たい方、生産現場の自動化について関心がある方など\
 n\n主催\n\nIATC運営委員会（公益財団法人大阪産業局/一
 般社団法人i-RooBO Network Forum/　おおさかATCグリーンエコ
 プラザ実行委員会）\n\n参加にあたっての注意事項\n\n1.
  イベントの開催情報を掲載する際には、細心の注意を
 払っておりますが、情報の正確性、完全性、有用性、
 安全性、特定目的への適合性について、一切の責任を
 負いません。2. イベントで講師、司会者、参加者、使
 用テキスト、資料等が提供する情報の正確性、完全性
 、有用性、安全性、特定目的への適合性について一切
 の責任を負いません。3. 講師や関係者の急病、天災地
 変、交通機関の事故やスト、電力供給停止、電話通信
 網の停止等の不可抗力によってセミナー・イベントが
 開催できなくなったことにより生じる直接的または間
 接的な損失に対し、一切責任を負いません。4. 電子メ
 ール、インターネット、PC機器、システム等の不具合
 により生じる直接的または間接的な損失に対し、一切
 責任を負いません。5. イベントにおいて受講者の受講
 内容の理解や技術の習得を保証するものではありませ
 ん。6. プログラム内容の詳細につきましては、予告な
 く変更する場合がございますので、ご了承ください。\
 n\n
LOCATION:IATC(おおさかATCグリーンエコプラザ内) 大阪市住
 之江区南港北2-1-10ATCビルITM棟11F
URL:https://techplay.jp/event/799298?utm_medium=referral&utm_source=ics&utm
 _campaign=ics
END:VEVENT
END:VCALENDAR
