BEGIN:VCALENDAR
VERSION:2.0
PRODID:-//https://techplay.jp//JP
CALSCALE:GREGORIAN
METHOD:PUBLISH
X-WR-CALDESC:Effctive C# 6.0/7.0 Zoomオンライン読書会 Vol.7
X-WR-CALNAME:Effctive C# 6.0/7.0 Zoomオンライン読書会 Vol.7
X-WR-TIMEZONE:Asia/Tokyo
BEGIN:VTIMEZONE
TZID:Asia/Tokyo
BEGIN:STANDARD
DTSTART:19700101T000000
TZOFFSETFROM:+0900
TZOFFSETTO:+0900
TZNAME:JST
END:STANDARD
END:VTIMEZONE
BEGIN:VEVENT
UID:799333@techplay.jp
SUMMARY:Effctive C# 6.0/7.0 Zoomオンライン読書会 Vol.7
DTSTART;TZID=Asia/Tokyo:20201125T193000
DTEND;TZID=Asia/Tokyo:20201125T210000
DTSTAMP:20260420T105748Z
CREATED:20201111T141458Z
DESCRIPTION:イベント詳細はこちら\nhttps://techplay.jp/event/79933
 3?utm_medium=referral&utm_source=ics&utm_campaign=ics\n\n概要\nEffctive
  C#6.0/7.0のZoomオンライン読書会です。\n次回は第3章項
 目19から始めます。\n読書会中も読む時間はあるので、
 きっちり読み込んでくる必要はありません！\n自分の
 興味のある切り口で、C#について盛り上がりましょう
 ！\nC#の小話、雑談は大歓迎です！積極的にお願いしま
 す。\n↓↓↓↓↓↓↓↓↓↓↓↓当日↓↓↓↓↓↓↓
 ↓↓↓↓↓↓↓↓↓\n特に連絡などはありません。時
 間になったらコチラからご参加下さい。（時間前でも
 入室可能です）。\nカメラはオン推奨ですが、オンオ
 フ自由です。\n対象\n何かしらのプログラミング言語の
 経験のある方\n必要なもの\n\nZoomを使用できる環境（ス
 マホでも使用可能）。\n「Effective C# 6.0/7.0」の本\n単行
 本 \nKindle版\n\n\n
LOCATION:自宅 オンライン
URL:https://techplay.jp/event/799333?utm_medium=referral&utm_source=ics&utm
 _campaign=ics
END:VEVENT
END:VCALENDAR
