BEGIN:VCALENDAR
VERSION:2.0
PRODID:-//https://techplay.jp//JP
CALSCALE:GREGORIAN
METHOD:PUBLISH
X-WR-CALDESC:やさしいDeFi #13 Solanaと考えるイーサリアムの
 外のDefi
X-WR-CALNAME:やさしいDeFi #13 Solanaと考えるイーサリアムの
 外のDefi
X-WR-TIMEZONE:Asia/Tokyo
BEGIN:VTIMEZONE
TZID:Asia/Tokyo
BEGIN:STANDARD
DTSTART:19700101T000000
TZOFFSETFROM:+0900
TZOFFSETTO:+0900
TZNAME:JST
END:STANDARD
END:VTIMEZONE
BEGIN:VEVENT
UID:799348@techplay.jp
SUMMARY:やさしいDeFi #13 Solanaと考えるイーサリアムの外のD
 efi
DTSTART;TZID=Asia/Tokyo:20201118T200000
DTEND;TZID=Asia/Tokyo:20201118T210000
DTSTAMP:20260422T081741Z
CREATED:20201111T141738Z
DESCRIPTION:イベント詳細はこちら\nhttps://techplay.jp/event/79934
 8?utm_medium=referral&utm_source=ics&utm_campaign=ics\n\n重要事項\nZO
 OM開催の予定でしたが、人数が予想以上に多くなった
 ため、開催プラットフォームをZOOMから「Livestrom」へ変
 更します。以下のリンクより、メールアドレスで参加
 登録をお願いいたします。Connpassで登録していただい
 た皆様も、改めてLivestormで参加登録お願い申し上げま
 す。\nhttps://app.livestorm.co/solana/yasashii-defi-solana-serum\n手
 順:\n\nLivestormページよりメールアドレスを入力\n"Register
  now" をクリック\nFIrst NameとLast Nameを入力し、規約承認
 にチェックを入れたあと、 "Confirm Registration" をクリッ
 ク\n送信されたメールに、参加リンクが記載されてい
 ます。当日はそちらからご参加ください。\n\nせっかく
 ご登録いただいたのに恐れ入りますが、よろしくお願
 い申し上げます。当日30分前にも念の為同じ案内をメ
 ール送信させていただきます。\n　\nスケジュール\n\n\n
 \n時間\n内容\n発表者\n\n\n\n\n20:00 ~20:10　　　\nやさしいD
 eFi\nHory\n\n\n20:10~ 20:30\nやさしいSolanaとSerum概要\nHashHub 
 矢成さん\n\n\n20:30 ~ 20:40\nエンジニアからみたDeFiとSolana
 \nSolana 小野寺さん\n\n\n20:40 ~ 21:00\nQ&Aとディスカッショ
 ン　\n\n\n\n\nスペシャルゲスト\nFTXでCEOを務めるSam Bankma
 n-Fried氏がSerumについてスピーチ予定!!\n内容紹介\nSolana
 とSerumの概要\n秒間5万トランザクションを捌ける新興
 ブロックチェーンのSolanaとFTXが手がけるSolanaベースの
 高速低コストDEX、Serumの概要について、初心者にも分
 かりやすく解説します。  \nスピーカー：矢成将雄\nDeFi
  & Open finance、NFT活用事例などを中心にしたリサーチ活
 動を経て、2020年現在はHash Hubリサーチチームで活動中
 。\nエンジニアからみたDeFiとSolana\n概要に加えてエン
 ジニアの視点からイーサリアムとの違いやL2との対比
 、Solanaを使ったアプリケーションのメリットデメリッ
 トなどについて簡単にお話します。  \nスピーカー：RYO
 　ONODERA\nスタートアップのCTOなどを経て現在はSolanaチ
 ームの日本人エンジニアとして活動中。猫が好き。
LOCATION:Zoom やさしいDeFi オンライン
URL:https://techplay.jp/event/799348?utm_medium=referral&utm_source=ics&utm
 _campaign=ics
END:VEVENT
END:VCALENDAR
