BEGIN:VCALENDAR
VERSION:2.0
PRODID:-//https://techplay.jp//JP
CALSCALE:GREGORIAN
METHOD:PUBLISH
X-WR-CALDESC:Media-JAWS 【第7回】「Inter BEEに合わせて久々に
 やっちゃいますか」
X-WR-CALNAME:Media-JAWS 【第7回】「Inter BEEに合わせて久々に
 やっちゃいますか」
X-WR-TIMEZONE:Asia/Tokyo
BEGIN:VTIMEZONE
TZID:Asia/Tokyo
BEGIN:STANDARD
DTSTART:19700101T000000
TZOFFSETFROM:+0900
TZOFFSETTO:+0900
TZNAME:JST
END:STANDARD
END:VTIMEZONE
BEGIN:VEVENT
UID:799410@techplay.jp
SUMMARY:Media-JAWS 【第7回】「Inter BEEに合わせて久々にやっ
 ちゃいますか」
DTSTART;TZID=Asia/Tokyo:20201119T200000
DTEND;TZID=Asia/Tokyo:20201119T220000
DTSTAMP:20260421T074206Z
CREATED:20201112T060022Z
DESCRIPTION:イベント詳細はこちら\nhttps://techplay.jp/event/79941
 0?utm_medium=referral&utm_source=ics&utm_campaign=ics\n\n参加方法\n\n
 Amazon chime を使用します。\n参加のためのURLは参加申込
 していただいた方々にメールでお伝えいたします。\ndo
 orkeeperに登録されているメールアドレスをご確認くだ
 さい\n\n概要\n\nAmazon Interactive Video Service(IVS) と OBS Studio 
 を使った動画配信システムの構築のハンズオンを実施
 します。みなさんご自身の環境からライブ配信をする
 仕組みを構築します！\n低遅延でインタラクティブな
 動画配信を構築しましょう！\n\nこんな方向け\n・配信
 やったことないけど、興味があるので手を動かしてみ
 たい\n・動画配信をビジネスにしたい\n・低遅延でイン
 タラクティブな配信をやってみたい\n・OBS Studioを一度
 ちゃんと触ってみたい\n\nこの機会に是非ともご参加く
 ださい！\n\n※スケジュールはハンズオン以外仮です。
 \n\nはじめに(重要事項)\n\nハッシュタグは、#jawsug #mediaj
 awsです。\n\n開催概要\n\n【日時・場所】\n2020年11月19日
 （木）20:00～22:00（運営準備開始19:30）\n\nAmazon Chimeを用
 いたオンライン開催です\n\nスケジュール\n\n\n\nTimeline\n
 Title\nSpeaker\n\n\n\n20:00 - 20:10\nイベント説明\nMediaJAWS 運営
 \n\n\n20:10 - 20:30\nハンズオン説明\nAWS 亀田さん\n\n\n20:30 -
  21:10\nIVSハンズオン！\n---\n\n\n21:10 - 21:20\n[セッション1]
   9年前から欲しかったサービス\nエフエム和歌山 山口
 さん\n\n\n21:20 - 21:30\n[セッション2]  MediaLinkのお話\nHTB 
 西崎さん\n\n\n21:30 - 21:40\n[セッション3]  Amazon Chime SDKを
 利用したリモート演出ツール TBS Bell\nTBS 藤本さん\n\n\n2
 1:40 - 21:50\n[セッション4]  いろんな映像MediaLiveにつない
 でみた～誰でも簡単に使えるクラウドプロダクション
 に向けた第一歩～\nエクセラクス 大山さん\n\n\n21:50 -\n
 クロージング\nMedia-JAWS 運営\n\n\n----\n懇親会\n\n\n\n\n終
 了後オンライン懇親会を予定しております。ぜひご参
 加ください！\n\n事前準備\n\n事前に以下の環境を整え
 ていただけると嬉しいです。\n\n\nインターネット環境
 に接続可能なPC(Windows\, Mac OS\, Linux等）を準備ください\
 n動画配信を行うので安定して3Mbps以上の通信環境が必
 要です。\n参加者個人のAWSアカウント、もしくはIAMの
 ログイン情報をご準備ください\nブラウザはChromeをご
 用意ください(Chrome以外で動かないところが出てきます
 )\nOBS Studioのインストールが可能なこと。\nPostmanのアカ
 ウント作成とインストール\n\n\n講師のご紹介\n\n亀田治
 伸\n\nAWS Inc.\, Evangelist \n\n登壇者\n\n山口 誠二\n\n\n特定
 非営利活動法人 エフエム和歌山\nクロスメディア局長 
 \n\n西崎 隼\n\n\n北海道テレビ放送\nコンテンツビジネス
 局 ネットデジタル事業部\n\n藤本 剛\n\n\n株式会社TBSテ
 レビ\nメディアテクノロジー局 未来技術設計部\n\n大山
  浩司\n\n\n\n株式会社エクセラクス 代表取締役\n兼 株式
 会社メディアリンクスエルエスアイラボ 営業企画部 
 ディレクター
LOCATION:オンライン
URL:https://techplay.jp/event/799410?utm_medium=referral&utm_source=ics&utm
 _campaign=ics
END:VEVENT
END:VCALENDAR
