BEGIN:VCALENDAR
VERSION:2.0
PRODID:-//https://techplay.jp//JP
CALSCALE:GREGORIAN
METHOD:PUBLISH
X-WR-CALDESC:田端信太郎と考えるニューノーマル時代のDX
X-WR-CALNAME:田端信太郎と考えるニューノーマル時代のDX
X-WR-TIMEZONE:Asia/Tokyo
BEGIN:VTIMEZONE
TZID:Asia/Tokyo
BEGIN:STANDARD
DTSTART:19700101T000000
TZOFFSETFROM:+0900
TZOFFSETTO:+0900
TZNAME:JST
END:STANDARD
END:VTIMEZONE
BEGIN:VEVENT
UID:799572@techplay.jp
SUMMARY:田端信太郎と考えるニューノーマル時代のDX
DTSTART;TZID=Asia/Tokyo:20201125T190000
DTEND;TZID=Asia/Tokyo:20201125T200000
DTSTAMP:20260422T115849Z
CREATED:20201113T064256Z
DESCRIPTION:イベント詳細はこちら\nhttps://techplay.jp/event/79957
 2?utm_medium=referral&utm_source=ics&utm_campaign=ics\n\n田端信太郎
 と考えるニューノーマル時代のDX\n概要\n【　詳細　】\
 n経済産業省より警鐘が鳴らされている「2025年の崖」
 。\n新型コロナウィルス感染症の影響も鑑みるとDXの推
 進は急務であり必須事項です。\nしかしながら、実行
 にあたり正しいDX推進の戦略策定や組織全体に変革を
 起こすことがなかなか難しいと感じている方も多くい
 らっしゃるかもしれません。\n\n今回は、オンラインサ
 ロン田端大学にて塾長を務める田端信太郎氏にご登壇
 いただき、日本のDX成功事例とその要因から、ニュー
 ノーマル時代に生き残る戦略を中心にお話しいただき
 ます！\n\n\n【　内容　】\n＜第一部＞\n・田端大学　塾
 長　田端 信太郎 氏\n　－田端さんが考える日本のDX推
 進成功事例\n　－コロナ禍での生き残るための戦略に
 ついて\n　－DXを推進する際に陥りやすい困難とその乗
 り越え方\n\n＜第二部＞\n対談・質問コーナー\n┗当社
 、ユナイテッド株式会社 執行役員 米田吉宏 が登壇い
 たします。\n\n\n【　こんな方に　】\n・DX推進を成功さ
 せたいとお考えのDX担当・経営企画をされている方や
 役員・経営者の方\n・DXをはじめるにあたり具体的な戦
 略立案方法が不明確でお困りの方\n・DX推進を行ってい
 るがなかなかうまくいっておらずお困りの方よう!\n\n\n
 【　開催概要　】\n開催日：2020年11月25日(水)19:00-20:00\n
 参加費：無料\n視聴方法：Zoom\n動画視聴方法につきま
 しては、お申し込みいただいた方へのみご案内させて
 いただきます。\n\n\n登壇者\n\n＜オンラインサロン 田
 端大学 塾長＞\n \nオンラインサロン「田端大学」塾長
 。1975年石川県生まれ。慶應義塾大学経済学部卒業。NTT
 データを経てリクルートへ。フリーマガジン「R25」を
 立ち上げる。2005年、ライブドア入社、livedoorニュース
 を統括。2010年からコンデナスト・デジタルでVOGUE、GQ J
 APAN、WIREDなどのWebサイトとデジタルマガジンの収益化
 を推進。2012年NHN JAPAN（現LINE）執行役員に就任。その
 後、上級執行役員として法人ビジネスを担当し、2018年
 2月末に同社を退社。その後株式会社ZOZO、コミュニケ
 ーションデザイン室長に就任。2019年12月退任。複数の
 スタートアップでコミュニケーション戦略やコミュニ
 ティ運営に関して顧問を務める。近著に「これからの
 会社員の教科書」「これからのお金の教科書」などが
 ある。\n\n\n \n\n＜ユナイテッド株式会社　執行役員　
 米田　吉宏＞慶應義塾大学経済学部卒業後、 電通にて
 国内外での広告プランニング、ビッグデータを用いた
 マーケティングROI向上支援等に従事。2013年ボストン 
 コンサルティング グループ入社後、主に通信・メディ
 ア・テクノロジー領域の経営戦略策定、新規事業開発
 、営業戦略、組織戦略等を担当。プロジェクトリーダ
 ーとして従事した後、2019年3月ユナイテッド株式会社
 執行役員に就任（現任）。DXソリューションの立案/推
 進と、全社戦略/組織強化を担当。\n\nハッシュタグ\n#te
 chplayjp\n注意事項\n※ 参加を辞退する場合は、詳細ペー
 ジより申込のキャンセルをお願い致します。※ 無断キ
 ャンセル・欠席が続く場合、次回以降の参加をお断り
 させていただく場合がございますのでご了承ください
 。\n 
LOCATION:オンライン
URL:https://techplay.jp/event/799572?utm_medium=referral&utm_source=ics&utm
 _campaign=ics
END:VEVENT
END:VCALENDAR
