BEGIN:VCALENDAR
VERSION:2.0
PRODID:-//https://techplay.jp//JP
CALSCALE:GREGORIAN
METHOD:PUBLISH
X-WR-CALDESC:神楽坂もくもく会 ＃03
X-WR-CALNAME:神楽坂もくもく会 ＃03
X-WR-TIMEZONE:Asia/Tokyo
BEGIN:VTIMEZONE
TZID:Asia/Tokyo
BEGIN:STANDARD
DTSTART:19700101T000000
TZOFFSETFROM:+0900
TZOFFSETTO:+0900
TZNAME:JST
END:STANDARD
END:VTIMEZONE
BEGIN:VEVENT
UID:799760@techplay.jp
SUMMARY:神楽坂もくもく会 ＃03
DTSTART;TZID=Asia/Tokyo:20201122T100000
DTEND;TZID=Asia/Tokyo:20201122T120000
DTSTAMP:20260421T021949Z
CREATED:20201115T141227Z
DESCRIPTION:イベント詳細はこちら\nhttps://techplay.jp/event/79976
 0?utm_medium=referral&utm_source=ics&utm_campaign=ics\n\n概要\n日曜
 に神楽坂のコワーキングスペースでもくもく会をやり
 ます。言語、テーマ自由、初心者歓迎です。\nWifiとウ
 ォーターサーバがあります。\n日時\n11月22日（日）10時
 ～12時\n最初の5分ぐらいで今日やることを宣言して、
 最後の5分ぐらいで成果を発表しましょう。\n10分前ぐ
 らいから建物の外にいるようにしておきますが、建物
 にオートロックが掛かっているため遅れる場合はSlack
 等でご連絡ください。場所が路地裏にあり、分かりに
 くいので迷った方も連絡ください。\n場所\nBIZcomfort神
 楽坂天神\n\n東京メトロ東西線「神楽坂駅」矢来町方面
 （2番出口） 徒歩4 分\n東京メトロ有楽町線「江戸川橋
 駅」徒歩8 分\n東京メトロ東西線「早稲田駅」徒歩11 分
 \n都営大江戸線「牛込柳町駅」徒歩13 分\nJR中央本線「
 飯田橋駅」徒歩14 分\n\n参加費\n200円（終了時にお支払
 いください）\nSlack\n\nSlack\n\n連絡、交流用のSlackです。
 お気軽にご参加下さい。\n参加時の注意点\n\nコワーキ
 ングスペース内の非会員も使用できる会議スペースを
 レンタルして使用します。会議スペースは区切られて
 いるためあまり気にならないと思いますが、他の一般
 利用者も居る場合がありますので迷惑にならないよう
 お願いいたします。 \n施設内では可能な限りマスクを
 着用してください。\n\n主催者について\n官公庁向けのG
 ISの受託開発、技術営業をやっています。\n会社で使う
 業務スキルが偏っているため、視点を広げようと思い
 開催することにしました。\n\n言語：Laravel\, Vue.js\, C#\, 
 Java\, Pythonなど\nGIS：ArcGIS\, QGISなど\nその他：英語、IPA
 資格など\n\nよろしくお願いします！
LOCATION:BIZcomfort神楽坂天神 東京都新宿区天神町7番地11
URL:https://techplay.jp/event/799760?utm_medium=referral&utm_source=ics&utm
 _campaign=ics
END:VEVENT
END:VCALENDAR
