BEGIN:VCALENDAR
VERSION:2.0
PRODID:-//https://techplay.jp//JP
CALSCALE:GREGORIAN
METHOD:PUBLISH
X-WR-CALDESC:[秋葉原] はじめてのAWSもくもく会 (初心者大歓
 迎！)
X-WR-CALNAME:[秋葉原] はじめてのAWSもくもく会 (初心者大歓
 迎！)
X-WR-TIMEZONE:Asia/Tokyo
BEGIN:VTIMEZONE
TZID:Asia/Tokyo
BEGIN:STANDARD
DTSTART:19700101T000000
TZOFFSETFROM:+0900
TZOFFSETTO:+0900
TZNAME:JST
END:STANDARD
END:VTIMEZONE
BEGIN:VEVENT
UID:799775@techplay.jp
SUMMARY:[秋葉原] はじめてのAWSもくもく会 (初心者大歓迎
 ！)
DTSTART;TZID=Asia/Tokyo:20201119T193000
DTEND;TZID=Asia/Tokyo:20201119T213000
DTSTAMP:20260420T230539Z
CREATED:20201115T141854Z
DESCRIPTION:イベント詳細はこちら\nhttps://techplay.jp/event/79977
 5?utm_medium=referral&utm_source=ics&utm_campaign=ics\n\n※ 以前の勉
 強会と場所が違うのでご注意ください。    \n今回の会
 場 -> 東京都千代田区神田佐久間町3-21-5 (東神田ビル407)
   \nhttps://goo.gl/maps/FqiGgiHRyfecEQdU9    \n同ビルに似たよう
 な会議室が複数有りますが、今回の会場は407号室とな
 ります。  \n他フロアの迷惑にならないようご注意くだ
 さい。    \n迷った場合は、遅れる場合等はSlackにてご
 連絡ください。  \n(Connpassからのお問い合わせではリア
 ルタイムでの対応は致しかねます) \nSlack\nhttps://join.slac
 k.com/t/weeyble/shared_invite/zt-ivuluuja-O4qL2JCSYj~djCtF2czkJA\n情報
 共有にSlackを使用します。事前に登録をお願いします
 。\n(#infrastructure  というchannelを使用します。)\nこの会
 について\nこれからAWSを使ってみたい初心者の方を対
 象としたもくもく会です！\n参加者が気軽に質問出来
 るような場所を目指しております。\n希望者がいればLT
 も行います。    \n日時\n2020年11月19日（木）19時15分〜21
 時30分\n\n\n\n時間\n内容\n\n\n\n\n19:00 -\n開場\n\n\n19:15 - 19:3
 0\n簡単な挨拶＆自己紹介\n\n\n19:30 - 21:15\nもくもくタイ
 ム\n\n\n21:15 - 21:30\n進捗 & 成果発表\n\n\n\n※ 開場時間の
 前に来ても入れません。  \n※ 時間内の入退室は自由
 です。    \n対象\n・これからAWSを勉強したい方\n・初心
 者向けの内容のため、上級者の方は参加しても学べる
 ことは少ないかと思います。\n・上級者はサポートに
 回っていただけると有り難いです。\n持ち物\n各自もく
 もくに必要なもの(PC、書籍など）\nWifiの混雑緩和にご
 協力ください。  \n※ Wifiは会場にありますが、速度や
 接続可能台数など不明です。  \n主催からもWimax端末と
 テザリングできる端末の2台を用意しますが通信速度が
 安定しない場合がございます。 \n巨大なファイル(仮想
 イメージや機械学習で使用する巨大なデータセットな
 ど)は会場のWifiを使用せず、事前にDLしておくようご協
 力お願いいたします。  \nまた、自身のWifi環境をお持
 ちの方はお手数ですがそちらを使用していただけると
 助かります。\n※ もくもく会ですが、雑談は自由です
 。騒がしいのが気になる方は耳栓、ヘッドホン、イヤ
 ホンなどを各自でご持参ください。\n※ 飲食OKですが
 、においが強いものはご遠慮ください。(アルコールは
 NGとなります)\n参加費\n500円（会場費） 会場費として
 いただいております。\n※ 領収書が必要な方は事前にS
 lackにて連絡を入れてください
LOCATION:東神田ビル4F 東京都千代田区神田佐久間町3-21-5 (
 東神田ビル407)
URL:https://techplay.jp/event/799775?utm_medium=referral&utm_source=ics&utm
 _campaign=ics
END:VEVENT
END:VCALENDAR
