BEGIN:VCALENDAR
VERSION:2.0
PRODID:-//https://techplay.jp//JP
CALSCALE:GREGORIAN
METHOD:PUBLISH
X-WR-CALDESC:【ヤマトHD×エクサウィザーズ】AIと共存する
 ニューノーマル時代をマイケルオズボーン教授ととも
 に紐解く - Yamato DX Night #4 -
X-WR-CALNAME:【ヤマトHD×エクサウィザーズ】AIと共存する
 ニューノーマル時代をマイケルオズボーン教授ととも
 に紐解く - Yamato DX Night #4 -
X-WR-TIMEZONE:Asia/Tokyo
BEGIN:VTIMEZONE
TZID:Asia/Tokyo
BEGIN:STANDARD
DTSTART:19700101T000000
TZOFFSETFROM:+0900
TZOFFSETTO:+0900
TZNAME:JST
END:STANDARD
END:VTIMEZONE
BEGIN:VEVENT
UID:799801@techplay.jp
SUMMARY:【ヤマトHD×エクサウィザーズ】AIと共存するニュ
 ーノーマル時代をマイケルオズボーン教授とともに紐
 解く - Yamato DX Night #4 -
DTSTART;TZID=Asia/Tokyo:20201210T190000
DTEND;TZID=Asia/Tokyo:20201210T202000
DTSTAMP:20260420T093741Z
CREATED:20201116T054602Z
DESCRIPTION:イベント詳細はこちら\nhttps://techplay.jp/event/79980
 1?utm_medium=referral&utm_source=ics&utm_campaign=ics\n\n【ヤマトHD×
 エクサウィザーズ】AIと共存するニューノーマル時代
 をマイケルオズボーン教授とともに紐解く- Yamato DX Nigh
 t #4 -\n概要\n「Yamato DX Night」は、DXを実現するシステム
 ・ソリューションを開発していくうえで求められる技
 術・知識などを、多くのエンジニアと共有し合うため
 の技術勉強会です。\n第4回目の「Yamato DX Night」は「AI
 観点からニューノーマル時代を考える」をテーマに開
 催します。AIの研究を行っている英オックスフォード
 大学のマイケル・オズボーン教授が発表した論文「雇
 用の未来 - コンピューター化によって仕事は失われる
 のか -」では、全米で47%の仕事がなくなるという推計
 結果を2013年に発表し、AIが人間の仕事を奪うのか？AI
 は未来をどう変えるのか？日本を含め世界中で大きな
 話題となりました。\n\n様々な構造変化が予測されるニ
 ューノーマル時代において、AIとどのように共存して
 いくべきか？AIベンチャーのエクサウィザーズ 代表取
 締役 石山氏、マイケル・オズボーン教授、ヤマトHD執
 行役員 データ戦略担当 中林氏と共に、AIと共存するニ
 ューノーマル時代を紐解いていきます。オズボーン教
 授の講演は翻訳した映像を流します。\nDX／AIに興味の
 あるエンジニアの方、ぜひご参加ください！\n※当日
 は、Zoomウェビナーで開催します。後日、参加用URLを発
 行し共有いたします。\nタイムスケジュール\n\n\n\n時間
 \n内容\n\n\n19:00〜19:10\nオープニング・登壇者紹介\n\n\n19
 :10〜20:05\n\nAIとの共存をテーマにした講演+パネルトー
 ク\n講演：マイケル・オズボーン教授パネルトーク：
 中林氏・石山氏\n\n\n20:05〜20:20\nQ&A\n\n\n\n※ 一部同時通
 訳がつきます。※タイムスケジュールは変更の可能性
 があります。\n登壇者\n\n\n\n\nマイケル・A・オズボーン
 \n英オックスフォード大学教授\n英オックスフォード大
 学 准教授。AIが雇用に与える影響に関する論文『雇用
 の未来』の共著者。オックスフォード大学のAIベンチ
 ャーであるマインド・ファウンドリー社の共同設立者
 かつCSO。機械学習分野における世界的な研究者として
 、オックスフォード・マーティン・プログラムの共同
 ディレクター、EPSRCセンター（英国工学・物理科学研
 究会議）の共同ディレクター、エクセター・カレッジ
 の公式フェロー等広く活躍している。\n\n\n\n\n\n中林 紀
 彦\nヤマトホールディングス株式会社執行役員　デー
 タ戦略担当\n2002年、日本アイ・ビー・エム株式会社入
 社。データサイエンティストとして顧客のデータ分析
 を多方面からサポートし企業の抱えるさまざまな課題
 をデータやデータ分析の観点から解決する。また、エ
 バンジェリストとしてビッグデータをビジネスに活用
 することの価値を幅広く啓蒙。株式会社オプトホール
 ディング データサイエンスラボの副所長、SOMPOホール
 ディングス株式会社チーフ・データサイエンティスト
 を経て、ヤマトホールディングス株式会社の執行役員
 に就任。重要な経営資源となった”データ”をグルー
 プ横断で最大限に活用するためのデータ戦略を構築し
 実行する役割を担う。また2014年4月より、筑波大学大
 学院の客員准教授としてデータサイエンスに関して企
 業の即戦力となる人材育成にも従事する。2017年4月よ
 り、データサイエンティスト協会の理事に就任。\n\n\n\
 n\n\n石山 洸\n株式会社エクサウィザーズ代表取締役社
 長\n東京工業大学大学院総合理工学研究科知能システ
 ム科学専攻修士課程修了。2006年4月、株式会社リクル
 ートホールディングスに入社。同社のデジタル化を推
 進した後、新規事業提案制度での提案を契機に新会社
 を設立。事業を3年で成長フェーズにのせ売却した経験
 を経て、2014年4月、メディアテクノロジーラボ所長に
 就任。2015年4月、リクルートのAI研究所であるRecruit Inst
 itute of Technologyを設立し、初代所長に就任。2017年3月、
 デジタルセンセーション株式会社取締役COOに就任。2017
 年10月の合併を機に、現職就任。静岡大学客員教授、
 東京大学政策ビジョン研究センター客員准教授。\n\n\n\
 n参加対象\n\nAIと雇用の関係に興味のある方\nDXを推進
 している、しようとしている方\nなど\n\n参加する際の
 注意事項\n\n配信映像や音声は各自の通信環境に依存し
 ます。なるべく通信環境の良い状態で視聴ください\n\n
LOCATION:オンライン
URL:https://techplay.jp/event/799801?utm_medium=referral&utm_source=ics&utm
 _campaign=ics
END:VEVENT
END:VCALENDAR
