BEGIN:VCALENDAR
VERSION:2.0
PRODID:-//https://techplay.jp//JP
CALSCALE:GREGORIAN
METHOD:PUBLISH
X-WR-CALDESC:SLOから始めるNoOpsな設計の考え方/岡大勝氏 豆
 寄席（まめよせ）
X-WR-CALNAME:SLOから始めるNoOpsな設計の考え方/岡大勝氏 豆
 寄席（まめよせ）
X-WR-TIMEZONE:Asia/Tokyo
BEGIN:VTIMEZONE
TZID:Asia/Tokyo
BEGIN:STANDARD
DTSTART:19700101T000000
TZOFFSETFROM:+0900
TZOFFSETTO:+0900
TZNAME:JST
END:STANDARD
END:VTIMEZONE
BEGIN:VEVENT
UID:799831@techplay.jp
SUMMARY:SLOから始めるNoOpsな設計の考え方/岡大勝氏 豆寄席
 （まめよせ）
DTSTART;TZID=Asia/Tokyo:20201125T180000
DTEND;TZID=Asia/Tokyo:20201125T190000
DTSTAMP:20260420T223631Z
CREATED:20201116T061544Z
DESCRIPTION:イベント詳細はこちら\nhttps://techplay.jp/event/79983
 1?utm_medium=referral&utm_source=ics&utm_campaign=ics\n\n【What's　豆
 蔵？】\n豆蔵の代表的な3つの事業領域は、「エンター
 プライズ領域」「AI・データサイエンス領域」「組込
 み領域」。\nそれぞれの領域において、情報化やIoTシ
 ステムの最適化を提供しています。\n課題発見から企
 画・デザイン・開発・運用を含む、システム／ソフト
 ウェアのスタイル変革まで幅広く提供できる先進のIT
 コンサルティングファームです。\n【What's　豆寄席？
 】\n豆寄席は、豆蔵が毎月社員向けに行なっている技
 術イベントです。\n是非この場を皆さんとの交流の場
 として活用したい！そんな声をもとにオープンな場と
 して提供する事に致しました。\n豆寄席「meet up」では
 、豆蔵の技術的知見、開発スタイル、開発の楽しさ等
 を皆さんと一緒にお話しさせていただく予定です。\n
 皆様との交流も兼ねておりますので、技術好きな方は
 気兼ねなくお越しください(^^♪\n今回は、株式会社ZOZO
 テクノロジーズ　岡 大勝 氏に、SLOから始めるNoOpsな設
 計の考え方について、ご講演いただきます。\nイベン
 ト詳細\n・日時：2020年11月25日（水）18時00分～19時00分
 （入場は17時50分より可能）\n\n【タイムスケジュール
 】\n18:00～19:00　SLOから始めるNoOpsな設計の考え方\n「う
 れしくない運用をなくそう」を目指すNoOpsのアプロー
 チには、自動化などによるトイルの削減とともに「そ
 もそも運用が必要ない設計にしよう」という考え方が
 あります。本セッションでは、NoOpsな設計を始めると
 きのSLO(Service Level Objective)の考え方とともに、クラウド
 ネイティブ技術を活用することで障害発生やリリース
 、メンテナンスの際にもNoOpsを目指すことができる設
 計アプローチを紹介します。\n\n・講師：岡 大勝 氏 (
 株式会社ZOZOテクノロジーズ　技術開発本部　アーキテ
 クト)\n日本DEC、日本HPで、主に金融機関のシステムア
 ーキテクチャ設計／開発プロセス設計／運用プロセス
 設計を担当。日本ラショナルソフトウェア社では、開
 発プロセス／オブジェクト指向分析設計手法の導入支
 援を展開した。2003年、ゼンアーキテクツを設立し、最
 新のIT技術のエンタープライズシステムへの適用を推
 進。2019年より、株式会社ZOZOテクノロジーズに入社し
 、現在に至る。2013年には、日経BP社が選ぶ「日本のト
 ップITアーキテクト」の一人として選出。NoOps Japan Commu
 nity 発起人。\n・参加対象：誰でも\n・参加費：無料\n
 ・会場　：Zoomで行います。 申込後に閲覧が可能とな
 る、参加者情報欄にURLを記載しております。\n\n※オン
 ラインセミナー並びに二次会では、豆蔵社による写真
 や動画撮影が行われる予定です。会場内のお客さまが
 映り込む場合があります。それらは、豆蔵社によるイ
 ベント終了後の広告物、取材メディアによるWEBなどに
 露出／掲載される場合がありますので、撮影NGの方は
 事前にご連絡ください。\n弊社について、詳しく知り
 たい方はコチラ https://wwwrecruit.mamezou.com/
LOCATION:Zoom オンライン
URL:https://techplay.jp/event/799831?utm_medium=referral&utm_source=ics&utm
 _campaign=ics
END:VEVENT
END:VCALENDAR
