BEGIN:VCALENDAR
VERSION:2.0
PRODID:-//https://techplay.jp//JP
CALSCALE:GREGORIAN
METHOD:PUBLISH
X-WR-CALDESC:【中高生枠】練習会 #123（プログラミング同好
 会）
X-WR-CALNAME:【中高生枠】練習会 #123（プログラミング同好
 会）
X-WR-TIMEZONE:Asia/Tokyo
BEGIN:VTIMEZONE
TZID:Asia/Tokyo
BEGIN:STANDARD
DTSTART:19700101T000000
TZOFFSETFROM:+0900
TZOFFSETTO:+0900
TZNAME:JST
END:STANDARD
END:VTIMEZONE
BEGIN:VEVENT
UID:799951@techplay.jp
SUMMARY:【中高生枠】練習会 #123（プログラミング同好会
 ）
DTSTART;TZID=Asia/Tokyo:20201125T183000
DTEND;TZID=Asia/Tokyo:20201125T203000
DTSTAMP:20260421T055409Z
CREATED:20201116T211653Z
DESCRIPTION:イベント詳細はこちら\nhttps://techplay.jp/event/79995
 1?utm_medium=referral&utm_source=ics&utm_campaign=ics\n\n会場参加の
 方の申込みページです（リモート参加は別途募集して
 います）\nリモート参加の申込み方法については、ニ
 ュースレターまたはDiscord等で確認してください。\nDisc
 ordのサーバーへの参加方法はこちらのリンクのスライ
 ドをご覧下さい。\nなお、リモート参加は原則、常連
 限定です。\n【重要】新型コロナウイルス（COVID-19）感
 染予防対策への協力のおねがい\n「あすぴあ」会議室
 の利用再開にあたり、事務局からお願いが出ています
 。皆様の御協力をお願いします。\n\n滞在者は「合計で
 」15人程度\n外出前に体温測定して通常時と変わりがな
 いことを確認する\n体調が少しでも優れない場合は参
 加しない\nマスク着用必須!!（各種感染症予防のため。
 アレルギーなど他傷病の都合で厳しい場合は応相談）\
 n食事不可（水分補給のための飲み物は可）\n利用前後
 の手指のアルコール消毒または石鹸による洗浄\n基本
 、お互いの手が届く範囲より離れる（1.5～2ｍ程度）\n
 室内の定期的な換気\n\n\n原文▶【重要】あすぴあご利
 用にあたってのお知らせ（8月1日～）\n\n概要\n7～18歳
 くらいまでの若者を対象としたプログラミングクラブ
 の、参加者（学習者）を募集しています。細かい話は
 公式ページの「ニンジャ募集」を御覧下さい。\n\n「練
 習会」って、いったい何を「練習」しているの?\nコン
 ピュータを触る「練習」、コンピュータープログラム
 を書く「練習」をしています。\nとはいえ、参加者が
 「練習」と思っているかは定かではありません。もし
 かしたら「本番」の人もいるかもしれません。\nどん
 な活動をしているのか今ひとつイメージできない方はF
 acebookやブログをご覧下さい。\n参加対象者（connpassか
 らの申込）\n2020年(令和2年)4月1日に12～17歳であること
 。\n※平成14年(2002年)4月2日〜平成20年(2008年)4月1日生ま
 れ\n対象年齢に関して\n\n指定年齢以上またはボランテ
 ィアとしての参加希望の方は別ページへ。\n例外措置
 を希望する小学生は、必ず「本人ではなく保護者が」
 連絡の上で、応相談。\n\nCoderDojo について\nCoderDojoの詳
 細はこちらの資料を御覧下さい。\n小平道場のこまか
 いルール・おねがいごとなど\n\n参加したい人たちへの
 おねがい\n作品発表について\nコーダー道場こだいら 
 会則\n\n参加費\n無料\n持ち物\n\n自分の作業、発表のた
 めに必要だと思うもの（電源、インターネット環境は
 会場に有）\n\n会場について\n小平元気村おがわ東 あす
 ぴあ会議室（行き方）\n※体育館ではなく旧校舎の2階
 です\n\n西武多摩湖線萩山駅下車 徒歩5分\n駐輪場・駐
 車場有（無料）\nインターネット環境有（有線、無線
 ）\n\nスケジュール（予定）\n\n\n\n時間\n内容\n\n\n\n\n〜1
 9:45\n制作&交流時間\n\n\n19:45〜20:30\n作品発表（任意・3
 ～5分/人）\n\n\n20:30〜\n撤収作業（兼交流時間）\n\n\n\n
 申込み方法\n当ページからお申し込み下さい（別途申
 し込みフォームからの申込む必要はありません）\n飛
 び込み参加希望の方\n飛び込み参加を希望の場合も、
 申込みは必須です。\n管理の都合で恐縮ですが、connpass
 からの申込時間が過ぎた場合は別途当会指定の方法で
 手続きして下さい。\n申込みの補足\n\n本ページは「自
 分1人だけで参加するニンジャ」用です。保護者等の同
 伴がある場合は、参加人数を正確に把握したいので当
 会の指定の方法で「合計人数」をお知らせ下さい（「
 自分ひとりくらい」が積もり積もるトラブルが多いで
 す…）\n保護者とのトラブルが絶えないので必ず保護
 者の同意を得てから参加するようにして下さい。\n大
 人枠はこちらから\n1アカウント1名でお申し込み下さい
 。\n2回目以降の参加は参加の2日前までに「会員登録」
 をお願いします（詳細はこちら）\n「友達（や知り合
 い）を連れて来たい」時は友達にも「自分で申し込む
 ように」と伝えて下さい。\n「友達や知り合いに誘わ
 れたから付いてきたけど、どういう場所か分からない
 」と言って手ぶらでやって来て机に作業道具を拡げず
 に仲間と雑談しているだけの場合「参加に対する主体
 性が見受けられない」という理由で厳しい対応をする
 場合があります。\n会場では記録用の写真撮影を行っ
 ています。撮影NGの方への配慮はしていますが自己防
 衛もお願いします。\n\nそのほか\n遅刻・早退について\
 n\n遅刻・早退は自由です。お気軽にどうぞ。\n1、2時間
 程度の参加も可能です。\n念のため、参加申込は必須
 です。\n\n参加の取消、退去強制について\n\n初参加の
 方は、当日、あれやこれやと道場主から質問攻めにな
 る場合があります。そういったことが苦手な場合は「
 事前のオンライン面談」をオススメします（予約はこ
 ちらから）。\n「親に（強く言われて/半強制的に）連
 れてこられた」など発覚した場合は「イヤなら帰って
 良いよ」と促す場合もあります。\n道場主との意思疎
 通が困難な場合は、今後の参加をお断りする場合もあ
 ります。\n当会からの要請・忠告を繰り返し無視する
 場合は、今後の参加をお断りします。\n\n中高生以上の
 人の集まる場をお求めの方へ\n地域柄なのか、どうに
 も低学年の参加者が多いです（あとはお察し）。\nあ
 る程度のレベル別に分けるなどしようにも、現状は会
 場やボランティアの確保が困難です。\n勉強かの紹介
 など、各種相談には応じていますので気になることが
 あればお気軽にお問い合わせ下さい。\n免責事項\n\n運
 営側の過失によらない事故、参加者同士のトラブルに
 対しては、運営側は一切の責任を負いません。\n\n緊急
 連絡やお問い合わせなど\nリンク先のフォームからお
 問い合わせ下さい。\n\n主語と目的語や5W1Hが明確にな
 っていない御連絡に対しては対応できかねる場合がご
 ざいますので、悪しからず御了承下さい。
LOCATION:小平元気村おがわ東 あすぴあ会議室 小平市小川
 東町4-2-1 
URL:https://techplay.jp/event/799951?utm_medium=referral&utm_source=ics&utm
 _campaign=ics
END:VEVENT
END:VCALENDAR
