BEGIN:VCALENDAR
VERSION:2.0
PRODID:-//https://techplay.jp//JP
CALSCALE:GREGORIAN
METHOD:PUBLISH
X-WR-CALDESC:Twilioで音声自動受付システムを作ってみよう
 【ツクレルの無料オンライン勉強会】
X-WR-CALNAME:Twilioで音声自動受付システムを作ってみよう
 【ツクレルの無料オンライン勉強会】
X-WR-TIMEZONE:Asia/Tokyo
BEGIN:VTIMEZONE
TZID:Asia/Tokyo
BEGIN:STANDARD
DTSTART:19700101T000000
TZOFFSETFROM:+0900
TZOFFSETTO:+0900
TZNAME:JST
END:STANDARD
END:VTIMEZONE
BEGIN:VEVENT
UID:799994@techplay.jp
SUMMARY:Twilioで音声自動受付システムを作ってみよう【ツ
 クレルの無料オンライン勉強会】
DTSTART;TZID=Asia/Tokyo:20201120T193000
DTEND;TZID=Asia/Tokyo:20201120T223000
DTSTAMP:20260422T150745Z
CREATED:20201117T060008Z
DESCRIPTION:イベント詳細はこちら\nhttps://techplay.jp/event/79999
 4?utm_medium=referral&utm_source=ics&utm_campaign=ics\n\nクラウド型
 電話&SMS API Twilio（トゥイリオ）を使って、約2時間で電
 話の音声自動受付システムを作るハンズオン勉強会を
 行います！ノンコーディングでTwilioアプリケーション
 を構築できるTwilio Studioの使い方を学べます。\n\n今回
 はゲスト講師としてTwilioエバンジェリストの高橋克己
 さんと、池原大然さんのお二人をツクレル勉強会にお
 呼びしました。エバンジェリスト2名から直接Twilio Studi
 oの使い方を教えてもらえる貴重な勉強会となっており
 ます！\n\nツクレル勉強会の雰囲気を知るには、過去の
 勉強会のアーカイブをご覧ください。\n\n過去の勉強会
 の様子 - YouTube\n\n当日は用意されたテキストに沿って
 学習を進めていきます。みなさんも動画を見ながら一
 緒に勉強しましょう！\n\n今回のレジュメ\n\n当日の勉
 強会で使われる各種リンクや注意事項をまとめたレジ
 ュメを用意しています。事前にご覧ください。\nレジ
 ュメの閲覧にはツクレル教材への無料アカウント登録
 をお願いいたします。\n\nすでにアカウントをお持ちの
 方はログインしてご覧ください。\n\nレジュメのURL：　
 https://training.isaax.io/resume/201120\n\n（無料アカウントの取
 得はこちらから）\n\nこんな人に向けたオンライン勉強
 会です\n\n\nTwilio / Twilio Studioの興味がある\n電話の自動
 音声受付システムを作ってみたい\nプログラムで電話
 と連携する方法を知りたい\n\n\nという方は必見です！\
 n\nまた、勉強会のサポートをしていただける方も募集
 しております。アシスタント枠でお申込みお願いしま
 す。\n\n事前準備のお願い\n\n一緒に手を動かしながら
 学びたい方は、事前にTwilioアカウントの作成をお願い
 します。\n\nアカウント作成は下記のURLから無料ででき
 ます。\nhttps://cloudapi.kddi-web.com/signup\n\nこの勉強会は、T
 wilioアカウントがあることを前提に進めていきます。\n
 \nタイムテーブル\n\n\n\n時間\n内容\n\n\n\n19:30\n勉強会ス
 タート・YouTubeライブ配信開始\n\n\n19:35\nツクレル User Gr
 oupの説明（ツクレル ともとも）\n\n\n19:40\nTwilioの説明
 （講師：株式会社KDDIウェブコミュニケーションズ Twili
 o事業部 エバンジェリスト 高橋克己さん）\n\n\n20:10\nハ
 ンズオン（講師：Twilio Japan合同会社デベロッパーエバ
 ンジェリスト 池原大然さん）\n\n\n21:10\nクロージング
 ・アンケート回答\n\n\n21:15\n配信終了\n\n\n21:20\n懇親会
 スタート\n\n\n21:50頃\n中締め\n\n\n\n参加方法\n\n当日、勉
 強会の内容はYouTubeライブで配信いたします。事前にチ
 ャンネル登録をしていただくと、配信開始の通知を受
 け取ることが出来るようになります。\n\nツクレル tsuku
 rel - YouTubeチャンネル\n\n勉強会の中で質問がある方は
 、YouTubeのコメントから投稿をお願いします。また、音
 声で質問したい方は、勉強会時にご案内するZoomにログ
 インしてご質問ください。\n\n勉強会終了後は引き続き
 Zoomでオンライン懇親会を行います。\n\n勉強会の運営
 を助けるアシスタント募集！！\n\n初心者役として直接
 指導を受けたり、初心者のサポートをしてみたい方は
 「アシスタント参加」枠でお申し込みください。\nYouTu
 be配信を行いますので顔出しできる方のみご参加お願
 いします！\n\nスタッフプロフィール\n\n講師\n\n株式会
 社KDDIウェブコミュニケーションズ\nTwilio事業部 エバン
 ジェリスト\n高橋克己\n\n\nTwilio Japan合同会社\nデベロッ
 パーエバンジェリスト\n池原大然\n\n\n司会\n\n杉田 知至
  (ともとも) @tomotomobile  \n\n\n株式会社XSHELL 取締役 Chief P
 roduct Officer\n技術が大好き。IT系勉強会での登壇経験多
 数。\n著書「エンジニアのためのWordPress開発入門」\n\n\
 n会場\n\nオンライン開催なので、なるべくご自宅から
 ログインをお願いします。\n\nよくあるご質問\n\n\nどん
 な人が参加してるの？\n\n\n7割近くがソフトウェアエン
 ジニアですが、ほかにハードウェアエンジニア、イン
 フラエンジニア、営業、経営者、学生の方がよく参加
 されます。\n\n遅れて参加してもいいですか？\n\n\nはい
 、大丈夫です。途中参加、途中退出していただいても 
 :OK_button: です。\n\nツクレル勉強会の主催者は誰？\n\n\n
 株式会社XSHELLのメンバーが中心となって、有志による
 運営を行っています。\n\n\n\nFacebookグループに参加しよ
 う！\n\n勉強会の最新情報やテクノロジー教育に関する
 様々な情報交換を行っています。\n合わせてご参加お
 願いします！\n\nhttps://www.facebook.com/groups/isaaxug/\n\nツク
 レル・コミュニティについて\n\nモノづくりが好きなみ
 なさんとのゆるやかなつながりを作り、楽しみながら
 知識を広めるコミュニティです。\n\n主催は技術オタク
 集団XSHELL 。知的好奇心にあふれる毎日をつくりだすこ
 とを目標とした五反田バレーの中心に位置するスター
 トアップです。 XSHELLという名前は攻殻機動隊(GHOST IN TH
 E SHELL)より発想したものです。 わたしたちはモノに触
 れながら楽しく学べるコンテンツをお届けする事業を
 おこなっています。
LOCATION:オンライン
URL:https://techplay.jp/event/799994?utm_medium=referral&utm_source=ics&utm
 _campaign=ics
END:VEVENT
END:VCALENDAR
