BEGIN:VCALENDAR
VERSION:2.0
PRODID:-//https://techplay.jp//JP
CALSCALE:GREGORIAN
METHOD:PUBLISH
X-WR-CALDESC:【学生ONLY】初めてのAI構築をやってみる／全4
 回／初心者歓迎【講師は現役データサイエンティスト
 】
X-WR-CALNAME:【学生ONLY】初めてのAI構築をやってみる／全4
 回／初心者歓迎【講師は現役データサイエンティスト
 】
X-WR-TIMEZONE:Asia/Tokyo
BEGIN:VTIMEZONE
TZID:Asia/Tokyo
BEGIN:STANDARD
DTSTART:19700101T000000
TZOFFSETFROM:+0900
TZOFFSETTO:+0900
TZNAME:JST
END:STANDARD
END:VTIMEZONE
BEGIN:VEVENT
UID:800009@techplay.jp
SUMMARY:【学生ONLY】初めてのAI構築をやってみる／全4回／
 初心者歓迎【講師は現役データサイエンティスト】
DTSTART;TZID=Asia/Tokyo:20201126T180000
DTEND;TZID=Asia/Tokyo:20201126T200000
DTSTAMP:20260420T082038Z
CREATED:20201117T061648Z
DESCRIPTION:イベント詳細はこちら\nhttps://techplay.jp/event/80000
 9?utm_medium=referral&utm_source=ics&utm_campaign=ics\n\nAIを知り、
 楽しく学ぶ。\n講座内容\n■講座（全4回構成）\n第1回
 　Pythonのインストールと基本的なpythonの使用方法／環
 境構築。\n第2回 　AIとは何か／AIの種類／どんな場面
 で使用できるか\n第3回　 チュートリアルデータを用い
 ての、実際のAIの構築\n第4回 　チュートリアルデータ
 を用いての、実際のAIの構築／プロトコーポレーショ
 ンでの事例\n講座日程\n●講座\n1日目：11月26日（木） 1
 8:00～20:00\n2日目：12月  3日（木） 18:00～20:00\n3日目：12
 月10日（木） 18:00～20:00\n4日目：12月17日（木） 18:00～21
 :00\n受講料\n無料\n募集要項\n応募対象者\n・大学生／短
 大生／専門学生／高専生\n募集人数\nオフライン：20名
 　／　オンラインLIVE：制限なし\n応募条件\n・全4回の
 講義にすべて参加ができること。\n・ノートPCを持参で
 きること。\n・Googleアカウント必須。\n　※Googleドライ
 ブを利用した講義となります。\n＜推奨スペック＞\n・
 CPU : Core i3以上 \n・メモリ : 4GB以上\n応募方法\nお申込
 み後、応募フォームをお送り致しますので、ご入力を
 お願い致します。\n選考フロー\n応募後、面接（1回）
 を経て決定。（応募数に関係なく、面接を実施いたし
 ます。）\n●1次選考：応募フォーム　→　●2次選考：
 面接\n募集期間：2020年11月12日（木）～2020年11月24日（
 月）\n面接は、10:00～17:00の間で個別面接（面接はオン
 ラインでも可です）\n※応募者多数の場合、早期受付
 終了することがございます。\n※面接可能日時を応募
 フォームにご記入ください。\n※応募フォームの内容
 を確認し、面接に来ていただく方には改めてご連絡し
 ます。\n※一人あたりの面接時間は15分～20分程度です
 。\n【面接で重視する項目について】\n希望講義への全
 日程への参加可否、受講動機をお伺いします。\n※一
 定数の定員に満たない場合は、開催開始日を変更する
 場合がありますので、ご了承の上お申し込みください
 。
LOCATION:CODE BASE TOKYO 東京都新宿区西新宿6‐18‐1　住友不
 動産新宿セントラルパークタワー23F
URL:https://techplay.jp/event/800009?utm_medium=referral&utm_source=ics&utm
 _campaign=ics
END:VEVENT
END:VCALENDAR
