BEGIN:VCALENDAR
VERSION:2.0
PRODID:-//https://techplay.jp//JP
CALSCALE:GREGORIAN
METHOD:PUBLISH
X-WR-CALDESC:＜事例付き＞ニューノーマル時代のAI活用法
X-WR-CALNAME:＜事例付き＞ニューノーマル時代のAI活用法
X-WR-TIMEZONE:Asia/Tokyo
BEGIN:VTIMEZONE
TZID:Asia/Tokyo
BEGIN:STANDARD
DTSTART:19700101T000000
TZOFFSETFROM:+0900
TZOFFSETTO:+0900
TZNAME:JST
END:STANDARD
END:VTIMEZONE
BEGIN:VEVENT
UID:800041@techplay.jp
SUMMARY:＜事例付き＞ニューノーマル時代のAI活用法
DTSTART;TZID=Asia/Tokyo:20201202T190000
DTEND;TZID=Asia/Tokyo:20201202T200000
DTSTAMP:20260420T231019Z
CREATED:20201117T072418Z
DESCRIPTION:イベント詳細はこちら\nhttps://techplay.jp/event/80004
 1?utm_medium=referral&utm_source=ics&utm_campaign=ics\n\n＜事例付き
 ＞ニューノーマル時代のAI活用法\n概要\n【詳細】\n世
 界の企業におけるAI導入状況をみると、IT先進国である
 中国は85%、またアメリカは51%と多くの企業でAIが活用
 されているのに対し、日本のAI導入率は39%とまだまだAI
 活用の余地があると考えられます。※\nDX推進が必須と
 される時代、AI導入に興味はあるものの自社でどのよ
 うに活用できるか不明瞭な方も多いのではないでしょ
 うか。\n今回は、音声領域、RPAの分野でそれぞれAIを活
 用したサービスを展開されているお二方にご登壇いた
 だき、事例を交えてAI導入時のポイントから効果的な
 活用法までお話しいただきます！\n※総務省「令和元
 年版　情報通信白書」\nhttps://www.soumu.go.jp/johotsusintokei/w
 hitepaper/ja/r01/pdf/n1200000.pdf\n\n\n\n【内容】\n＜第一部＞　
 20分（各10分）\n\n・コエステ株式会社　執行役員　金
 子 祐紀\n―AI導入の成功事例とその要因\n\n・BizteX株式
 会社 代表取締役 Founder/CEO　嶋田 光敏\n― AI活用におけ
 る今後の展望/AIの活用で社会に提供する価値について\
 n\n\n＜第二部＞ 40分\n・パネルディスカッション　\n― 
 導入時の気を付けるべきポイント\n― AIの導入余地の
 見つけ方\n― AI導入で効果を最大化させる方法\n┗当社
 、ユナイテッド株式会社 執行役員 米田吉宏 が登壇い
 たします。\n\n・参加者さまからのQ&A\n\n\n\n【こんな方
 におすすめ】\n・業務へのAI活用を検討している事業責
 任者の方\n・AIを導入したもののなかなか変化が見えず
 お困りの方\n・AIプロジェクトを推進されている方\n\n\n
 \n【開催概要】\n開催日：2020年12月2日（水）19:00-20:00\n
 参加費：無料\n視聴方法：Zoom\n動画視聴方法につきま
 しては、お申し込みいただいた方へのみご案内させて
 いただきます。\n\n登壇者\n\n＜コエステ株式会社　執
 行役員　金子 祐紀＞\n2005年に東芝に入社し、クラウド
 TVやメガネ型ウェアラブルなど、さまざまな新規事業
 の立ち上げに携わる社内起業家。2016年から音声合成技
 術を活用した声の新しいプラットフォーム「コエステ
 ーション」を立ち上げ、2020年2月にエイベックスとの
 合弁会社であるコエステ株式会社を設立。2020年4月に
 コエステ株式会社の執行役員に就任。東京大学大学院
 協力研究員。\n\n\n＜BizteX株式会社 代表取締役 Founder/CEO
 　嶋田 光敏＞\nJフォン株式会社、Vodafone株式会社、ソ
 フトバンク株式会社で通信商材を企業向けに提供する
 法人事業に約14年従事。営業時代は達成率No\,1を獲得。
 2012-15年の3年間は法人事業の新規プロジェクト、新規
 事業開発の室長を歴任。法人向け電力小売りPJ、IBM Wats
 onPJ、法人版Pepper PJなど数多くの事業立ち上げを実施。
  2015年BizteXを創業。趣味はサッカー、フットサル。\n\n\
 n＜ユナイテッド株式会社　執行役員　米田　吉宏＞慶
 應義塾大学経済学部卒業後、 電通にて国内外での広告
 プランニング、ビッグデータを用いたマーケティングR
 OI向上支援等に従事。2013年ボストン コンサルティング
  グループ入社後、主に通信・メディア・テクノロジー
 領域の経営戦略策定、新規事業開発、営業戦略、組織
 戦略等を担当。プロジェクトリーダーとして従事した
 後、2019年3月ユナイテッド株式会社執行役員に就任（
 現任）。DXソリューションの立案/推進と、全社戦略/組
 織強化を担当。\n\n\n\n【お申込みにあたって】-----------
 ----------------------------本セミナーのお申込みフォームに
 ご記入いただいた情報は本セミナーの運営並びにユナ
 イテッド株式会社及び登壇者が所属する企業組織から
 の情報提供（電子メール広告の受信/電話を含みます）
 のため以下のプライバシーに沿って管理いたします。
 ・BizteX株式会社https://www.biztex.co.jp/privacy/・コエステ株
 式会社　エイベックスグループhttps://avex.com/jp/ja/public/p
 rivacy/・ユナイテッド株式会https://united.jp/privacy/----------
 -----------------------------\n\n\nハッシュタグ\n#techplayjp\n注
 意事項\n※ 参加を辞退する場合は、詳細ページより申
 込のキャンセルをお願い致します。※ 無断キャンセル
 ・欠席が続く場合、次回以降の参加をお断りさせてい
 ただく場合がございますのでご了承ください。\n 
LOCATION:オンライン
URL:https://techplay.jp/event/800041?utm_medium=referral&utm_source=ics&utm
 _campaign=ics
END:VEVENT
END:VCALENDAR
