BEGIN:VCALENDAR
VERSION:2.0
PRODID:-//https://techplay.jp//JP
CALSCALE:GREGORIAN
METHOD:PUBLISH
X-WR-CALDESC:[オンライン] 第２８回　CoderDojo中央林間（Zoom
 道場）
X-WR-CALNAME:[オンライン] 第２８回　CoderDojo中央林間（Zoom
 道場）
X-WR-TIMEZONE:Asia/Tokyo
BEGIN:VTIMEZONE
TZID:Asia/Tokyo
BEGIN:STANDARD
DTSTART:19700101T000000
TZOFFSETFROM:+0900
TZOFFSETTO:+0900
TZNAME:JST
END:STANDARD
END:VTIMEZONE
BEGIN:VEVENT
UID:800197@techplay.jp
SUMMARY:[オンライン] 第２８回　CoderDojo中央林間（Zoom道場
 ）
DTSTART;TZID=Asia/Tokyo:20201129T173000
DTEND;TZID=Asia/Tokyo:20201129T180000
DTSTAMP:20260420T091738Z
CREATED:20201118T213125Z
DESCRIPTION:イベント詳細はこちら\nhttps://techplay.jp/event/80019
 7?utm_medium=referral&utm_source=ics&utm_campaign=ics\n\n\n\n\n\n終了
 いたしました。\n楽しく、学びのある会でした。また
 来週！\n\n\n\n\n\n\n\nDojoCon Japan 2020！「Dojo中継！」CoderDoj
 o名護（沖縄）さんが中心となって全国のCoderDojoと中継
 します。CoderDojo中央林間も中継に参加させていただき
 ます。それについてもお話しします。by笹沼\n\n\n\nScratc
 h（スクラッチ）を行います。Zoomを使ったオンライン
 勉強会です。初心者から熟達者まで参加OK(^^)/\n作品を
 発表したり、質問をしたり、みんなの作品を見たり・
 ・・それぞれの楽しみ方、学び方を見つけよう！\n\n\n\
 n\n※開始５分前にZoom招待URLをメールします。\n\nみん
 なの作品が見れるよ！\nCoderDojo中央林間のScratch（スク
 ラッチ）スタジオ\nhttps://scratch.mit.edu/studios/26641967/\n\n\n
 メンターも募集しています！\nCoderDojo中央林間 笹沼へ
 メールしてください。\nyamato_kanagawa.jp@coderdojo.com\n\n※
 メンターの方々へ\nお仕事/ご家庭の事など優先してく
 ださい。\n無理せずご参加いただける場合は、\n是非！
 ご参加のほど宜しくお願い致します。\nCoderDojo中央林
 間　笹沼\n
LOCATION:CoderDojo中央林間 オンライン
URL:https://techplay.jp/event/800197?utm_medium=referral&utm_source=ics&utm
 _campaign=ics
END:VEVENT
END:VCALENDAR
