BEGIN:VCALENDAR
VERSION:2.0
PRODID:-//https://techplay.jp//JP
CALSCALE:GREGORIAN
METHOD:PUBLISH
X-WR-CALDESC:生産設備のIoT化実践講座
X-WR-CALNAME:生産設備のIoT化実践講座
X-WR-TIMEZONE:Asia/Tokyo
BEGIN:VTIMEZONE
TZID:Asia/Tokyo
BEGIN:STANDARD
DTSTART:19700101T000000
TZOFFSETFROM:+0900
TZOFFSETTO:+0900
TZNAME:JST
END:STANDARD
END:VTIMEZONE
BEGIN:VEVENT
UID:800326@techplay.jp
SUMMARY:生産設備のIoT化実践講座
DTSTART;TZID=Asia/Tokyo:20210205T103000
DTEND;TZID=Asia/Tokyo:20210205T163000
DTSTAMP:20260420T135421Z
CREATED:20201120T031221Z
DESCRIPTION:イベント詳細はこちら\nhttps://techplay.jp/event/80032
 6?utm_medium=referral&utm_source=ics&utm_campaign=ics\n\n座学と微小
 電流IoT装置を使った実習で理論と実践を1日で学ぶ\n自
 社設備にIoTを導入して異常検知や品質管理の「見える
 化」を図りたいけれど・なんだか難しそう・高額な費
 用がかかりそう・ウチにある古い設備でもIoT化できる
 の？等といった理由でIoT化に踏み切れないでいる方に
 生産現場のデータを単に収集したとしても、それを正
 しく解析し、効果的な利用につなげられなくてはIoT化
 のメリットを十分に享受できません。逆に上手くIoT導
 入ができると、生産設備のトラブルの原因について予
 想が立てられるようになり工場内の問題点の改善に向
 けて課題意識を持つようになり、ひいては自社工場の
 現場力アップにつなげることが可能です。今回の講座
 では、まず既存設備に対するIoT導入の事例を座学で学
 んだ後、実際に微小電流のIoT装置を使用して、センサ
 の取付け・接続・稼働情報の確認の実習を行い、自社
 でもIoT化を進めることができる知識と仕組みを1日で学
 びます。使用する装置は簡単に取り扱えるものなので
 、初めての方でも基本を学ぶことができます。セミナ
 ーとワークショップを通じて得たことを基に、自社のI
 oT化の適用案について検討します。\n講座構成\n・座学
 ：製造現場のIoT導入事例について・ワークショップ：
 実際に信号を変化させてクラウド画面で確認、デモ機
 に取り付け稼働データの確認・座学：使用したIoT装置
 の技術的な仕組みについて・座学：IoTを導入するため
 のポイント・ディスカッション：ワークショップを通
 じて自社の現場での適用案を発表\nこんな方にオスス
 メ！\n現場のIT/IoT化推進を任されているが現場事情は
 詳しくなく勉強したい社内IoT(自動化)を進める必要が
 あるため勉強したい初心者だがIoTについて興味がある
 、勉強したい今後業務としてIoT案件が増加するためIoT
 に関する知識を身に付ける必要がある\nポイント\nこん
 な方にオススメ！カイゼンの知識をブラッシュアップ
 したい現場をカイゼンするために有効な知識や考え方
 を知りたい初心者だが5Sやカイゼンについて興味があ
 る、勉強したい今後業務として取り組む予定のため知
 識を身に付ける必要がある\n講座形式\nハンズオン講座
 \n参加対象\n中小企業の工場責任者、自社の工場を改善
 したい方、人手不足で困っている方、SIerとしてコンサ
 ルティングしたい方、生産現場の自動化について関心
 がある方など\n講師\n 三上 典秀 氏\nスリーアップ・テ
 クノロジー代表MtoMと呼ばれていた時期から、大手電機
 メーカーにてインダストリアルエンジニアとして19年
 勤務後、2017年4月に創業。オープンソースのLinuxを用い
 てソフトウエアを自身で開発、現場の特色にマッチし
 たIoT機器の導入を得意とする。\nお問合せ先\n一般社団
 法人 i-RooBO Network Forum （IATC運営委員会事務局）大阪市
 住之江区南港北2-1-10ATCビルITM棟3F D-1）TEL.06-6606-8335\n主
 催\nIATC運営委員会（公益財団法人大阪産業局/一般社団
 法人i-RooBO Network Forum/おおさかATCグリーンエコプラザ実
 行委員会）\n\n参加にあたっての注意事項\n\n1. イベン
 トの開催情報を掲載する際には、細心の注意を払って
 おりますが、情報の正確性、完全性、有用性、安全性
 、特定目的への適合性について、一切の責任を負いま
 せん。2. イベントで講師、司会者、参加者、使用テキ
 スト、資料等が提供する情報の正確性、完全性、有用
 性、安全性、特定目的への適合性について一切の責任
 を負いません。3. 講師や関係者の急病、天災地変、交
 通機関の事故やスト、電力供給停止、電話通信網の停
 止等の不可抗力によってセミナー・イベントが開催で
 きなくなったことにより生じる直接的または間接的な
 損失に対し、一切責任を負いません。4. 電子メール、
 インターネット、PC機器、システム等の不具合により
 生じる直接的または間接的な損失に対し、一切責任を
 負いません。5. イベントにおいて受講者の受講内容の
 理解や技術の習得を保証するものではありません。6. 
 プログラム内容の詳細につきましては、予告なく変更
 する場合がございますので、ご了承ください。
LOCATION:IATC(おおさかATCグリーンエコプラザ内) 大阪市住
 之江区南港北2-1-10ATCビルITM棟11F
URL:https://techplay.jp/event/800326?utm_medium=referral&utm_source=ics&utm
 _campaign=ics
END:VEVENT
END:VCALENDAR
