BEGIN:VCALENDAR
VERSION:2.0
PRODID:-//https://techplay.jp//JP
CALSCALE:GREGORIAN
METHOD:PUBLISH
X-WR-CALDESC:#ヒーローズリーグ IoT賞審査会 by IoTLT
X-WR-CALNAME:#ヒーローズリーグ IoT賞審査会 by IoTLT
X-WR-TIMEZONE:Asia/Tokyo
BEGIN:VTIMEZONE
TZID:Asia/Tokyo
BEGIN:STANDARD
DTSTART:19700101T000000
TZOFFSETFROM:+0900
TZOFFSETTO:+0900
TZNAME:JST
END:STANDARD
END:VTIMEZONE
BEGIN:VEVENT
UID:800473@techplay.jp
SUMMARY:#ヒーローズリーグ IoT賞審査会 by IoTLT
DTSTART;TZID=Asia/Tokyo:20201128T170000
DTEND;TZID=Asia/Tokyo:20201128T193000
DTSTAMP:20260420T190317Z
CREATED:20201121T061851Z
DESCRIPTION:イベント詳細はこちら\nhttps://techplay.jp/event/80047
 3?utm_medium=referral&utm_source=ics&utm_campaign=ics\n\nイベントの
 開催に関するお知らせ\n\n※ 新型コロナウイルスの影
 響を考慮して、基本オンライン配信とします。 \nまた
 状況次第ではイベントを中止する可能性がございます
 。今後の状況次第ですが、中止となった場合はイベン
 トページ上や参加者向けのメッセージ送信でお知らせ
 いたします。\n\n業界初?! IoT縛りの勉強会/LT会です！ 
 今回はヒーローズ・リーグ オンライン2020の「Internet of
  Awesome Things賞」の審査会を実施します！\nヒーローズ
 ・リーグ オンライン2020にコミュニティサポーターと
 してIoTLTが参画しています。\nIoT作品の審査を審査員の
 皆さんと一緒に行って行きます。\nゆるく配信します
 ので、お気軽にご覧ください！\n審査員\n\n菊池さん\n
 田中さん\nのびすけ\n\n開催前後の交流ためのFBグルー
 プもあります！\nhttps://www.facebook.com/groups/IoTLT \n情報は
 こちらで流れてるので是非ご参加下さい！\n会場 ： You
 tubeのIoTLTチャンネルで配信します。\n配信はこちら！ h
 ttps://youtu.be/J_8qh69StKk\nメイン会場(一般参加)\nチャンネ
 ル登録お願いします!何卒何卒！\n\nhttps://youtube.com/c/IoTL
 T\n\nタイムテーブル\n審査は一件あたり3分 ~ 5分程度の
 予定\n\n\n\n時間\n内容\n\n\n\n\n17:00\nスタート\n\n\n19:30\n終
 了予定\n\n\n\n参加費\n\n無料 \n\n主催\nみらいマルシェ株
 式会社、リレーションズ株式会社 土屋敬\n2018年11月に
 みらいマルシェ株式会社を立ち上げました。生鮮食品
 の企業間取引アプリの開発・運営をしています。\nhttps
 ://miraimarche.com/\nリレーションズ株式会社にてスマホで
 自転車レンタルが出来るサービス「COGOO」の開発・運
 営をしています。\nhttp://cogoo.jp/\ndotstudio株式会社 菅原
 のびすけ\n\n2019年4月からプロトタイピング専門スクー
 ル「プロトアウトスタジオ」スタートしました。\nプ
 ログラミング学習はもう古い。「令和」時代のイノベ
 ーションを担う日本初のプロトタイピング専門スクー
 ルを開校\n「プログラミング学習はもう古い」って言
 ってしまった件について\n\n諸注意\n\nイベント内容は
 一部変更になる可能性がございます。\nイベント当日
 の様子は後日何らかの媒体にて公開させていただくこ
 とがございます。\nお申込後運営都合によりご参加を
 キャンセルさせて頂く場合がございます。予めご了承
 頂けますようお願いいたします。\n
LOCATION:YoutubeのIoTLTチャンネル オンライン
URL:https://techplay.jp/event/800473?utm_medium=referral&utm_source=ics&utm
 _campaign=ics
END:VEVENT
END:VCALENDAR
