BEGIN:VCALENDAR
VERSION:2.0
PRODID:-//https://techplay.jp//JP
CALSCALE:GREGORIAN
METHOD:PUBLISH
X-WR-CALDESC:ナノフォト量子|048>-微小共振器中のポラリト
 ン(斜入射)-
X-WR-CALNAME:ナノフォト量子|048>-微小共振器中のポラリト
 ン(斜入射)-
X-WR-TIMEZONE:Asia/Tokyo
BEGIN:VTIMEZONE
TZID:Asia/Tokyo
BEGIN:STANDARD
DTSTART:19700101T000000
TZOFFSETFROM:+0900
TZOFFSETTO:+0900
TZNAME:JST
END:STANDARD
END:VTIMEZONE
BEGIN:VEVENT
UID:800551@techplay.jp
SUMMARY:ナノフォト量子|048>-微小共振器中のポラリトン(斜
 入射)-
DTSTART;TZID=Asia/Tokyo:20201123T220000
DTEND;TZID=Asia/Tokyo:20201123T230000
DTSTAMP:20260421T000008Z
CREATED:20201123T061336Z
DESCRIPTION:イベント詳細はこちら\nhttps://techplay.jp/event/80055
 1?utm_medium=referral&utm_source=ics&utm_campaign=ics\n\n動機\n人類
 がまだ見ぬ究極の計算機「量子コンピュータ」。現在
 、さまざまな方式が研究開発されているが、室温動作
 が期待される「光子」を使った方式はまだまだ多くの
 ブレークスルーが必要である。そこで、高集積可能な
 ナノフォトニクス技術と高効率な量子操作を実現可能
 な共振器QED技術を組み合わせることで、大規模室温量
 子コンピュータをめざす！その研究を行うための基本
 知識を勉強するのが本勉強会の狙い。1時間程度お付き
 合いください。週に2回（月金）ペースで進めます。\n
 開催頻度\n週2（月金）で開催します。  \n内容：\n\n量
 子光学や光共振器の教科書を最初から読んで解説を試
 みる。\n・教科書 : [Microcavities]\n(http://papenlab1.ucsd.edu/~co
 ursework/ECE240A/downloads/Microcavities.pdf)\n(https://www.amazon.co.jp/
 dp/0198782993/ref=cm_sw_r_tw_dp_U_x_GgkJEbWGVZ0C1)\n・参考書：[共
 振器量子電磁力学: 量子コンピュータのハードウェア
 理論 (SGCライブラリ)   越野 和樹]\n(https://www.amazon.co.jp/d
 p/478191487X/ref=cm_sw_r_tw_dp_x_e5MEFb2HY9BWF @amazonJPより )\nナノ
 フォトニクス、量子コンピュータ関係の気になる論文
 などの情報交換\n\n開催方法\n・Skypeです。アプリをイ
 ンストールしてご使用ください（webブラウザのskypeで
 は正常に繋げないことがあります）。\n・以下リンク
 からご参加ください。時間になったら主催者がコール
 します。\nSkype ナノフォトニクス で量子コンピュータ
 を作りたい！\n・発言しない時は雑音低減のためマイ
 クミュートにしておいてください。\nSlackコミュニティ
 \nSlackに参加して、質問や情報交換しましょう。資料も
 こちらで共有します。\nSlack nanophoto-qc\n※リンク切れの
 場合は上記のskype等でお知らせください。  \n募集\n・
 教科書の輪読担当者を募集します。\n・ナノフォトニ
 クス、共振器QED、量子光学など関係する論文の発表な
 ど募集します。\n※Slackの発表者募集チャンネルで表明
 ください。
LOCATION:オンライン オンライン
URL:https://techplay.jp/event/800551?utm_medium=referral&utm_source=ics&utm
 _campaign=ics
END:VEVENT
END:VCALENDAR
