BEGIN:VCALENDAR
VERSION:2.0
PRODID:-//https://techplay.jp//JP
CALSCALE:GREGORIAN
METHOD:PUBLISH
X-WR-CALDESC:12/3(木)最大70%OFFでAIエンジニアに！ E資格対応
 ディープラーニング講座Web説明会
X-WR-CALNAME:12/3(木)最大70%OFFでAIエンジニアに！ E資格対応
 ディープラーニング講座Web説明会
X-WR-TIMEZONE:Asia/Tokyo
BEGIN:VTIMEZONE
TZID:Asia/Tokyo
BEGIN:STANDARD
DTSTART:19700101T000000
TZOFFSETFROM:+0900
TZOFFSETTO:+0900
TZNAME:JST
END:STANDARD
END:VTIMEZONE
BEGIN:VEVENT
UID:800743@techplay.jp
SUMMARY:12/3(木)最大70%OFFでAIエンジニアに！ E資格対応ディ
 ープラーニング講座Web説明会
DTSTART;TZID=Asia/Tokyo:20201203T193000
DTEND;TZID=Asia/Tokyo:20201203T203000
DTSTAMP:20260420T221334Z
CREATED:20201125T034829Z
DESCRIPTION:イベント詳細はこちら\nhttps://techplay.jp/event/80074
 3?utm_medium=referral&utm_source=ics&utm_campaign=ics\n\n内容概要\n
 本説明会では、前半はE資格取得を目指せる『ディープ
 ラーニング講座』について、後半でディープラーニン
 グ講座をお得に受講できる『教育訓練給付制度』につ
 いてお話いたします。\n『ディープラーニング講座』
 のみの話を聞きたいという方は、前半のみのご参加も
 歓迎です。\n【前半】\n『現場で使えるディープラーニ
 ング基礎講座』について\n日本ディープラーニング協
 会に認定プログラム第１号のスキルアップAIが提供す
 る『現場で使えるディープラーニング基礎講座』につ
 いてご説明します。本講座を修了することで、E資格の
 受験資格を得ることができます。\n「現在のAI人材育成
 市況は？」「E資格を取得のメリットは？」「E資格の
 難易度は？」「どんな勉強をどれくらいすればいいの
 ？」など、500名近いE資格合格者輩出の実績をもとに、
 お話しいたします。\n【後半】\n厚生労働省認定の「教
 育訓練給付制度（専門実践教育訓練）講座」に指定さ
 れた講座について\nスキルアップAIでは、厚生労働省指
 定の「専門実践教育訓練給付制度」の対象講座につい
 て、今年4月に認定を受けた対面講座2つに加え、10月よ
 り新たにオンライン講座も含めた4つが給付金認定に認
 定されました。\nこの給付金制度を活用することで、
 受講料が最大70%助成されます！\n現在認定されている6
 つのコースは、すべて『現場で使えるディープラーニ
 ング基礎講座』が含まれておりますので、\nお得に受
 講しながら、E資格取得を目指すことができます。\n条
 件を満たせば**「離職中」の方だけではなく、「在職
 中」**の方も対象となる制度ですので、制度を知らな
 い方も、ぜひお気軽にご参加ください。\n給付金対象
 者は？どのような手続きをすればよいの？自分にあっ
 た給付金講座は？対面とオンラインの違いは？\nなど
 、本説明会では、皆様の気になる疑問・質問に、担当
 者が直接お答えいたします。\nまた、本説明会中はチ
 ャット及び口頭でも質問タイムがございますので、気
 になることがあれば、その場でご確認いただけます。\
 nまた、説明会後、担当者は少し残りますので、説明会
 中に質問できなかった、個別で聞きたいことがあると
 いう方は、その際にご相談いただくことも可能です。\
 n説明会参加にあたって\n本説明会は、どなたでもご参
 加いただくことができます。\n給付金対象であるかわ
 からないという方も、まずは説明会にご参加いただく
 ことをおススメいたします。\n※給付金制度について
 の詳細な情報はお近くのハローワークにてご確認くだ
 さい\n　手続きの流れについては、説明会でもお伝え
 させていただきます\n・専門実践教育訓練の給付金に
 ついて（厚生労働省）詳細はこちら\n・専門実践教育
 訓練給付金についてのQ&A （厚生労働省）詳細はこちら
 \n・こちらのサイトでも、受給までの流れが分かりや
 すく紹介されています\n日程\n12/3（木）　19:30~20:30　Web
 説明会（ライブ配信）\n※ Web説明会（ライブ配信）ご
 参加いただけない方はこちらから「アーカイブ動画提
 供」をお申込みください\nライブ配信での説明会のご
 参加について\nライブ配信は、Zoomを使用します。\n開
 催前日までに、視聴URL、ミーティングID、パスワード
 をメールでご案内いたします。\n備考\n説明会内容を撮
 影もしくは録音することは、ご遠慮ください\n個人情
 報の取扱いについて\n申し込み時にご提供いただいた
 情報は、イベント受付管理や各種ご案内（サービス・
 イベント等）に利用させていただきます。\n会社紹介\n
 \n東京大学系のベンチャー企業。実務で使えることを
 重要視したカリキュラムをアクティブラーニングによ
 って学べ、数学・Pythonプログラミング・機械学習・デ
 ィープラーニングなど体系化された幅広いテーマを扱
 っている。JDLAが実施するE資格（エンジニア向け）で
 は、受験資格を得るための「JDLA認定プログラム」を日
 本で最初に取得しており、これまで500名近いE資格合格
 者を輩出している。\nskillupai.com/\n
LOCATION:Zoom
URL:https://techplay.jp/event/800743?utm_medium=referral&utm_source=ics&utm
 _campaign=ics
END:VEVENT
END:VCALENDAR
