BEGIN:VCALENDAR
VERSION:2.0
PRODID:-//https://techplay.jp//JP
CALSCALE:GREGORIAN
METHOD:PUBLISH
X-WR-CALDESC:11/27｜【無料】検索インデックスを徹底解剖！
 テクニカルSEOセミナー
X-WR-CALNAME:11/27｜【無料】検索インデックスを徹底解剖！
 テクニカルSEOセミナー
X-WR-TIMEZONE:Asia/Tokyo
BEGIN:VTIMEZONE
TZID:Asia/Tokyo
BEGIN:STANDARD
DTSTART:19700101T000000
TZOFFSETFROM:+0900
TZOFFSETTO:+0900
TZNAME:JST
END:STANDARD
END:VTIMEZONE
BEGIN:VEVENT
UID:800759@techplay.jp
SUMMARY:11/27｜【無料】検索インデックスを徹底解剖！テ
 クニカルSEOセミナー
DTSTART;TZID=Asia/Tokyo:20201127T130000
DTEND;TZID=Asia/Tokyo:20201127T140000
DTSTAMP:20260420T222616Z
CREATED:20201125T060024Z
DESCRIPTION:イベント詳細はこちら\nhttps://techplay.jp/event/80075
 9?utm_medium=referral&utm_source=ics&utm_campaign=ics\n\nテクニカルS
 EOの分析をオンラインで学ぶ\n\n本セミナーは今注目の
 テクニカルSEOについて学ぶオンラインセミナーです。\
 nセミナー内ではSEO対策に関するこんな疑問にお答えし
 ます！\n\n・最近聞く「テクニカルSEO」ってなに？\n・G
 oogleの検索インデックスって何？\n・狙ったキーワード
 で検索結果に表示されないのはなぜ？\n・SEO改善する
 ために見るべきデータとは？\n\nサイトのページ数がそ
 れなりにあるにも関わらず、検索流入数が伸び悩んで
 いるケースでは「テクニカルSEO」を実践することで大
 きな効果を得られる可能性があります。\n\n本セミナー
 の特徴\n\n①テクニカルSEOにおいての「検索インデック
 ス」の重要性が分かる\nいま注目のテクニカルSEOとは
 何か。コンテンツSEOとの違いや自社で行えるSEO対策で
 あることがわかります。また、検索インデックスを確
 認する方法、なぜ確認するのか、その重要性がわかり
 ます。\n\n②自社でページ改善・新規制作時のSEO上の重
 要ポイントがわかる\nどのポイントを見てテキストを
 書き換えたり、タグの追加・修正をすべきかわかりま
 す。セミナー受講後には自社で行うべき作業の道筋が
 見えてきます。\n\n③テクニカルSEOを圧倒的に効率化す
 るツールがわかる\nテクニカルSEOを実施するためにはGo
 ogleからどのように評価されているのか、ページのタグ
 解析やアンカーテキストの確認など収集すべき情報が
 多くあります。その作業を効率化するツールもご紹介
 します。\n\nセミナー日程\n\n2020/11/27(金) 13:00~14:00\n\n必
 要環境\n\nZoomウェビナーにアクセス可能なPCをご用意く
 ださい。\nデータを表示するため、PC・タブレットなど
 の大きめな画面をおすすめします。\n\nセミナープログ
 ラム\n\n①テクニカルSEOとは\n検索結果に表示されるプ
 ロセスとテクニカルSEOとは\n②検索インデックスとは\n
 検索インデックスとは何か？ページ毎に確認する方法
 とは\n③テクニカルSEOの分析\nテクニカルSEOの分析で必
 要となるデータとは\n④検索インデックスと検索順位\n
 検索インデックスから強化すべきキーワードを探す\n
 ⑤CTR・クリック数の予測\nCTRのデータから検索結果表
 示を最適化すべきキーワードを探す\n⑥TOP20比較\n競合
 から市場・ターゲットの確認\n\n※講演内容は予告なく
 変更される場合がございます。予めご了承くださいま
 すようお願いします。\n\n主催社について\n\n株式会社
 シンメトリック(https://www.symmetric.co.jp)\n\nSEO改善サービ
 ス『クラスターSEO』、アクセス解析ツール『アナトミ
 ー』を提供しています。\nシンメトリックは、アクセ
 ス解析・SEO対策の専門家として、Googleアナリティクス
 やサーチコンソールのデータを可視化し、サイトの課
 題点の発見、改善案の策定を支援するツールやサービ
 スを提供しています。
LOCATION:オンライン
URL:https://techplay.jp/event/800759?utm_medium=referral&utm_source=ics&utm
 _campaign=ics
END:VEVENT
END:VCALENDAR
