BEGIN:VCALENDAR
VERSION:2.0
PRODID:-//https://techplay.jp//JP
CALSCALE:GREGORIAN
METHOD:PUBLISH
X-WR-CALDESC:【E資格を最安で】合格率94％のAVILENがおくる
 スピードコース（オンライン）
X-WR-CALNAME:【E資格を最安で】合格率94％のAVILENがおくる
 スピードコース（オンライン）
X-WR-TIMEZONE:Asia/Tokyo
BEGIN:VTIMEZONE
TZID:Asia/Tokyo
BEGIN:STANDARD
DTSTART:19700101T000000
TZOFFSETFROM:+0900
TZOFFSETTO:+0900
TZNAME:JST
END:STANDARD
END:VTIMEZONE
BEGIN:VEVENT
UID:801054@techplay.jp
SUMMARY:【E資格を最安で】合格率94％のAVILENがおくるスピ
 ードコース（オンライン）
DTSTART;TZID=Asia/Tokyo:20201229T180000
DTEND;TZID=Asia/Tokyo:20210228T180000
DTSTAMP:20260423T233456Z
CREATED:20201127T095005Z
DESCRIPTION:イベント詳細はこちら\nhttps://techplay.jp/event/80105
 4?utm_medium=referral&utm_source=ics&utm_campaign=ics\n\nお申し込み
 フォーム（※このページのイベント参加ボタンからは
 お申し込みできません）\nhttps://service.avilen.co.jp/l/843143/
 2020-11-20/mlr6gn\n入金確認後、1〜2営業日中に案内メール
 をお送りいたします。\n※銀行振込・クレジットカー
 ド払い（Paypal）に対応しています。\n概要\n「E資格」
 合格率 94.4% を誇るAVILENは、業界最安価格「88\,959（は
 やくごーかく）円（税別）」 の「E資格直前突破スピ
 ードコース」を期間限定で開講します！\n約1ヶ月半でE
 資格受験を目指す、エンジニア等経験者向けの短期集
 中コースです。\n既に数学やPython、機械学習等の知識
 があり、最高のコスパでE資格を取得したい方には、特
 にオススメ！\n受講費用\n88\,959円（税別）\n内容・サポ
 ート\n「全人類がわかるE資格コース」に準ずる\nサポ
 ート期間\n\nサポート期間（採点・質問対応等）：2021
 年2月末まで\n教材・動画閲覧期間：2021年12月末まで（1
 年間）\n\n※スピードコースではサポート期間を延長出
 来ないため、予めご了承ください。\n受講条件\n\nオプ
 ションの基礎講座セットのお申し込みは不可\n下記修
 了条件を全て2021年1月23日までに満たす意志のある方\n
 ※満たせない場合2月試験を受験することが出来ません
 \n\n\n\nコーディング演習課題（計6回）・プロダクト開
 発課題を全て合格する\n\n\n修了試験（6科目）を全て合
 格する\n\n\nお申し込み\nページ上部のお申し込みフォ
 ームより\n※お申し込み期限：12月28日（月）20:00まで\n
 注意事項・その他\n\n請求書発行依頼は法人様のみ承っ
 ております。ご希望の場合は別途メールにてお問い合
 わせください。\n※領収書は、フォームに発行申し込
 み項目がございます。\nブログ等への記述については
 、良識の範囲内でお願いいたします。\n本コースに関
 わるコンテンツは全てAVILENに帰属しています。複製や
 不正流出はご遠慮ください。\n本ページの掲載内容は
 一部変更となる場合がございます、あらかじめご了承
 ください。\n\nお問い合わせ\n[こちら]からお問い合わ
 せください。\n※日曜日は定休のため、いただいたお
 問い合わせについては月曜以降のご対応となります。\
 nキャンセル規定\n\n申し込みから14日以内かつ受講案内
 が未発送の場合：\n受験料から10%の手数料を差し引い
 た額をご返金いたします。\n申し込みから15日経過後ま
 たは受講案内発送後の場合：\n受験したかを問わず、
 返金は一切いたしかねます。\n\nE資格取得のプロセス\n
 \n\n数学、Python、統計学、機械学習などの分野の基礎を
 身につける。\n↑基礎講座セット（オプション）はコ
 コ\n\n\nJDLA認定プログラム※のいずれか受講・修了し、
 E資格の受験資格を得る。\n↑スピードコースはココ\n\n
 \n2年以内にE資格を受験・取得する。\n\n\n株式会社AVILEN
 とは\n株式会社AVILENは「テクノロジーをより多くの人
 に」というミッションを掲げAI領域に特化したビシネ
 スを展開しています。社員のほとんどがデータサイエ
 ンティストで組織され、ディープラーニングを用いた
 、アルゴリズムの開発や、データ活用コンサルティン
 グを行っています。また、AI活用の現場で得た知見を
 、AI人材育成事業やAIメディア事業（AVILEN AI Trend）で世
 の中に広げる活動をしています。
LOCATION:オンライン
URL:https://techplay.jp/event/801054?utm_medium=referral&utm_source=ics&utm
 _campaign=ics
END:VEVENT
END:VCALENDAR
