BEGIN:VCALENDAR
VERSION:2.0
PRODID:-//https://techplay.jp//JP
CALSCALE:GREGORIAN
METHOD:PUBLISH
X-WR-CALDESC:【初心者歓迎】Python入門講座
X-WR-CALNAME:【初心者歓迎】Python入門講座
X-WR-TIMEZONE:Asia/Tokyo
BEGIN:VTIMEZONE
TZID:Asia/Tokyo
BEGIN:STANDARD
DTSTART:19700101T000000
TZOFFSETFROM:+0900
TZOFFSETTO:+0900
TZNAME:JST
END:STANDARD
END:VTIMEZONE
BEGIN:VEVENT
UID:801104@techplay.jp
SUMMARY:【初心者歓迎】Python入門講座
DTSTART;TZID=Asia/Tokyo:20201209T190000
DTEND;TZID=Asia/Tokyo:20201209T213000
DTSTAMP:20260423T194510Z
CREATED:20201128T023943Z
DESCRIPTION:イベント詳細はこちら\nhttps://techplay.jp/event/80110
 4?utm_medium=referral&utm_source=ics&utm_campaign=ics\n\n概要\n2時間3
 0分でPythonの文法入門をオンライン形式(zoom)で行います
 。\nPythonはデータサイエンスやAIなど様々な分野で人気
 を博しています。他のプログラミング言語よりも簡単
 であるため、初心者でも学習しやすいという特徴があ
 ります。\n当講座では、初心者でもPythonの基本的な文
 法を理解し、簡単なプログラムなら書けるという状態
 をゴールとします。また、他人が書いたコードでも、
 ある程度読めるようになります。\n当日は実戦形式で
 、演習問題を交えつつ進めていきますので、Python3をイ
 ンストールしたPCの準備をお願いします。\n講座を通じ
 て得られること\n・Pythonの基本的な文法の習得\n・Python
 で簡単なプログラムが記述できる\n・他人の書いたPytho
 nコードも調べながらなら理解できる\n内容\n・プログ
 ラムの実行方法（jupyter notebook、ターミナル）\n・Python
 における変数の扱い\n・リスト\n・辞書\n・演習問題1（
 変数、演算）\n・if文、for文\n・リストの内包表現\n・
 演習問題2（if文、for文、内包表現）\n・関数\n・ライブ
 ラリの導入\n・演習問題3（関数）\n※各項目に最低限2
 題以上演習問題をもうけていますので、理解度を確認
 しながら受講いただけます。\n※ 当日予告なく時間配
 分・内容が変更になる可能性がございます。\n事前準
 備・持ち物\nPython3をインストールしたPCの準備をお願
 いいたします．\nまた，講義はJupyter Notebookを用いて行
 いますので，こちらもインストールをお願いします．\
 n※インストールでお困りの方はこちらのフォームから
 お問い合わせください。可能な範囲で対応致します。\
 n当日はzoomを用いて講義を行います。受講者様には当
 日までにzoomリンクが記載されたメールを送らせていた
 だきます。\n\nこんな人にオススメ\n・Pythonを最短ルー
 トで入門したい方\n・Python入門を考えているが自分で
 出来るか不安な方。\n・プログラミング初心者の方\n講
 師\n齊藤航\n大学時代は物理化学を専攻。高分子の温度
 による挙動変化を解析し、雑誌「Journal of Biorheology」に
 論文が掲載された実績を持つ。現在はデータサイエン
 ティストとして銀行のシステム開発に携わっている。A
 VILENでは機械学習に関する数学やデータ分析の講座を
 中心に講師を担当する。\n\n\n領収書について\n【Stripe
 で事前決済の方】\nクレジットカード会社が発行する
 明細を領収書の代わりとしてご利用ください。\n【Paypa
 lの方】\n決済処理後にPaypalから送付されるメール内容
 、またはPaypalの取引履歴から該当項目を確認の上、「
 詳細」をご覧ください。それらが領収書の代わりとな
 ります。また、クレジットカード会社発行の利用明細
 書も領収書としてご利用いただけます。\n【別途領収
 書発行が必要な方】\n別途発行手数料として1000円頂き
 ます。必要な方は、以下のフォームよりご申請くださ
 い。領収書発行手数料と受講料金を合算した金額で発
 行いたします。\n株式AVILEN 領収書発行フォーム\n受付
 ・入場時間\n開始の10分前から\nポータルサイト会員登
 録のお願い\n株式会社AVILENでは、ポータルサイトを使
 って講座で扱う教材を受講者の皆様に共有いたします
 。\n初めてAVILENの講座に参加される方は、あらかじめ
 こちらより会員登録をお願いいたします。\nお問い合
 わせ\n・講義に関するご質問等はこちらのフォームか
 らお問い合わせください。可能な範囲で対応致します
 。\n\n・こちらで⇨LINE公式アカウントからもお問い合
 わせいただけます。（推奨）\n注意事項\n・リクルーテ
 ィング、勧誘、採用活動など、目的に沿わない行為に
 つきまして、主催者が相応しくないと判断した場合は
 即刻退出処分とします。全員が気持ちよく過ごすこと
 が出来るよう、ご協力をお願い致します。\n・講座内
 で扱うコンテンツは全て「株式会社AVILEN」に帰属して
 います。複製はご遠慮ください。\n・個人ブログへの
 講義コンテンツの掲載はご遠慮ください。\n・最小遂
 行人数は「3名」です。開催日の前日までにこの人数に
 達しない場合は中止となります。ただし、複数の媒体
 で募集を行っているので、本サイトの申込者数が最小
 遂行人数に達しない場合でも開催になる場合がござい
 ます。もし、中止が決定した場合はその時点で「全額
 返金」し、登録しているメールアドレスにご連絡させ
 ていただきます。\n・前払いの方で急遽参加できなく
 なってしまった場合は、資料配布またはキャンセルに
 応じます。お問い合わせフォームまたはLINE公式アカウ
 ント（推奨）にご連絡ください。キャンセルの場合は
 、開催日の4日前までのご連絡に限り、払い戻し手数料
 を差し引いた金額を返金いたします。それ以降は返金
 には応じ兼ねますのでご了承ください。\n株式会社AVILE
 Nとは\n株式会社AVILENは「テクノロジーをより多くの人
 に」というミッションを掲げAI領域に特化したビシネ
 スを展開しています。社員のほとんどがデータサイエ
 ンティストで組織され、ディープラーニングを用いた
 、アルゴリズムの開発や、データ活用コンサルティン
 グを行っています。また、AI活用の現場で得た知見を
 、AI人材育成事業やAIメディア事業（AVILEN AI Trend）で世
 の中に広げる活動をしています。
LOCATION:オンライン
URL:https://techplay.jp/event/801104?utm_medium=referral&utm_source=ics&utm
 _campaign=ics
END:VEVENT
END:VCALENDAR
