BEGIN:VCALENDAR
VERSION:2.0
PRODID:-//https://techplay.jp//JP
CALSCALE:GREGORIAN
METHOD:PUBLISH
X-WR-CALDESC:満員御礼！！【オンライン開催！】SDGsボード
 ゲーム体験会
X-WR-CALNAME:満員御礼！！【オンライン開催！】SDGsボード
 ゲーム体験会
X-WR-TIMEZONE:Asia/Tokyo
BEGIN:VTIMEZONE
TZID:Asia/Tokyo
BEGIN:STANDARD
DTSTART:19700101T000000
TZOFFSETFROM:+0900
TZOFFSETTO:+0900
TZNAME:JST
END:STANDARD
END:VTIMEZONE
BEGIN:VEVENT
UID:801220@techplay.jp
SUMMARY:満員御礼！！【オンライン開催！】SDGsボードゲー
 ム体験会
DTSTART;TZID=Asia/Tokyo:20201228T200000
DTEND;TZID=Asia/Tokyo:20201228T213000
DTSTAMP:20260425T131615Z
CREATED:20201129T122344Z
DESCRIPTION:イベント詳細はこちら\nhttps://techplay.jp/event/80122
 0?utm_medium=referral&utm_source=ics&utm_campaign=ics\n\n満員御礼【
 オンライン開催！】SDGsボードゲーム体験会\n参加者の
 希望に沿えるように会場で直接ボードゲームもできる
 し、まだ外出を控えたくオンライン参加もできるよう
 にしました。\n※ZoomのURLは、開催30分前にはTECHPLAYメッ
 セージにて申し込み頂いた方にご案内します。\n◆Zoom
 　事前ダウンロードお願いします。\nhttps://zoom.us/\n\n内
 容\n協会では現在、協会オリジナルポードゲーム、「Su
 stainable World BOARDGAME」の体験会を実施しています。\n毎
 回好評頂いてる累計1\,000名以上に参加頂いている「SDGs
 ワークショップ」からボードゲームに特化し、学生か
 ら社会人まで誰でも楽しみながらゲームを通じてSDGsを
 学べる内容です。\nSDGsの事例にはTech（未来技術）の要
 素も満載です！\nボードゲームのルールも大幅にリニ
 ューアルし、より現実に即した内容となっています！
 ！\nSDGsボードゲーム「Sustainable World BOARDGAME」が、2020年
 3月9日（月）に、ソーシャルプロダクツ・アワード2020
 「ソーシャルプロダクツ賞」を受賞しました。\nhttps://
 future-tech-association.org/2020/03/09/sustainable_world_boardgame_social
 productsaward_2020/\n本研修はこんな方にオススメ\n・SDGsを
 気軽に学びたい方\n・SDGsや社会課題に関連する仕事を
 されている方\n・SDGsに関する教育や研修にご関心のあ
 る方\n・未来技術推進協会やボードゲームに興味をお
 持ちいただいた方\n・認定ファシリテーターに興味が
 ある方\nどなたでも最大限楽しめる内容になっており
 、「自分も何か行動したい！」という想いを持った方
 同士で、将来に繋がる仲間がきっと見つかります！\n
 また、オンラインを活かして将来的には47都道府県に
 て同時開催のワークショップも視野に入れています！\
 nぜひ、日本全国にファシリテーターを輩出すべく仲間
 が増えたら嬉しいです！\nSDGsとは\nSustainable Development Go
 als（持続可能な開発目標）の略称で、国連が2015年に採
 択した、持続可能な世界を目指すための全世界共通の
 ゴールのことです。\nこの達成には一人一人が意識し
 行動することが求められているが、まだまだ認知度が
 低く、協会も認知拡大やテクノロジーによる解決に向
 けた活動に力を入れています。\n\nタイムスケジュール
 \n\n\n\n時間\n内容\n\n\n\n\n19:55〜\n接続開始\n\n\n20:00〜\nイ
 ベントスタート\n\n\n21:30〜\n終了\n\n\n\n※ 当日予告なく
 時間配分・内容が変更になる可能性がございます。\n
 ※ 顔出しでご参加いただけますと幸いです\n※ 途中参
 加、途中退出可能です\n※ ZOOMを始めて利用される方は
 、お時間があれば\n　 早めにご参加いただけるとスム
 ーズかと思います。\n会場\nオンライン開催\n※テレビ
 会議ツールZoomを利用します。\n日時\n2020/12/28（月）\n20
 :00 〜 21:30 (予定)\n定員\n50名\n参加費\n無料\nお申し込み
 \n本サイトよりお申し込みください。\n※万が一新型コ
 ロナウイルスで開催不可になった際\n主催者の判断で
 中止となる場合があります。\nその際、イベント日程
 を延期させて頂きますので改めて周知致します。\nお
 問い合わせ\n一般社団法人\n未来技術推進協会\n企画担
 当者　北畑\nTel：090-5018-7979\nhttps://future-tech-association.org
 /\n事前アンケート内容\nお名前\nメールアドレス\n所属\
 n電子領収書の要否\nこのイベントに期待する事
LOCATION:Zoomオンライン
URL:https://techplay.jp/event/801220?utm_medium=referral&utm_source=ics&utm
 _campaign=ics
END:VEVENT
END:VCALENDAR
