BEGIN:VCALENDAR
VERSION:2.0
PRODID:-//https://techplay.jp//JP
CALSCALE:GREGORIAN
METHOD:PUBLISH
X-WR-CALDESC:Flutter × Kotlin Multiplatform by CyberAgent #1
X-WR-CALNAME:Flutter × Kotlin Multiplatform by CyberAgent #1
X-WR-TIMEZONE:Asia/Tokyo
BEGIN:VTIMEZONE
TZID:Asia/Tokyo
BEGIN:STANDARD
DTSTART:19700101T000000
TZOFFSETFROM:+0900
TZOFFSETTO:+0900
TZNAME:JST
END:STANDARD
END:VTIMEZONE
BEGIN:VEVENT
UID:801629@techplay.jp
SUMMARY:Flutter × Kotlin Multiplatform by CyberAgent #1
DTSTART;TZID=Asia/Tokyo:20201221T190000
DTEND;TZID=Asia/Tokyo:20201221T210000
DTSTAMP:20260425T015708Z
CREATED:20201202T141109Z
DESCRIPTION:イベント詳細はこちら\nhttps://techplay.jp/event/80162
 9?utm_medium=referral&utm_source=ics&utm_campaign=ics\n\n概要\nサイ
 バーエージェントメディア事業部では、スピード感を
 もって品質の高い実装を行うために、少人数でアプリ
 開発を行うことを念頭に置きクロスプラットフォーム
 フレームワークの導入を進めております。\n今回は Flut
 ter、Kotlin Multiplatform を中心に開発の中でのTipsをお話し
 します。\nオンライン開催となりますので、ご興味あ
 る方是非お気軽にご応募下さい。\n※後半はzoom懇親会
 もご用意しております。\n\n開催日：2020年12月21日（月
 ）19:00 ZOOM 開放 19:15スタート\n場所：オンライン（ZOOM
 ）\n参加費：無料\n\nZOOMに関して\n参加者宛に、後日参
 加のための URL を連絡しますので、 connpass からのメー
 ルを受信できる状態にしてください。なお、 URL の SNS 
 などへのシェアはお控えいただきますようお願いいた
 します。\n本勉強会は Zoomミーティングのみでの開催 
 です。YouTube Live等へのストリーミングは行いません。
 参加には Zoomアカウントが必須 となりますので、Zoomア
 カウントをお持ちでない方は当日までにアカウント登
 録を行ってください。\n注意事項\n\n技術交流が目的の
 勉強会ですので、知識の共有および、参加者同士の交
 流を目的としない参加はお断りしています。\n参加目
 的が不適切だと判断される場合には、運営側で参加を
 キャンセルさせていただく場合がございます。\nイベ
 ント開催中に上記に該当する不適切な参加者であると
 判断できた場合は、 ZOOM への接続を無効化させて頂く
 場合がございます。\n\n登壇者\nDaichi Furiya\, 株式会社サ
 イバーエージェント\n\n\nGitHub:  wasabeef  Twitter: wasabeef_jp\
 nGoogle Developers Expert for Android. #shibuya_apk\n\nKyohei Ito\, 株
 式会社サイバーエージェント\n\n\nGitHub:  KyoheiG3  Twitter: 
 kyoheig3\nサイバーエージェントのiOSアプリエンジニア 
 最近はFlutterでも開発してます\n\nYasuhiro Shimizu\, 株式会
 社ドットマネー\n\n\nGitHub:  yshrsmz  Twitter: _yshrsmz\nAndroid/F
 lutter/Web/JavaScript engineer. Creator of Omnitweety\, Monotweety and Si
 nceTimer. \n英日翻訳やります。\n\nShotaro Tao\, 株式会社サ
 イバーエージェント\n\n\nGitHub:  taoshotaro  Twitter: taoshotaro
 \n20 y/o developer. My name is Shotaro Tao. I make apps\, servers and som
 etimes designs.My opinions are my own. Oh yeah\, I also like mech \n\nタ
 イムテーブル\n※ 発表内容が決まり次第、順次更新し
 ていきます。\n\n\n\n時間\n\n\n\n\n\n19:00\n受付開始\n\n\n19:1
 5 - 19:30\nイベント趣旨/会社説明\n\n\n19:30 - 20:30\n『　Skia
  と Skija  と Skiko　』 15分Daichi Furiya 『 読解 Flutter Hooks 
 』15分Kyohei Ito 『 ドットマネーで KMP を導入してみて 
 』15分Yasuhiro Shimizu 『Flutter に iOS 14 などの新機能を取
 り込むには　』15分Shotaro Tao\n\n\n20:30 - 21:00\nオンライン
 懇親会\n\n\n\n※ 適宜休憩を取ります。\n※ 当日予告な
 く時間配分、内容が変更になる可能性がございます。\
 n個人情報の取扱いについて\n主催：株式会社サイバー
 エージェント\n申し込み時にご提供いただいた情報は
 、イベント受付管理や各種ご案内（サービス・イベン
 ト等）に利用させていただきます。
LOCATION:オンライン オンライン
URL:https://techplay.jp/event/801629?utm_medium=referral&utm_source=ics&utm
 _campaign=ics
END:VEVENT
END:VCALENDAR
