BEGIN:VCALENDAR
VERSION:2.0
PRODID:-//https://techplay.jp//JP
CALSCALE:GREGORIAN
METHOD:PUBLISH
X-WR-CALDESC:【無料】機械学習・データサイエンス基礎講
 座（２）
X-WR-CALNAME:【無料】機械学習・データサイエンス基礎講
 座（２）
X-WR-TIMEZONE:Asia/Tokyo
BEGIN:VTIMEZONE
TZID:Asia/Tokyo
BEGIN:STANDARD
DTSTART:19700101T000000
TZOFFSETFROM:+0900
TZOFFSETTO:+0900
TZNAME:JST
END:STANDARD
END:VTIMEZONE
BEGIN:VEVENT
UID:801808@techplay.jp
SUMMARY:【無料】機械学習・データサイエンス基礎講座（
 ２）
DTSTART;TZID=Asia/Tokyo:20210227T190000
DTEND;TZID=Asia/Tokyo:20210227T210000
DTSTAMP:20260424T114539Z
CREATED:20201203T150221Z
DESCRIPTION:イベント詳細はこちら\nhttps://techplay.jp/event/80180
 8?utm_medium=referral&utm_source=ics&utm_campaign=ics\n\nMicrosoft Teams 
 会議の定員は 250名ですが、補欠の出ないように400人募
 集します。\nこれまでの実績では、実際に参加する人
 は申込みの　40〜50% ですので問題ないと予想していま
 す。\n万が一、当日250名を超えるアクセスがあった場
 合、参加出来ない可能性があることを予めご了承くだ
 さい。\nゼロから始めて、１年間でPythonでのディープ
 ラーニングの基礎までの機械学習を講義します。\n会
 議方法： Microsoft Teams 会議（アカウント不要）※開始
 後１０分以降は入室を認めません。\n講師：\n・井伊（
 異業種データサイエンス研究会主宰）\n・張\n・柿ピー
   \n参加資格：\nなし\n第２回：\n可視化プログラミング
 （グラフ作成）    (予告なしに変更するかもしれませ
 ん）\n・Pandas\n・Matplotlib\n・Seaborn\n・Plotly\n・Folium  \n＜
 機械学習・データサイエンス基礎講座　年間予定＞\n
 土曜日 19:00 - 21:00\n(01)  1/30 データサイエンスのためのP
 ython入門\n(02)  2/27 可視化プログラミング（グラフ作成
 ）\n(03)  3/27 教師あり学習・回帰\n(04)  4/24 教師あり学
 習・分類\n(05)  6/26 教師なし学習（次元削減・クラスタ
 リング）\n(06)  7/24 前処理とEDA\n(07)  8/28 特徴量エンジ
 ニアリング\n(08)  9/25 Hyper parameters最適化と説明可能な
 機械学習\n(09) 10/23 OpenCVによる画像処理\n(10) 11/27 ディ
 ープラーニングによる画像分類（１）\n(11) 12/18 ディー
 プラーニングによる画像分類（２）  \n＜自然言語処理
  (NLP) 基礎講座予定＞\n土曜日 19:00 - 21:00\n(1) 5/8   日本
 語形態素解析とワードクラウド\n(2) 6/12  特徴量作成（B
 oW / TF-IDF）\n(3) 7/11  トピックモデル\n(4) 8/7   分散表現
 （Word2Vec等）\n(5) 9/11  RNN と LSTM\n(6) 10/10 Transfomer と BERT 
  \n＜２０２１年　無料公開講座＞\n・1/09 Python によるAB
 テスト分析\n・1/16 Raspberry Pi による IoT 超入門（１）\n
 ・1/23 Python によるデータ可視化\n・2/06 R による機械学
 習\n・2/13 Tensorflow vs PyTorch\n・2/20 Pytho AutoML トライアル 
 \n・3/06 PyTorch による物体認識\n・3/13 ３大Tree系Boostバリ
 バリチューニング\n・3/20 ラズパイ de Mathematica\n・3/28 AI
  英語勉強会\n・4/03 Classic Mac OS エミュレーション on Wind
 ows\n・4/10 Python vs R on Data Science\n・4/17 欠損値処理 by Pyth
 on and R\n・4/25 クラウド無料GPUを使い倒す術\n・5/01 最短
 1時間で画像分類Webアプリ制作\n・5/15 NLPフリーソフト K
 H Coder入門\n・5/22 真面目にPythonの文法棚卸し\n・5/29 git/
 github 超入門\n・6/05 Python 機械学習アルゴリズム実装（
 １）決定木とランダムフォレスト  \n※ アジェンダお
 よび講師は予告なく変更する場合があります。\n※ セ
 ミナーの内容はビデオ撮影いたします。\n※ セミナー
 で使用する資料・コード等は、別途有償（PayPal もしく
 は銀行振込・振込手数料別途負担）で配布します。
LOCATION:Teams 会議 オンライン
URL:https://techplay.jp/event/801808?utm_medium=referral&utm_source=ics&utm
 _campaign=ics
END:VEVENT
END:VCALENDAR
