BEGIN:VCALENDAR
VERSION:2.0
PRODID:-//https://techplay.jp//JP
CALSCALE:GREGORIAN
METHOD:PUBLISH
X-WR-CALDESC:『歴史と伝統の大手企業と沖縄発スタートア
 ップによるIoT/AIサービス開発を語る』Webセミナー
X-WR-CALNAME:『歴史と伝統の大手企業と沖縄発スタートア
 ップによるIoT/AIサービス開発を語る』Webセミナー
X-WR-TIMEZONE:Asia/Tokyo
BEGIN:VTIMEZONE
TZID:Asia/Tokyo
BEGIN:STANDARD
DTSTART:19700101T000000
TZOFFSETFROM:+0900
TZOFFSETTO:+0900
TZNAME:JST
END:STANDARD
END:VTIMEZONE
BEGIN:VEVENT
UID:802096@techplay.jp
SUMMARY:『歴史と伝統の大手企業と沖縄発スタートアップ
 によるIoT/AIサービス開発を語る』Webセミナー
DTSTART;TZID=Asia/Tokyo:20201222T173000
DTEND;TZID=Asia/Tokyo:20201222T190000
DTSTAMP:20260421T002103Z
CREATED:20201207T041736Z
DESCRIPTION:イベント詳細はこちら\nhttps://techplay.jp/event/80209
 6?utm_medium=referral&utm_source=ics&utm_campaign=ics\n\n\n『歴史と
 伝統の大手企業と沖縄発スタートアップによるIoT/AIサ
 ービス開発を語る』Webセミナー\nデータサイエンティ
 スト協会では、分析・データサイエンスの実務に携わ
 る方を対象に、スキルアップとコミュニケーションの
 場の創出を目的として、セミナーを行っています。今
 回は以下の講演を開催いたします。\n概要説明\n2020年
 代に入り、データ活用やAIへの取り組みへの関心は、
 東京のみならず、各地にも広がりをみせています。一
 方で地方でのAIビジネスの成功モデルの多くは東京を
 中心とする事例が注目されることが多く、地方でこれ
 からAIによる新規事業を検討されている担当者にとっ
 ては、地方での成功モデルを模索されていることかと
 思います。本セミナーでは沖縄発で先進的なスタート
 アップ企業であるLiLzさんと、歴史と伝統のある空調設
 備大手の高砂熱学工業さんの協業の取り組みをご紹介
 頂き、地方発のAIビジネスの成功のヒントを探ります
 。\n\n講演：『大企業とスタートアップの共創で産まれ
 たIoT/AIサービス「LiLz Gauge」は何故PoCで終わらなかった
 のか』\n大企業とスタートアップによるオープンイノ
 ベーションの取り組みは現在盛んに行われていますが
 うまく進めるためにはお互い気をつけるポイントがあ
 ります。LiLzのIoT/AIサービス「LiLz Gauge」は東証一部上
 場の高砂熱学工業様との共同開発にて産まれました。P
 oCで終わることなく、サービスインするまでの苦労話
 など踏まえて、スタートアップ、大企業、それぞれの
 視点からお話ししたいと思います。\nパネルディスカ
 ッション\n前段のLiLz社、及び高砂熱学工業社の取り組
 み事例のセッションを受け、当協会の九州支部メンバ
 ーを交えてのパネルディスカッションを行います。当
 日は参加者の方からの質問をslido（予定）にて受け付
 けます。\n\n登壇者\n\n\n\n\n\n\nLiLz株式会社代表取締役社
 長\n大西 敬吾氏\n\n愛媛県出身。広島大学大学院修了後
 、広島のITベンチャーに飛び込む。エンジニアとして
 、工場やデジタル家電向けのGUI開発環境の立ち上げに
 貢献。8年前に沖縄移住し、クラウド業界でプロダクト
 マネージャーとして活動後、2017年にAI/IoT特化のLiLz株
 式会社を創業。3名の機械学習研究開発チームとともに
 現場の課題解決に挑む。現在、高砂熱学工業株式会社
 と協業し点検現場をラクにするサービス「LiLz Gauge」を
 提供中。専用のIoTカメラ「LiLz Cam」量産開始。CEATEC AWAR
 D 2019 トータルソリューション部門グランプリ獲得。琉
 球大学 工学部 非常勤講師、日本体育協会公認テニス
 指導員。娘は5歳。\n\n\n高砂熱学工業株式会社経営企画
 本部 経営企画部 フロンティアビジネス開発室室長\n秋
 山 貴洋氏\n\n千葉県出身。東京理科大学大学院修了後
 、高砂熱学工業入社。病院やオフィスビルの空調設備
 の施工管理に従事した後、R&D部門にて半導体や二次電
 池の生産環境のクリーン化や低湿度化技術の研究開発
 を担当。2017年に、事業開発部門にて、当時建設業界で
 は珍しかったアクセラレータプログラムの立ち上げを
 主導。現在、経営企画部門にて新事業企画やオープン
 イノベーション推進を担っている。\n\n\nワークスアイ
 ディ株式会社アークテック事業部 データサイエンスグ
 ループシニアデータサイエンティスト マネージャー\n
 福原 好隆氏\n\n大学卒業・海外留学後、通販会社にて
 データ分析チーム責任者等を経てデータサイエンティ
 ストへ。DX化・データサイエンスプロジェクトのプロ
 ジェクト推進、データサイエンティスト養成講座講師
 などを担当。九州・東京エリアにおけるデータサイエ
 ンス事業の立ち上げ・拡大を推進中。\n\n\n九電ビジネ
 スソリューションズ株式会社QBS-Labシステムエンジニア
 \n中村 哲氏\n\n2020年9月に開設した「ＡＩテクニカルセ
 ンター」に所属し、AI・分析案件及び研究開発に従事
 。また、データサイエンティスト協会九州支部のメン
 バーとして活動。\n\n\nNOB DATA株式会社代表取締役社長\n
 大城 信晃氏\n\nNOB DATA株式会社代表取締役社長、データ
 サイエンティスト。2017年の東京から福岡への移住をき
 っかけにLINE Fukuoka株式会社を経て起業。現在は福岡に
 拠点を置きつつもリモート環境を活用し、福岡のみな
 らず東京・大阪・広島などのべ20社のデータサイエン
 スプロジェクトに参画。また本業と並行し、地方のデ
 ータ活用を盛り上げるべく2019年2月にデータサイエン
 ティスト協会九州支部委員会の立ち上げを行い、デー
 タサイエンスの啓蒙活動を精力的に行っている。\n\n\n\
 n\nタイムスケジュール\n\n\n\n\n時間\n講演内容\n\n\n17:30 -
  17:35\nデータサイエンティスト協会 挨拶\n\n\n17:35 - 18:25
 \n『大企業とスタートアップの共創で産まれたIoT/AIサ
 ービス「LiLz Gauge」は何故PoCで終わらなかったのか』 Li
 Lz株式会社　大西 敬吾氏、高砂熱学工業株式会社　秋
 山 貴洋氏\n\n\n18:25 - 18:55\n『パネルディスカッション』
  【パネリスト】LiLz株式会社　大西 敬吾氏、高砂熱学
 工業株式会社　秋山 貴洋氏、ワークスアイディ株式会
 社　福原 好隆氏、九電ビジネスソリューションズ株式
 会社　中村 哲氏【モデレーター】NOB DATA株式会社　大
 城 信晃氏\n\n\n18:55 - 19:00\nデータサイエンティスト協会
  挨拶\n\n\n\n\n参加対象\n\n本セミナーに興味がある方ど
 なたでもご参加いただけます。\n※ データサイエンテ
 ィスト協会の一般（個人）会員ではない方は、参加時
 に会員登録（無料）をお願いしております。\n\n参加費
 \n無料\n参加方法\nお申し込み後に本ページを開いてい
 ただくと、「配信ページを表示」ボタンが表示されま
 すので、そちらからYouTubeへアクセス願います。※URLは
 イベント開催前日までに更新予定です。\n注意事項\n\n\
 n通信等の不具合により、やむを得ず配信方法の変更や
 急きょ配信を中止する場合があります。\n配信側の回
 線状況により通信が切断された場合、YouTubeのURLが変更
 となりますので、画面を再読み込みしても再生されな
 い場合は、再度本ページの「配信ページを表示」ボタ
 ンよりアクセス願います。\nアーカイブ・講演資料の
 公開予定はありません。\nセミナー内容の録画や画面
 キャプチャはご遠慮願います。\n質問投稿用のslidoURLは
 当日YouTubeのチャット欄にてご案内します。\n\nお申し
 込み時にご提供いただいた情報は、一般社団法人デー
 タサイエンティスト協会に提供し、イベント参加管理
 と今後のイベント開催等のご案内に利用させていただ
 きます。 上記にご同意のうえお申し込みください。\n 
 お願い \nデータサイエンティスト協会の一般（個人）
 会員に未登録の方は、以下より事前登録（無料）くだ
 さい。\nhttp://www.datascientist.or.jp/membership/\n\n主催\n一般
 社団法人データサイエンティスト協会\n\n
LOCATION:YouTubeライブでの配信
URL:https://techplay.jp/event/802096?utm_medium=referral&utm_source=ics&utm
 _campaign=ics
END:VEVENT
END:VCALENDAR
