BEGIN:VCALENDAR
VERSION:2.0
PRODID:-//https://techplay.jp//JP
CALSCALE:GREGORIAN
METHOD:PUBLISH
X-WR-CALDESC:計画的にWEB広告運用出来てますか？Web広告に
 おける中長期の計画の立て方
X-WR-CALNAME:計画的にWEB広告運用出来てますか？Web広告に
 おける中長期の計画の立て方
X-WR-TIMEZONE:Asia/Tokyo
BEGIN:VTIMEZONE
TZID:Asia/Tokyo
BEGIN:STANDARD
DTSTART:19700101T000000
TZOFFSETFROM:+0900
TZOFFSETTO:+0900
TZNAME:JST
END:STANDARD
END:VTIMEZONE
BEGIN:VEVENT
UID:802107@techplay.jp
SUMMARY:計画的にWEB広告運用出来てますか？Web広告におけ
 る中長期の計画の立て方
DTSTART;TZID=Asia/Tokyo:20201216T160000
DTEND;TZID=Asia/Tokyo:20201216T170000
DTSTAMP:20260422T134506Z
CREATED:20201207T060251Z
DESCRIPTION:イベント詳細はこちら\nhttps://techplay.jp/event/80210
 7?utm_medium=referral&utm_source=ics&utm_campaign=ics\n\n計画的にWEB
 広告運用出来てますか？\nWeb広告における中長期の計
 画の立て方\n12月16日（水）16:00～\n\nウェビナー後のア
 ンケートにて希望された方限定で、弊社保有のビッグ
 データに基づいた競合調査や貴社サイト課題点・改善
 点を用いた面談も行っております。お時間のある方は
 ぜひご参加ください。\n▼こんな方にオススメです！\n
 ・Web広告の適切な運用方法を知りたいご担当者様\n・
 目標に対して施策量が必要十分か分からないご担当者
 様\n・そもそも課題が発見出来ていないご担当者様\n▼
 ウェビナー内容\n・Web広告で中長期計画・スケジュー
 ルを立てる意義・中長期の計画・スケジュールの立て
 方\n・現状整理と目標との乖離\n・施策テーマと施策計
 画\n▼ウェビナー開催概要\n・開催日時2020年12月16日（
 水）16:00～17:00・参加費無料・開催方法ウェビナー　※
 Zoomを利用します・参加方法お申込後に、別途担当者よ
 りメールにてご案内致します。\n\n▼タイムスケジュー
 ル\n\n\n\n時間\n内容\n\n\n15:58〜\n視聴用URL開場\n\n\n16:00〜
 16:40\nウェビナー本編\n\n\n16:40〜17:00\n質疑応答・アンケ
 ート回答　※質問がなくなり次第終了\n\n\n\n※ 当日予
 告なく時間配分・内容が変更になる可能性がございま
 す。\n▼講師紹介\n\n尾崎　篤志\n株式会社CINCコンサル
 タント\n\n\n古川　拓\n株式会社CINCコンサルタント\n▼
 参加対象\n・事業会社のマーケティング担当者\n・事業
 会社の事業責任者様\n・事業会社の経営者様\n\n▼注意
 事項\n競合他社/同業者/企業にご所属でない個人の方か
 らのお申込みなど、 当社の判断によりセミナー参加を
 お断りする場合があります。予めご了承ください。\n 
LOCATION:オンラインセミナー
URL:https://techplay.jp/event/802107?utm_medium=referral&utm_source=ics&utm
 _campaign=ics
END:VEVENT
END:VCALENDAR
