BEGIN:VCALENDAR
VERSION:2.0
PRODID:-//https://techplay.jp//JP
CALSCALE:GREGORIAN
METHOD:PUBLISH
X-WR-CALDESC:第0回 Okta 勉強会
X-WR-CALNAME:第0回 Okta 勉強会
X-WR-TIMEZONE:Asia/Tokyo
BEGIN:VTIMEZONE
TZID:Asia/Tokyo
BEGIN:STANDARD
DTSTART:19700101T000000
TZOFFSETFROM:+0900
TZOFFSETTO:+0900
TZNAME:JST
END:STANDARD
END:VTIMEZONE
BEGIN:VEVENT
UID:802221@techplay.jp
SUMMARY:第0回 Okta 勉強会
DTSTART;TZID=Asia/Tokyo:20210112T190000
DTEND;TZID=Asia/Tokyo:20210112T210000
DTSTAMP:20260424T211406Z
CREATED:20201207T142028Z
DESCRIPTION:イベント詳細はこちら\nhttps://techplay.jp/event/80222
 1?utm_medium=referral&utm_source=ics&utm_campaign=ics\n\n■ Japan Okta U
 ser Group について\nOkta の公式セミナーやイベントでは
 ありません。\n本勉強会についての質問は Okta ではな
 く connpass から直接お問い合わせください。\nこの勉強
 会での目標は、 Oktaって興味あるけどなんだかよくわ
 からない →→ なんとなくわかったかもしれない？ で
 す。今回の勉強会では、\n◆Okta とは\n◆Okta導入時のポ
 イント\n上記のような基礎的内容のセッションを予定
 しています。まずは Okta に触れてみようという内容で
 、みんなで一緒に勉強してみませんか？というテーマ
 でもあります。\nOkta についての疑問点やわからない点
 などを是非ともお持ちよりください。今後の勉強会で
 課題としてディスカッションしたり宿題として問題の
 解決や情報の共有をしたいと考えています。\n今回の
 勉強会は Japan Okta Users Group として最初の勉強会となり
 ます。\n内容、各セッションの時間等の運営について
 は運営も手探りな状態の為、本勉強での皆様からのフ
 ィードバックを期待しています。\nフィードバックや
 実施結果に基づいて、今後の勉強会をより良いものに
 していきたいと考えています。(フィードバックはイベ
 ント当日にアンケート回答用ページをお伝えするので
 、そちらで是非ご回答ください。)\n注意事項\n発表者
 ・管理者枠は管理用ですので利用しないでください\n
 今回の発表者はすでに指名済みです。\n間違って発表
 者・管理者枠に登録された場合ご参加いただけません
 のでご注意ください。\n当日は説明事項を遵守してく
 ださい。\n■ハッシュタグ\n‪ #joug\n■日時\n2021年1月12
 日(火)　19:00開始\n■ 場所\nオンライン Zoomを予定\n■ 
 内容\n● セッション（仮）順番内容は変更になる可能
 性があります\n時間は目安です。\n\n\n\n時間(予定)\nタ
 イトル\n発表者\n\n\n\n\n19:00～19:10\n諸所注意事項等々\nJO
 UG運営事務局\n\n\n19:10～19:40\nHi from Okta\nOkta Japan 渡邉 崇
 さん\n\n\n19:50～20:20\n「Oktaが好き」も理由になる：導入
 の前に抑えておきたい4つ視点\n中野翔三さん\n\n\n20:20
 〜20:40\nOktaの今後の取組\nOkta Japan 渡邉 崇さん\n\n\n20:40
 ～21:00\nQ&A\n登壇者\n\n\n21:00～22:00\n懇親会\nZoomブレイク
 アウトルームを予定\n\n\n\nリンク\nFacebookコミュニティ
 「Japan OktaUser Group」も運営しています。 \nhttps://www.faceb
 ook.com/groups/japanoktausergroup
LOCATION:オンライン
URL:https://techplay.jp/event/802221?utm_medium=referral&utm_source=ics&utm
 _campaign=ics
END:VEVENT
END:VCALENDAR
