BEGIN:VCALENDAR
VERSION:2.0
PRODID:-//https://techplay.jp//JP
CALSCALE:GREGORIAN
METHOD:PUBLISH
X-WR-CALDESC:【22新卒限定】くらしのマーケット・ECコンサ
 ルタントにまつわるギモンに本部長が全部答える説明
 会
X-WR-CALNAME:【22新卒限定】くらしのマーケット・ECコンサ
 ルタントにまつわるギモンに本部長が全部答える説明
 会
X-WR-TIMEZONE:Asia/Tokyo
BEGIN:VTIMEZONE
TZID:Asia/Tokyo
BEGIN:STANDARD
DTSTART:19700101T000000
TZOFFSETFROM:+0900
TZOFFSETTO:+0900
TZNAME:JST
END:STANDARD
END:VTIMEZONE
BEGIN:VEVENT
UID:802287@techplay.jp
SUMMARY:【22新卒限定】くらしのマーケット・ECコンサルタ
 ントにまつわるギモンに本部長が全部答える説明会
DTSTART;TZID=Asia/Tokyo:20201221T170000
DTEND;TZID=Asia/Tokyo:20201221T180000
DTSTAMP:20260424T121758Z
CREATED:20201208T070120Z
DESCRIPTION:イベント詳細はこちら\nhttps://techplay.jp/event/80228
 7?utm_medium=referral&utm_source=ics&utm_campaign=ics\n\nイベント概
 要\n※22新卒限定※\nくらしのマーケットの【ECコンサ
 ルタント職】について、役割や具体的な業務内容のご
 紹介、コンサルティング本部長と直接話ができるイベ
 ントです！\n会社概要だけではなくECコンサルタントの
 おもしろさについて話します。\n実際に働く上でのや
 りがいや大変さ、リモートで働く環境などについて、
 できる限り何でもお話し＆お答えします！\n質問した
 いことがありましたら、申し込みフォームにいくつで
 も記載してください！\nこんなことをお話します：\n・
 ECコンサルタントってどんな仕事をするの？\n・ECコン
 サルタントはどんな人が向いてるの？\n・コンサルテ
 ィング本部長と話してみたい！\n・ECコンサルタントに
 まつわるギモンを正直に本部長が答えます！\nEC業界で
 本気でチャレンジをしたい方、世の中のデファクトス
 タンダードを拓いていきたい方、少しでも当社に興味
 のある方はぜひご参加ください！\n当社は今年7月より
 フルリモートワークで成果を求める働き方に生まれ変
 わったことで、世界中から「正直者が馬鹿を見ない世
 界をつくる」メンバーを積極的に募集しています。\n
 内容\n1.会社概要などについて 15分\n2.ECコンサルタント
 について（コンサルティング本部長登壇）\n-くらしの
 マーケットのECコンサルタントの具体的な仕事内容\n-
 異業種からIT業界への転職について\n-フレックスやフ
 ルリモートワークの働き方について\n-キャリアアップ
 について\nなど\n【本部長プロフィール】\nTsushima：執
 行役員　コンサルティング本部長\nリクルート（現リ
 クルートライフスタイル）勤務を経て、2016年7月、み
 んなのマーケット株式会社に入社。\nECコンサルタント
 とは\nコンサルタントの主な業務は、出店者に対し、
 電話やメールで運営のアドバイスやサービスページ改
 善のフォローをすることです。\nくらしのマーケット
 のお客様に、より魅力的なサービスを提供するため、
 ​出店者の方々と一緒になって事業を創っていきます
 。\nまさにくらしのマーケットの核とも言える重要な
 業務です。\n詳しくは採用情報をご覧ください。\nコン
 サルティング本部紹介動画はこちら\n開催日時\n12月21
 日（月）17:00~18:00\nタイムテーブル\n\n\n\n時間\n内容\n\n\
 n\n\n16:50~17:00\n受付時間\n\n\n17:00~17:15\n会社説明\n\n\n17:15~
 17:40\nECコンサルタントについて\n\n\n17:40~18:00\nQ&A\n\n\n\n
 申込方法\nZOOM開催となります。お申し込み後に実施ツ
 ールのURLをお知らせします。\n※受付時間内に実施先UR
 Lにアクセスしてください。\n※カメラオンでお顔が映
 る状態でご参加いただけますと幸いです。\n参加され
 る方へのお願い\n・お申し込みいただいた方は、必ずte
 chplay上で「配信URL」と「イベント参加者へのお知らせ
 」をご確認ください。当日の実施URLをご案内していま
 す。\n・イベント終了時にアンケートのご協力をお願
 い致します。\n注意事項\n※ 参加を辞退する場合は、
 詳細ページより申込のキャンセルをお願い致します。\
 n※ 無断キャンセル・欠席が続く場合、次回以降の参
 加をお断りさせていただく場合がございますのでご了
 承ください。\nみんなのマーケットについて\n私たちは
 「正直者が馬鹿を見ない世界をつくる」というビジョ
 ンの実現のため、「人と人が関わるサービスを、安心
 して取引できる仕組みを提供する」というミッション
 を果たすべく、オンラインマーケットプレイスである
 「くらしのマーケット」の運営を行っています。\n「
 くらしのマーケット」は生活関連のサービスを中心と
 した、サービスに関する日本最大級のインターネット
 商店街です。ハウスクリーニングや家事代行、出張カ
 メラマン、家電の取り付け、リフォームを始めとする2
 00以上のカテゴリの出張・訪問サービスを口コミや料
 金で比較して、オンラインで予約することができます
 。\nみんなのマーケットをもっと知る\n代表 浜野のイ
 ンタビュー \n会社が生まれ変わる話し\nみんなのマー
 ケット株式会社 note
LOCATION:オンライン（ZOOM開催）
URL:https://techplay.jp/event/802287?utm_medium=referral&utm_source=ics&utm
 _campaign=ics
END:VEVENT
END:VCALENDAR
