BEGIN:VCALENDAR
VERSION:2.0
PRODID:-//https://techplay.jp//JP
CALSCALE:GREGORIAN
METHOD:PUBLISH
X-WR-CALDESC:【21/22新卒向け説明会】12/22開催「くらしのマ
 ーケット」の急成長と共にメンバーがクリアしてきた
 ミッションとは
X-WR-CALNAME:【21/22新卒向け説明会】12/22開催「くらしのマ
 ーケット」の急成長と共にメンバーがクリアしてきた
 ミッションとは
X-WR-TIMEZONE:Asia/Tokyo
BEGIN:VTIMEZONE
TZID:Asia/Tokyo
BEGIN:STANDARD
DTSTART:19700101T000000
TZOFFSETFROM:+0900
TZOFFSETTO:+0900
TZNAME:JST
END:STANDARD
END:VTIMEZONE
BEGIN:VEVENT
UID:802294@techplay.jp
SUMMARY:【21/22新卒向け説明会】12/22開催「くらしのマーケ
 ット」の急成長と共にメンバーがクリアしてきたミッ
 ションとは
DTSTART;TZID=Asia/Tokyo:20201222T130000
DTEND;TZID=Asia/Tokyo:20201222T140000
DTSTAMP:20260424T050749Z
CREATED:20201208T081327Z
DESCRIPTION:イベント詳細はこちら\nhttps://techplay.jp/event/80229
 4?utm_medium=referral&utm_source=ics&utm_campaign=ics\n\nイベント概
 要\nTVCMでお馴染み「くらしのマーケット」を運営する 
 みんなのマーケットの新卒向け会社説明会です！\nく
 らしのマーケットは、市場のデファクトスタンダード
 を作っていくという大きなステージの中で、こつこつ
 と課題を一つずつクリアしてきました。\nMinma's Mission
 では、みんマで働くメンバーが実際にどのような業務
 を行い、ミッションをクリアしてきたのかをお話をさ
 せていただきます。\n今回はテクノロジー本部のプロ
 ダクトマネージャーが参加いたします！\nトーク内容\n
 coming soon!\nこんな方にオススメ！\n・実務レベルの業務
 内容を知りたい方\n・どれくらい裁量を持って働くこ
 とができるのかを知りたい方\n・業務においてどのよ
 うに課題を乗り越え、成長できるのかを知りたい方\n
 ・みんなのマーケットで働くことへのイメージを持ち
 たい方\n参加メンバー\nMegumi　テクノロジー本部\n入社6
 年目。採用担当、カテゴリ拡大、コンサルティングを
 経験した後、テクノロジー本部でプロダクトマネージ
 ャーに。\n現在はオンラインカード決済のプロダクト
 を担当。\n【司会進行】\nHidaka　コーポレート本部\n選
 考インターンを経て2018年4月に新卒入社。\n新卒/中途
 採用、社内広報などを担当。「猫より犬が好き」。\n
 インタビュー記事：「人に頼ったり、助けてもらった
 りしても良いんだ」、悩みに向き合ったリクルーター
 が見出したチームの信頼と絆\n【参考情報】\nコーポレ
 ートサイト\n採用情報\nnote\nくらしのマーケット開発ブ
 ログ\n参加対象者（21/22新卒限定）\n・当社へ入社意欲
 のある方\n・ベンチャー企業や裁量の大きい環境で仕
 事がしたい方\n・市場のデファクトスタンダードを切
 り開いている企業で働きたい方\n・ゴールに向かって
 組織で達成を目指したい方\n開催日時\n・12月22日（火
 ）13:00~14:00\nタイムテーブル\n\n\n\n時間\n内容\n\n\n\n\n12:5
 0~13:00\n受付時間\n\n\n13:00~13:15\n会社説明\n\n\n13:15~14:00\n
 ゲスト社員によるトーク\n\n\n13:20~14:00\n交流会（Q&A）\n\
 n\n\n実施方法\nZOOM開催となります。\nお申し込み後、必
 ず「オンライン配信情報」をご確認ください。実施URL
 をご案内しています。\n※受付時間内に実施先URLにア
 クセスしてください。\n※カメラオンでお顔が映る状
 態でご参加いただけますと幸いです。\n参加される方
 へのお願い\n・お申し込みいただいた方は、必ずtechplay
 上で「配信URL」と「イベント参加者へのお知らせ」を
 ご確認ください。当日の実施URLをご案内しています。\
 n・イベント終了時にアンケートのご協力をお願い致し
 ます。\n注意事項\n※ 参加を辞退する場合は、詳細ペ
 ージより申込のキャンセルをお願い致します。\n※ 無
 断キャンセル・欠席が続く場合、次回以降の参加をお
 断りさせていただく場合がございますのでご了承くだ
 さい。\nみんなのマーケットについて\n私たちは「正直
 者が馬鹿を見ない世界をつくる」というビジョンの実
 現のため、「人と人が関わるサービスを、安心して取
 引できる仕組みを提供する」というミッションを果た
 すべく、オンラインマーケットプレイスである「くら
 しのマーケット」の運営を行っています。\n「くらし
 のマーケット」は生活関連のサービスを中心とした、
 サービスに関する日本最大級のインターネット商店街
 です。ハウスクリーニングや家事代行、出張カメラマ
 ン、家電の取り付け、リフォームを始めとする200以上
 のカテゴリの出張・訪問サービスを口コミや料金で比
 較して、オンラインで予約することができます。
LOCATION:オンライン（ZOOM開催）
URL:https://techplay.jp/event/802294?utm_medium=referral&utm_source=ics&utm
 _campaign=ics
END:VEVENT
END:VCALENDAR
