BEGIN:VCALENDAR
VERSION:2.0
PRODID:-//https://techplay.jp//JP
CALSCALE:GREGORIAN
METHOD:PUBLISH
X-WR-CALDESC:12/18(金)認定プログラム最安値5万円コース登場
 ！E資格に向けた『JDLA認定プログラム』オンライン説
 明会
X-WR-CALNAME:12/18(金)認定プログラム最安値5万円コース登場
 ！E資格に向けた『JDLA認定プログラム』オンライン説
 明会
X-WR-TIMEZONE:Asia/Tokyo
BEGIN:VTIMEZONE
TZID:Asia/Tokyo
BEGIN:STANDARD
DTSTART:19700101T000000
TZOFFSETFROM:+0900
TZOFFSETTO:+0900
TZNAME:JST
END:STANDARD
END:VTIMEZONE
BEGIN:VEVENT
UID:802430@techplay.jp
SUMMARY:12/18(金)認定プログラム最安値5万円コース登場！E
 資格に向けた『JDLA認定プログラム』オンライン説明会
DTSTART;TZID=Asia/Tokyo:20201218T193000
DTEND;TZID=Asia/Tokyo:20201218T203000
DTSTAMP:20260419T211540Z
CREATED:20201209T142021Z
DESCRIPTION:イベント詳細はこちら\nhttps://techplay.jp/event/80243
 0?utm_medium=referral&utm_source=ics&utm_campaign=ics\n\n内容概要\n
 本説明会では、E資格取得を目指せる『ディープラーニ
 ング講座』についてお話いたします。\n『現場で使え
 るディープラーニング基礎講座』について\n日本ディ
 ープラーニング協会に認定プログラム第１号のスキル
 アップAIが提供する『現場で使えるディープラーニン
 グ基礎講座』についてご説明します。本講座を修了す
 ることで、E資格の受験資格を得ることができます。\n
 「現在のAI人材育成市況は？」「E資格を取得のメリッ
 トは？」「E資格の難易度は？」「どんな勉強をどれく
 らいすればいいの？」など、500名近いE資格合格者輩出
 の実績をもとに、お話しいたします。\nまた、本説明
 会中はチャット及び口頭でも質問タイムがございます
 ので、気になることがあれば、その場でご確認いただ
 けます。\n説明会後、担当者は少し残りますので、説
 明会中に質問できなかった、個別で聞きたいことがあ
 るという方は、その際にご相談いただくことも可能で
 す。\n説明会参加にあたって\n本説明会は、どなたでも
 ご参加いただくことができます。\n日程\n12/18(金)　19:30
 ~20:30　Web説明会（ライブ配信）\n※ Web説明会（ライブ
 配信）ご参加いただけない方はこちらから「アーカイ
 ブ動画提供」をお申込みください\nライブ配信での説
 明会のご参加について\nライブ配信は、Zoomを使用しま
 す。\n開催前日までに、視聴URLをメールでご案内いた
 します。\n備考\n説明会内容を撮影もしくは録音するこ
 とは、ご遠慮ください\n個人情報の取扱いについて\n申
 し込み時にご提供いただいた情報は、イベント受付管
 理や各種ご案内（サービス・イベント等）に利用させ
 ていただきます。\n会社紹介\n\n東京大学系のベンチャ
 ー企業。実務で使えることを重要視したカリキュラム
 をアクティブラーニングによって学べ、数学・Pythonプ
 ログラミング・機械学習・ディープラーニングなど体
 系化された幅広いテーマを扱っている。JDLAが実施する
 E資格（エンジニア向け）では、受験資格を得るための
 「JDLA認定プログラム」を日本で最初に取得しており、
 これまで500名近いE資格合格者を輩出している。\nskillup
 ai.com/\n
LOCATION:Zoom
URL:https://techplay.jp/event/802430?utm_medium=referral&utm_source=ics&utm
 _campaign=ics
END:VEVENT
END:VCALENDAR
