BEGIN:VCALENDAR
VERSION:2.0
PRODID:-//https://techplay.jp//JP
CALSCALE:GREGORIAN
METHOD:PUBLISH
X-WR-CALDESC:はじめてのコンテナ入門ハンズオン前半(ECR\,EC
 S\,Fargate)
X-WR-CALNAME:はじめてのコンテナ入門ハンズオン前半(ECR\,EC
 S\,Fargate)
X-WR-TIMEZONE:Asia/Tokyo
BEGIN:VTIMEZONE
TZID:Asia/Tokyo
BEGIN:STANDARD
DTSTART:19700101T000000
TZOFFSETFROM:+0900
TZOFFSETTO:+0900
TZNAME:JST
END:STANDARD
END:VTIMEZONE
BEGIN:VEVENT
UID:802553@techplay.jp
SUMMARY:はじめてのコンテナ入門ハンズオン前半(ECR\,ECS\,Fa
 rgate)
DTSTART;TZID=Asia/Tokyo:20201216T200000
DTEND;TZID=Asia/Tokyo:20201216T213000
DTSTAMP:20260425T131910Z
CREATED:20201211T061616Z
DESCRIPTION:イベント詳細はこちら\nhttps://techplay.jp/event/80255
 3?utm_medium=referral&utm_source=ics&utm_campaign=ics\n\n\n内容概要\n
 はじめてコンテナ技術について入門する方向けに、\n
 アマゾンWebサービス(AWS)の各種コンテナ技術（ECR\,ECS\,F
 argate)のハンズオンを通して、\nコンテナの基本的な全
 体像を解説します。\n・コンテナの基本概念とサービ
 スの紹介\n・AWSコンテナ利用の準備\n・AWSコンテナ主要
 サービスの実践ハンズオン\n\n\n\n\n開催時間\n受付：19:4
 5〜20:00\n解説とハンズオン：20:00-21:30\n\n\n\n会場\nオン
 ライン\n\n当日アクセスいただくZoom URLや、当日の資料
 配布は、\n以下slack参加者のみご案内致します。\n\n\n\nh
 ttp://bit.ly/2RWooDf\n対象者\n・非ITエンジニアで、コンテ
 ナ技術の全体像と主なサービスについて把握したい方\
 n・ITエンジニアで、はじめてコンテナ技術の全体像と
 主なサービスについて学び実践したい方\n・GCPコンテ
 ナユーザで、AWSコンテナについても実践したい方\n\n\n\
 n詳細アジェンダ\n・仮想化技術のおさらい\n・ECRでコ
 ンテナリポジトリ作成\n・VPCの準備\n・Load Balancer の準
 備\n・コンテナサービスの種類\n・ECSクラスター作成\n
 ・Cloud9環境の準備\n\n\n※詳細は一部変更となる可能性
 があります。\n当日詳細は、slackにてご連絡しますので
 、以下ご登録ください。\n\n\n\nhttp://bit.ly/2RWooDf\n\n当日
 必要なもの\n・ハンズオンのため、パソコン必須\n・Chr
 omeブラウザ\n・Zoomソフトウェア\n\nAWSアカウントは不要
 です。\n\n\n\n講師プロフィール\n阪大大学院数学専攻卒
 。大阪府出身。\nC、C++、Java、Perl、PHP、Ruby、Python、R、
 bash を操る公共系インフラエンジニア、フロントエン
 ジニアを経て、医療系クラウドサービスを展開。医療
 系システムコンサルタント等を経てAIベンチャーにて
 データサイエンティスト。\n大手から中小まで数多く
 のシステム開発プロジェクトで開発統括、プロマネを
 経験。\n基盤設計、統計学、機械学習、深層学習、組
 織論、リーダーシップ論、心理学、事業戦略論等をテ
 ーマに、社内外で講師の経験多数。\n\n\n\n領収書の発
 行について\n前払いの領収書につきまして、PayPalもし
 くはconnpassで自動発行される領収書をご利用ください
 。\n当日払い又は別途領収書をご希望の場合は、発行
 手数料は2\,000円(税込)となります。ご了承ください。\n
 \n\n\n
LOCATION:オンライン オンライン
URL:https://techplay.jp/event/802553?utm_medium=referral&utm_source=ics&utm
 _campaign=ics
END:VEVENT
END:VCALENDAR
