BEGIN:VCALENDAR
VERSION:2.0
PRODID:-//https://techplay.jp//JP
CALSCALE:GREGORIAN
METHOD:PUBLISH
X-WR-CALDESC:SANS Holiday Hack Challenge 2020入門+LiveCTF
X-WR-CALNAME:SANS Holiday Hack Challenge 2020入門+LiveCTF
X-WR-TIMEZONE:Asia/Tokyo
BEGIN:VTIMEZONE
TZID:Asia/Tokyo
BEGIN:STANDARD
DTSTART:19700101T000000
TZOFFSETFROM:+0900
TZOFFSETTO:+0900
TZNAME:JST
END:STANDARD
END:VTIMEZONE
BEGIN:VEVENT
UID:802744@techplay.jp
SUMMARY:SANS Holiday Hack Challenge 2020入門+LiveCTF
DTSTART;TZID=Asia/Tokyo:20201219T130000
DTEND;TZID=Asia/Tokyo:20201219T180000
DTSTAMP:20260425T015654Z
CREATED:20201214T062051Z
DESCRIPTION:イベント詳細はこちら\nhttps://techplay.jp/event/80274
 4?utm_medium=referral&utm_source=ics&utm_campaign=ics\n\n概要\n初心
 者～セキュリティプロまで大歓迎です！\n今年もチャ
 レンジの幅が広くて楽しいです！（例：ペネトレ、ク
 ラウドセキュリティ、ウェブアプリセキュリティ、暗
 号、ブロックチェーン、WebSocketsハッキング、擬似乱数
 生成器の悪用、SOCアナリストのSplunkログ解析、正規表
 現、プログラミング、RFIDハッキング、CAN BUSハッキン
 グ等々）\n田中ザックがHoliday Hack CTFについて説明した
 後、Live CTFをしながら（デモを見せながら）ハンズオ
 ンで最初の問題を皆さんと一緒に解いていきます。\n
 準備（必須）\n\nhttps://holidayhackchallenge.com/2020/ にアカウ
 ント登録して、avatarを作っておいてください。\nHoliday 
 Hack JP Slackに入ってください：https://t.co/q2hLqpHj9y\n大和
 セキュリティSlackに入ってください：https://join.slack.com/
 t/yamatosecurity2/shared_invite/enQtNDgzMjg4ODIyNDM5LTM2Nzg2OGIwZWVkZjI0Z
 mNlOWQ0OTUzOTA3MTM4YzVhNzMyYmJjNGNiZTYzYmNmNDY5ZDA3YzgxNDQzMjQ0NDU\n\n準
 備（任意）\n\n過去のWriteupを読んでみてください\nhttps:
 //www.slideshare.net/ssuserbcacc5/sans-holiday-hack-2017-85698544\nhttps:
 //graneed.hatenablog.com/entry/2020/01/13/215809\nhttps://jpn.nec.com/cyb
 ersecurity/blog/200313/index.html\n\n\n今年のKringlecon Youtubeビデ
 オをご覧ください\nhttps://www.youtube.com/playlist?list=PLjLd1hNA
 7YVwqXqaBJfbXqkFb7LKw3r31\n\n\nKringlecon 2020 Discordに入ってくだ
 さい\nhttps://discord.gg/Wbmx92rWW3\n\n\n\n必要な物\n\nPC\nイン
 ターネット\nウェブブラウザ\nZoom\nできれば、Kaliなど
 のLinuxディストロ\n\n主催\n大和セキュリティ勉強会\n講
 師\n白船（田中ザック）(@yamatosecurity)\n開催場所\nオン
 ライン\n参加費：無料\nスケジュール\n--12/19（土）--\n12
 :45 ～ 13:00 Zoomリンクを共有するので、参加しておいて
 くださいね！\n13:00 ～ 18:00 SANS Holiday Hack 2020入門＋Live C
 TF
LOCATION:オンライン
URL:https://techplay.jp/event/802744?utm_medium=referral&utm_source=ics&utm
 _campaign=ics
END:VEVENT
END:VCALENDAR
