BEGIN:VCALENDAR
VERSION:2.0
PRODID:-//https://techplay.jp//JP
CALSCALE:GREGORIAN
METHOD:PUBLISH
X-WR-CALDESC:【無料】LTVを向上し成果につなげる！分析に
 おけるKPIについて　上級編
X-WR-CALNAME:【無料】LTVを向上し成果につなげる！分析に
 おけるKPIについて　上級編
X-WR-TIMEZONE:Asia/Tokyo
BEGIN:VTIMEZONE
TZID:Asia/Tokyo
BEGIN:STANDARD
DTSTART:19700101T000000
TZOFFSETFROM:+0900
TZOFFSETTO:+0900
TZNAME:JST
END:STANDARD
END:VTIMEZONE
BEGIN:VEVENT
UID:803033@techplay.jp
SUMMARY:【無料】LTVを向上し成果につなげる！分析におけ
 るKPIについて　上級編
DTSTART;TZID=Asia/Tokyo:20210217T170000
DTEND;TZID=Asia/Tokyo:20210217T173000
DTSTAMP:20260424T010606Z
CREATED:20201217T023155Z
DESCRIPTION:イベント詳細はこちら\nhttps://techplay.jp/event/80303
 3?utm_medium=referral&utm_source=ics&utm_campaign=ics\n\nLTVを向上し
 成果につなげる！分析におけるKPIについて\n（上級編
 ）\n概要\n〇学べる事\n　・分析におけるKPIの設定の手
 法がわかる\n　・LTV向上成果につながるCRM施策がわか
 る\n　・実務で活用できるデータ分析がわかる\n\n〇内
 容\n本セミナーでは、分析の需要が増加するなかで、
 従来より高度で素早いデータ現状分析をご紹介。\n分
 析やCRM施策にかかせない適正なセグメント設定から、W
 EB上の行動分析など、CRM施策に必要な分析を事例など
 を活用してご説明いたします。\nLTV、F転換、階段図、R
 FMなどを分析し、CRM施策に活用している会社は多くあ
 りますが、顧客データや購買データ以外の様々なデー
 タをかけ合わせることで、新たな発見をすることがで
 きます。\n \n流入経路別や初回購入商品別など、分析
 軸を変えることで同じ予算で集客施策やMA施策を大き
 く改善するための考え方を学びます。\n\n※当セミナー
 は基礎・中級・上級で解りやすく、実務でも活用でき
 るような、分析や戦略の一部をご紹介しています。こ
 のセミナーは上級編になります。\nアジェンダ\n17:00~  
 顧客分析を通したビジネスKPIの設計について(15分)\n17:1
 5~  様々なデータを連携し、新しい確度で見れば施策が
 変わる高度な分析 (15分)\n※ 当日予告なく時間配分・
 内容が変更になる可能性がございます。\n参加対象\n・
 セミナー中級編を受講いただいた方\n・ECサイトなどの
 改善に限界を感じている担当マーケターや責任者\n・
 ユーザーをもっと増やしたいと考えられているマーケ
 ティング部門責任者\n・既存顧客のLTVを向上させたい
 と考えられているマーケティング部門責任者\n※ リク
 ルーティング、勧誘など、採用目的でのイベント参加
 はお断りしております。 ※ 同業他社のご参加はご遠
 慮ください。※ 補欠者の方は、ご来場いただいてもご
 入場いただくことが出来ませんのでご了承ください。\
 n持ち物\nなし\n参加費\n無料\nハッシュタグ\n#techplayjp\n
 注意事項\n※ 参加を辞退する場合は、詳細ページより
 申込のキャンセルをお願い致します。※ 無断キャンセ
 ル・欠席が続く場合、次回以降の参加をお断りさせて
 いただく場合がございますのでご了承ください。\n※
 参加お申し込み後、開催前日までにZOOMのリンクを送付
 させていただきます。\n\n 
LOCATION:オンライン
URL:https://techplay.jp/event/803033?utm_medium=referral&utm_source=ics&utm
 _campaign=ics
END:VEVENT
END:VCALENDAR
