BEGIN:VCALENDAR
VERSION:2.0
PRODID:-//https://techplay.jp//JP
CALSCALE:GREGORIAN
METHOD:PUBLISH
X-WR-CALDESC:【ローカルビジネス／店舗ビジネス運営者必
 見！】 集客・集患力UPのために”今”やるべきマーケ
 ティング施策とは？
X-WR-CALNAME:【ローカルビジネス／店舗ビジネス運営者必
 見！】 集客・集患力UPのために”今”やるべきマーケ
 ティング施策とは？
X-WR-TIMEZONE:Asia/Tokyo
BEGIN:VTIMEZONE
TZID:Asia/Tokyo
BEGIN:STANDARD
DTSTART:19700101T000000
TZOFFSETFROM:+0900
TZOFFSETTO:+0900
TZNAME:JST
END:STANDARD
END:VTIMEZONE
BEGIN:VEVENT
UID:803068@techplay.jp
SUMMARY:【ローカルビジネス／店舗ビジネス運営者必見！
 】 集客・集患力UPのために”今”やるべきマーケティ
 ング施策とは？
DTSTART;TZID=Asia/Tokyo:20201223T170000
DTEND;TZID=Asia/Tokyo:20201223T174500
DTSTAMP:20260420T044850Z
CREATED:20201217T115937Z
DESCRIPTION:イベント詳細はこちら\nhttps://techplay.jp/event/80306
 8?utm_medium=referral&utm_source=ics&utm_campaign=ics\n\n概要\n店舗
 型ビジネスは、従来交通広告やチラシなどを中心とし
 た集客施策がメインとなっています。\nしかし、顧客
 の多くはネット上で情報検索を行うなど、ユーザー行
 動が変化しています。\nまた、昨今の新型コロナの影
 響によるさらなるユーザーの行動変化に伴い、\nWebサ
 イトからの集客やローカルSEO（GoogleMap表示）を活用を
 される店舗・クリニック様が増えております。\n\n\n本
 セミナーではローカルSEOのご支援実績を誇るGMO TECH株
 式会社が\nSEOとは違う実際の上位表示の施策ロジック
 や、\n上位表示された結果のコンバージョンやアクシ
 ョン数値を事例交えてご紹介いたします。\n\n\n\n参加
 費無料で全国どこからでもご参加いただけるセミナー
 になっておりますので、\nお気軽にご参加くださいま
 せ。\n\n\n\n【本セミナーはこんな方にオススメです】\n
 ・店舗を運営している方\n・Webサイトから予約・申し
 込みを増やしたい方\n・Webマーケティングについてな
 にから実施すればよいかお悩みの方…等々\n\n\n＜詳細
 ・お申込みはこちら＞\n日時・登壇者\n2020年12月23日（
 水）\n講演時間：17:00～17:45（開場 16:50～）\n※講演時
 間は多少前後することがございます。ご了承ください\
 n対象者\n・士業事務所、店舗ビジネス経営者の方・コ
 ロナの影響を最小限に抑え、集客をされたい方・イン
 ターネットを活用した最新の集客法を知りたい方　…
 等々\n※同業と判断される企業様のお申し込みはご遠
 慮頂いております。\n参加方法\n無料オンライン配信（
 Zoom）\n\n※PCやタブレットなどの端末と、インターネッ
 ト環境があればご覧いただけます。※モバイルでご視
 聴の場合は、iPhoneまたはAndroid向けのZoomモバイルアプ
 リを事前にダウンロードください。※セキュリティソ
 フトウェア等の機能により配信システムがうまく機能
 しない場合がございます。あらかじめご了承ください
 ませ。\n参加特典\nアンケートにご回答頂いた方には、
 もれなく弊社オリジナル「SEO教科書（70ページ超）」
 を無料プレゼント！\n参加費\n無料\n定員\n先着35名\n主
 催\nGMO TECH株式会社\n詳細・お申込み\nhttps://semlabo.com/meo
 /seminar/201223_localseo_seminar/
LOCATION:オンライン
URL:https://techplay.jp/event/803068?utm_medium=referral&utm_source=ics&utm
 _campaign=ics
END:VEVENT
END:VCALENDAR
