BEGIN:VCALENDAR
VERSION:2.0
PRODID:-//https://techplay.jp//JP
CALSCALE:GREGORIAN
METHOD:PUBLISH
X-WR-CALDESC:AWSの基礎を学ぼう 特別篇 re:Inventまとめ　AIサ
 ービス編
X-WR-CALNAME:AWSの基礎を学ぼう 特別篇 re:Inventまとめ　AIサ
 ービス編
X-WR-TIMEZONE:Asia/Tokyo
BEGIN:VTIMEZONE
TZID:Asia/Tokyo
BEGIN:STANDARD
DTSTART:19700101T000000
TZOFFSETFROM:+0900
TZOFFSETTO:+0900
TZNAME:JST
END:STANDARD
END:VTIMEZONE
BEGIN:VEVENT
UID:803555@techplay.jp
SUMMARY:AWSの基礎を学ぼう 特別篇 re:Inventまとめ　AIサービ
 ス編
DTSTART;TZID=Asia/Tokyo:20210114T121500
DTEND;TZID=Asia/Tokyo:20210114T130000
DTSTAMP:20260425T195644Z
CREATED:20201223T062442Z
DESCRIPTION:イベント詳細はこちら\nhttps://techplay.jp/event/80355
 5?utm_medium=referral&utm_source=ics&utm_campaign=ics\n\n2020年に開催
 されたAWS re:Inventでは180の機能拡張・新サービスがアナ
 ウンスされました。\nこの特別編ではそれぞれテーマ
 ごとに発表されたサービスや機能拡張などを紹介して
 いきます。\n今回はAIサービス編です。\nre:Capイベント
 に参加いただいた方はすでに内容をご存知だと思いま
 すので、\n2020年のUpdate纏めも併せてお届けします。\nML
 サービスのAmazon SageMakerを学びたい方はこちらです！（
 このイベントではSageMakerには触れません）\nhttps://awsbas
 ics.connpass.com/event/198358/\n配信はAmazon Chimeを使います。
 当日お申込みいただいた方向けに12時ごろAmazon Chimeの
 ログインURLをお送りします。ブラウザでも視聴可能で
 す。\n資料はオンラインイベント中にSlideshareのURLを共
 有します。\nそれではみなさんとお会いできることを
 楽しみにしています。\n講師：アマゾン ウェブ サービ
 ス ジャパン、シニアエバンジェリスト 亀田\n\n注意点\
 n登壇者による発表内容はアマゾン ウェブ サービス ジ
 ャパンとして主催しているものではなく、コミュニテ
 ィ活動の一環として勉強会の主催を行っているもので
 す。
LOCATION:オンライン Amazon Chime
URL:https://techplay.jp/event/803555?utm_medium=referral&utm_source=ics&utm
 _campaign=ics
END:VEVENT
END:VCALENDAR
