BEGIN:VCALENDAR
VERSION:2.0
PRODID:-//https://techplay.jp//JP
CALSCALE:GREGORIAN
METHOD:PUBLISH
X-WR-CALDESC:【オンライン】Webサイト作りを体験！1dayイン
 ターンシップ
X-WR-CALNAME:【オンライン】Webサイト作りを体験！1dayイン
 ターンシップ
X-WR-TIMEZONE:Asia/Tokyo
BEGIN:VTIMEZONE
TZID:Asia/Tokyo
BEGIN:STANDARD
DTSTART:19700101T000000
TZOFFSETFROM:+0900
TZOFFSETTO:+0900
TZNAME:JST
END:STANDARD
END:VTIMEZONE
BEGIN:VEVENT
UID:803815@techplay.jp
SUMMARY:【オンライン】Webサイト作りを体験！1dayインター
 ンシップ
DTSTART;TZID=Asia/Tokyo:20210108T160000
DTEND;TZID=Asia/Tokyo:20210108T210000
DTSTAMP:20260423T072000Z
CREATED:20201227T153705Z
DESCRIPTION:イベント詳細はこちら\nhttps://techplay.jp/event/80381
 5?utm_medium=referral&utm_source=ics&utm_campaign=ics\n\n「今こそ、
 成長の初速を」\n概要\n2021年、何かを変えたいと思っ
 ている方へ。\n「今年こそは成長したい」 「普段とは
 違う事に挑戦してみたい」 「自分の力を試してみたい
 」\nそんな方へ向けて、エンカレ姉妹団体Geeksalonがワ
 ークショップ型オンラインインターンシップを開催し
 ます。 未経験でWebサイトを作成する1dayのプログラム
 です。\n半日で気軽に、自分の将来の可能性を広げま
 せんか？\n【こんな人にオススメ】\n・将来やりたいこ
 とが決まっていない方\n・今の自分に納得していない
 方\n・プログラミングに興味があるけど行動できなか
 った方\n・webサイトの作成になんとなく興味がある方\n
 日時\n1月8日 (金) 16:00-21:00\n参加費\n無料\n参加方法\nGeek
 salon公式LINEを追加の上、必ず「氏名、大学名、1/8 オン
 ライン1dayインターンシップ」と送信してください。前
 日までにzoomのURLをお送りいたします。\n▼GeekSalonの公
 式LINEの登録はこちら\n 
LOCATION:オンライン
URL:https://techplay.jp/event/803815?utm_medium=referral&utm_source=ics&utm
 _campaign=ics
END:VEVENT
END:VCALENDAR
