BEGIN:VCALENDAR
VERSION:2.0
PRODID:-//https://techplay.jp//JP
CALSCALE:GREGORIAN
METHOD:PUBLISH
X-WR-CALDESC:3/5-6 Open Source Conference 2021 Online/Spring
X-WR-CALNAME:3/5-6 Open Source Conference 2021 Online/Spring
X-WR-TIMEZONE:Asia/Tokyo
BEGIN:VTIMEZONE
TZID:Asia/Tokyo
BEGIN:STANDARD
DTSTART:19700101T000000
TZOFFSETFROM:+0900
TZOFFSETTO:+0900
TZNAME:JST
END:STANDARD
END:VTIMEZONE
BEGIN:VEVENT
UID:804085@techplay.jp
SUMMARY:3/5-6 Open Source Conference 2021 Online/Spring
DTSTART;TZID=Asia/Tokyo:20210305T100000
DTEND;TZID=Asia/Tokyo:20210306T210000
DTSTAMP:20260424T232208Z
CREATED:20201231T211751Z
DESCRIPTION:イベント詳細はこちら\nhttps://techplay.jp/event/80408
 5?utm_medium=referral&utm_source=ics&utm_campaign=ics\n\nご参加の方
 へ：注意事項のご案内\n本イベントのプログラムは録
 画されており、後日YouTubeでアーカイブ公開されます。
 \nconnpassアカウントのメールアドレスが最新のアドレス
 になっているかどうかご確認ください。\n古いメール
 アドレスなどでご登録されていますと、参加用URLのお
 知らせが届けられません。\n※会場のZoom\,SlidoのURLは、
 3月4日(木)16:00頃にメッセージで送信しました。\n※こ
 の後にご登録の方は「参加者への情報」からご覧くだ
 さい。\nZoom参加にはZoomアカウントが必要\nセキュリテ
 ィの関係から、Zoom参加にはZoomアカウントでログイン
 した上でミーティングに参加する必要があります。\nZo
 omアカウントをお持ちでない方は、YouTube配信でのご参
 加をお願いします。質疑応答は共通のSlidoで行えます
 。\nプログラム\nセミナー/ミーティング タイムテーブ
 ル\n3/5(金)-1日目\nhttps://register.ospn.jp/osc2021-online-spring/mod
 ules/eventrsv/1.html\n3/6(土)-2日目\nhttps://register.ospn.jp/osc2021-
 online-spring/modules/eventrsv/2.html\n展示一覧\nhttps://event.ospn.j
 p/osc2021-online-spring/exhibit\n各プログラムへのご参加方法\
 nZoomミーティングを利用して各プログラムに参加して
 いただきます。(一部Jitsi/miroの利用あり）\n当ページ（
 connpass）にて、下記締め切りまでにお申し込みいただ
 いた方に、connpassのシステムを通じたメッセージ送信
 にて、参加用のURLをお送りします。\nそれ以降にお申
 し込みの方は「参加者への情報」からご確認いただけ
 ます。\n※同日の他のイベントとの重複で登録ができ
 ない場合は、個別にご案内しますのでお問い合わせに
 てご連絡ください。\n参加用URLの送信予定：3月4日(木) 
 16:00過ぎに送信済み\nこの後にご登録の方は「参加者へ
 の情報」からご覧ください。\nYouTube Liveのチャンネル
 登録をお願いします！\n参加者が多くなったこと、ま
 たZoomを使用できない方のためにYouTube Liveでの同時配信
 も行います。\nZoomによるセミナー会場に入れるのは最
 大100名（講師・スタッフ含む）なので、満員になった
 場合にはYouTube Liveでセミナーを聴講してください。\nOS
 PN.jpチャンネルにアクセスしていただければ、ライブ
 中継がご覧になれます。\nすべてのセミナーを中継す
 る予定です。\nあらかじめチャンネル登録しておいて
 いただくよう、お願いします。\nOSPN.jpチャンネル\nhttps
 ://www.youtube.com/c/OSPNjp\n過去のOSCオンラインセミナー動
 画を配信中です。\nOSC2021 Online/Spring開催のご案内\n2021
 年のOSC Tokyo/Springは、新型コロナウイルスの影響で、オ
 ンラインで開催することになりました。\nZoomミーティ
 ングを活用して、リモートでセミナー聴講していただ
 く形式での開催となります。\n全国からたくさんのご
 参加をお待ちしています。\nセミナー・展示の出展者
 募集中です！公式サイトでご確認ください。\nhttps://eve
 nt.ospn.jp/osc2021-online-spring\n開催概要\n日時\n3月5日(金) 10:
 00-18:00\n3月6日(土) 10:00-18:00\n※プログラムによって開催
 時間が変更になる場合があります。\nOSC2021 Online/Spring 
 公式サイト\nhttps://event.ospn.jp/osc2021-online-spring \n開催形
 式\nZoomミーティングを利用したオンラインセミナー、
 ミーティング、オンライン展示（事前登録必須）\nオ
 ンライン交流会＆懇親会\n最後のライトニングトーク
 終了後、オンライン交流会＆懇親会を予定しています
 。\n会場はZoomミーティングのA会場（直前までLTを予定
 ）です。\n当イベントの参加申し込みをしておいてい
 ただければ、そのまま参加できます。\nまず交流会と
 してブレイクアウトルームで数名ずつの会話を楽しん
 でいただきます。\nその後はZoomミーティングでの分科
 会形式の懇親会になる予定です。\n交流会のみの参加
 でもOKです。\n--追記--\nお飲み物やおつまみなどは各人
 でご用意ください。\nLT終了後、交流会開始までの間に
 準備をするお時間を設けますが、素早く用意できるよ
 うに事前準備をお願いします。\nお飲み物とおつまみ
 などをご準備の上、ご参加ください！\n\n□ 交流会、
 懇親会の流れ\nLT終了後、以下の流れで開催する予定で
 す。\n※LT終了時間によりずれ込む可能性があります\n\
 n17時00分：ライトニングトーク開始\n18時00分：ライト
 ニングトーク終了\n　　　　　　・5分間休憩＆乾杯用
 飲み物等の準備\n18時05分：乾杯（A会場）\n18時10分：各
 会場でブレイクアウトルーム①作成\n　　　　　　・
 ブレイクアウトルームは4〜5名程度の小部屋に分かれ
 る仕組みです\n　　　　　　・自己紹介やイベント参
 加の感想などをお話してください\n18時30分：ブレイク
 アウトルーム①終了・休憩\n18時35分：ブレイクアウト
 ルーム②作成\n18時55分：ブレイクアウトルーム②終了
 ・休憩\n19時00分：懇親会開始\n　　　　　　・以後、
 自由時間です\n　　　　　　・基本的にA会場ですが、
 適宜B会場以降に分かれます（Zoomは「参加者への情報
 」参照）\n\n
LOCATION:OSPNオンライン オンライン
URL:https://techplay.jp/event/804085?utm_medium=referral&utm_source=ics&utm
 _campaign=ics
END:VEVENT
END:VCALENDAR
