BEGIN:VCALENDAR
VERSION:2.0
PRODID:-//https://techplay.jp//JP
CALSCALE:GREGORIAN
METHOD:PUBLISH
X-WR-CALDESC:自動化大好きエンジニアLT会 - vol.2
X-WR-CALNAME:自動化大好きエンジニアLT会 - vol.2
X-WR-TIMEZONE:Asia/Tokyo
BEGIN:VTIMEZONE
TZID:Asia/Tokyo
BEGIN:STANDARD
DTSTART:19700101T000000
TZOFFSETFROM:+0900
TZOFFSETTO:+0900
TZNAME:JST
END:STANDARD
END:VTIMEZONE
BEGIN:VEVENT
UID:804194@techplay.jp
SUMMARY:自動化大好きエンジニアLT会 - vol.2
DTSTART;TZID=Asia/Tokyo:20210204T190000
DTEND;TZID=Asia/Tokyo:20210204T210000
DTSTAMP:20260424T100241Z
CREATED:20210104T061632Z
DESCRIPTION:イベント詳細はこちら\nhttps://techplay.jp/event/80419
 4?utm_medium=referral&utm_source=ics&utm_campaign=ics\n\n「こんな自
 動化に取り組んで、開発の効率化・品質向上しました
 ！」というお話が聞きたい！！\n今回のLT（ライトニン
 グトーク）は自動化をテーマに行います！\n自動化（
 オートメーション／Automation）って聞くと胸がときめき
 ませんか？    \n登壇希望の方は、登壇者申込みより登
 録をお願いいたします！ もちろん見学だけもOK！    \n
 【テーマ例】\n\nコードレビュー自動化（Java，PHP，Pytho
 n，Javascript、SonarQube)\nテスト自動化（JUnit、PHPUnit、Serve
 rspec）\nE2Eテスト（Selemium、Puppeteer）\nサーバ構成自動
 化（AWS、Azure、Terraform）\nリリース自動化（Jenkins、Ansib
 le、Chef）\nチェックリスト自動化\nDevOps\nCI/CD（継続的
 インテグレーション/継続的デリバリー）\nパフォーマ
 ンス検証自動化（JMeter）\n\n ゆるく、オープンなイベ
 ントですので、興味をもった方はどなたでもご参加下
 さい！ \nこんな方におすすめ\n自動化ノウハウや、開
 発の効率化や品質向上を実現したエピソードをシェア
 したいエンジニアの方。\n開発外の業務を自動化・効
 率化することで、開発時間を担保したという話でもOK
 です！！ \n関連イベントの様子\n\n自動化大好きエンジ
 ニアLT会- まとめ\n\n主催が同じなので雰囲気の参考に
 してください。\n\nフロントエンドLT会 vol.1 -2020夏祭り-
  まとめ\nエンジニアの勉強法ハックLT- vol.2 まとめ\nプ
 ロジェクトマネジメント Tips LT会 vol.1 まとめ\n\n開催概
 要\n\n日時: 2021/2/4(木) 19:00-22:00\nZoomへの入室は10分前か
 らとなります。  \n途中参加・退室OKです。\n\n\n会場: 
 オンライン（Zoom）\nConnpassのメッセージ機能で開催前
 にURLを通知いたします。\n\n\n参加費: 無料\n\n※イベン
 ト参加人数が少ない場合など、中止とする場合がござ
 いますのでご了承ください。\n募集枠\n自動化LT発表枠\
 nライトニングトークを行っていただきます。   \n申込
 時に仮でもいいので発表タイトルと希望の発表順をご
 回答ください。\n申込時に回答し忘れた方はConnpassイベ
 ントページのコメントにてご連絡ください。\nなお、
 発表順序はご相談させていただく場合があります。\n\n
 唯一無二のLTのはじめ方\n準備やネタの用意よりも先に
 まずは申し込みましょう。\nネタではなく申し込まな
 いと永遠に発表する機会は訪れません。最初の一歩の
 「えいやっ」が大事。\n参考：ライトニングトーク準
 備の参考資料まとめ\n\n一般参加枠\n賑やかしをお願い
 します。\nアウトプットしてもいいんですよ。  \n\nTwitt
 erでの実況\nTogetterへのツイートまとめ\nQiitaやブログで
 のイベントレポート\nその他\n\nいずれかのどれかでも
 いいですし、複数やっていただけると感謝で涙が流れ
 ます。\n自動化LTのレギュレーション\n\n発表時間 5分\n
 内容は「自動化による開発の効率化・品質向上」\n公
 序良俗に反する内容ではないこと\n\n発表人数にもより
 ますが「質疑応答はチャット/Twitterにて」になるかも
 しれません。\n機器トラブルなどの場合は順序を入れ
 替えて対応いたします。落ち着いて対処していきまし
 ょう。\n発表テーマ\n\n\n\nNo.\n時間目安\n登壇者\nタイト
 ル\n\n\n\n\n-\n\n司会\nオープニング\n\n\n1\n19:10\nakio_shimonis
 hiさん\nRundeckの紹介\n\n\n2\n\nsatenさん\nApp Store Connect API
 キー対応(App Store Connect二段階認証必須化対応)\n\n\n3\n\nc
 hmikataさん\n手軽に始めるChatOps\n\n\n4\n\nt_isekiさん\nTestLin
 kにテスト結果を自動的に登録\n\n\n5\n\nyassun-youtubeさん\n
 CircleCIの話で考え中\n\n\n6\n20:00\nseyakiyaさん\nGitHubからの
 ～\n\n\n7\n\ndaichi-sunagawa-kwcさん\nTestCafeでのスクリーンシ
 ョットテスト\n\n\n8\n\nijikemanさん\nansible_specでテストを
 する話\n\n\n9\n\nTakahiro Yamadaさん\n開発検証環境の自動化
 \n\n\n10\n\ny_kodaさん\n開発用DBの更新を自動化した話\n\n\n
 -\n\n司会\nスポンサートーク\n\n\n\n注意事項\n\n当イベン
 トの内容およびスケジュールは、予告なく変更となる
 場合があります。予めご了承ください。\n他の参加者
 の方の妨げになるような行為は禁止、運営側の判断で
 ご退出をお願いする場合があります。\nブログやSNSな
 どで当イベントに関する発信を行う際には、公序良俗
 に反する内容のないよう、ご協力をお願いします。\n
 当イベントはオンライン開催のため、通信状況によっ
 て音声や映像の乱れがある場合がございます。\n配信
 トラブル時のアナウンスはTwitterより行います。\n当日
 のイベント風景（写真）や内容は後日レポート記事やS
 NSにて掲載される場合がありますのでご了承ください
 。\n\n\nイベント画像について\nPhoto by Windows\n on Unsplash
LOCATION:オンライン オンライン
URL:https://techplay.jp/event/804194?utm_medium=referral&utm_source=ics&utm
 _campaign=ics
END:VEVENT
END:VCALENDAR
