BEGIN:VCALENDAR
VERSION:2.0
PRODID:-//https://techplay.jp//JP
CALSCALE:GREGORIAN
METHOD:PUBLISH
X-WR-CALDESC:Serverless Meetup Japan Virtual #15 - re:Cap
X-WR-CALNAME:Serverless Meetup Japan Virtual #15 - re:Cap
X-WR-TIMEZONE:Asia/Tokyo
BEGIN:VTIMEZONE
TZID:Asia/Tokyo
BEGIN:STANDARD
DTSTART:19700101T000000
TZOFFSETFROM:+0900
TZOFFSETTO:+0900
TZNAME:JST
END:STANDARD
END:VTIMEZONE
BEGIN:VEVENT
UID:804238@techplay.jp
SUMMARY:Serverless Meetup Japan Virtual #15 - re:Cap
DTSTART;TZID=Asia/Tokyo:20210120T210000
DTEND;TZID=Asia/Tokyo:20210120T223000
DTSTAMP:20260424T162305Z
CREATED:20210104T141524Z
DESCRIPTION:イベント詳細はこちら\nhttps://techplay.jp/event/80423
 8?utm_medium=referral&utm_source=ics&utm_campaign=ics\n\n\n配信のURL
 は当日昼をめどにイベントページへの掲載・メールで
 のご連絡をさしあげる予定です。連絡がない場合は、
 本イベントページに掲載されている Serverless Community(JP)
  YouTubeチャンネルで当日配信を開始しますので、チャ
 ンネルページを開いてお待ちください。\n最新情報は
 、下記より発信いたします。ご確認の程よろしくおね
 がいいたします。\n\nconnpassのイベントページ、およびc
 onnpass経由のメール\nTwitterアカウント @serverlessjp および
 ハッシュタグ #serverlessjp\n\n\nはじめに(重要事項)\nMeetup
 イベントのスピーカーを公募しています\nServerless Commun
 ity(JP)では以下のようなセッションを話してもらえる人
 を通年で募集しています。\n\nサーバーレス・アーキテ
 クチャのビジネス上の知見\nサーバーレス・アーキテ
 クチャの設計上の知見\nサーバーレスを実践して得ら
 れた技術的な知見\nサーバーレス・エコシステム向け
 のツールチェインや製品紹介(OSSやクラウド製品)\nその
 他サーバーレスに関して「役立つ」「情熱的な」アイ
 デアやストーリー\n\n→ 応募ページ https://forms.gle/Wx2srv9
 ooh9qNQji8\nServerless Meetupとそのスコープについて\nServerles
 s Meetup は全世界の150箇所以上で運営されているServerless
  Architectureやその周辺技術のITコミュニティであり、そ
 の数は今も増え続けています。日本では「東京」「大
 阪」「札幌」「福岡」で定期的に開催されています。\
 nどのMeetupグループも毎月のようにアプリ開発者／プラ
 ットフォーマー／フレームワークメンテナーなどが知
 見を共有し合っています。\nAgenda\n正式に全国の共同チ
 ェアが持ち回りで行うオンライン全国イベントに切り
 替えた開催になります。\nサービス開発者・ツールベ
 ンダー・OSS開発者など、たくさんのエコシステムの仲
 間たちで情報を共有しあいましょう。\n質問や議論に
 参加したい人はガヤ枠にぜひご参加ください。\nAWS re:I
 nvent 2020 におけるサーバーレスのre:Cap特集回‼‼\n15回
 目となる今回は、昨年も多数のアップデートがあったA
 WSの年次カンファレンス「AWS re:Invent」のre:Cap特集、つ
 まりふりかえりをおこないます。AWSのソリューション
 アーキテクトの方々を迎えて、豪華なre:Capとワイガヤ
 の1時間半‼‼\nMeet the Expert!!\n\n\n\nTimeline\nTitle\nSpeaker (
 敬称略)\n\n\n\n\n20:45-21:00\nSocial\n／\n\n\n21:00-21:05\nOpening Ta
 lk\n吉田真吾\n\n\n21:05-21:10\nForkwellさん告知!!\n重本湧気\n
 \n\n21:10-21:25\nServerless Messaging Services re:Cap\nAWS 石井 陽介\
 n\n\n21:25-21:30\nAsk an Expert\nZoom参加メンバー\n\n\n21:30-21:45\
 nServerless Workflow Services re:Cap\nAWS 福井 厚\n\n\n21:45-21:50\nAs
 k an Expert\nZoom参加メンバー\n\n\n21:50-22:05\nAmazon API Gateway 
 re:Cap\nAWS 松原 武司\n\n\n22:05-22:10\nAsk an Expert\nZoom参加メ
 ンバー\n\n\n22:10-22:25\n AWS Lambda  re:Cap\nAWS 下川 賢介\n\n\n2
 2:25-22:30\nAsk an Expert\nZoom参加メンバー\n\n\n22:30-\nClosing\n\
 n\n\n\n※タイムテーブルは予告なく変更になることがあ
 ります\nBig Thanks to our Sponsors\nForkwell（株式会社grooves）\
 nForkwell（株式会社grooves）\nSpeakers\nKensuke Shimokawa (アマ
 ゾンウェブサービスジャパン)\n\n\nServerless Specialist Solut
 ions Architect として AWS Japanに勤務。\nServerlessの大好きな
 特徴は、ビジネスロジックに集中できるところ。\nビ
 ジネスオーナーにとってインフラの管理やサービスの
 冗長化などは、ビジネスのタイプに関わらず必ず必要
 になってくる事柄です。\nでもどのサービス、どのビ
 ジネスにでも必要ということは、逆にビジネスの色は
 そこには乗って来ないということ。\nフルマネージド
 なサービスを使って関数までそぎ落とされたロジック
 レベルの管理だけでオリジナルのサービスを構築でき
 るというServerlessの特徴は技術者だけでなく、ビジネス
 に多大な影響を与えています。\nこのようなServerlessの
 嬉しい特徴をデベロッパーやビジネスオーナーと一緒
 に体験し、面白いビジネスの実現を支えるために日々
 活動しています。\n\n石井 陽介（アマゾン ウェブ サー
 ビス ジャパン株式会社 ソリューションアーキテクト
 ）\n\n\n2018年7月よりアマゾンウェブサービスジャパン
 株式会社でソリューションアーキテクトとして活動。
 現在はエンタープライズ企業のうち今後AWSの本格活用
 に取り組むお客様にフォーカスし、マイグレーション
 やモダナイゼーションを支援。バックグラウンドはJava
 エンジニアでキャリアの大半はエンタープライズのお
 客様において設計標準化や共通ライブラリの設計開発
 を勤める。好きなAWSサービスはAmazon SQS、Amazon SNS、Amazo
 n API Gateway。2児の父で、週末は専ら近所の公園で目撃
 される。\n\n福井 厚（アマゾン ウェブ サービス ジャ
 パン株式会社 シニアソリューションアーキテクト サ
 ーバーレススペシャリスト）\n\n\n2015年7月よりアマゾ
 ンウェブサービスジャパン株式会社でソリューション
 アーキテクトとして活動。現在は、サーバーレススペ
 シャリストとして サーバーレステクノロジーを中心と
 したAWSにおけるクラウドネイティブなアプリケーショ
 ンの開発及び既存システムのモダナイゼーションの支
 援に従事。オブジェクト指向プログラミングとアジャ
 イル開発が好き。\n\n松原 武司（アマゾン ウェブ サー
 ビス ジャパン株式会社 ソリューションアーキテクト
 ）\n\n\nアマゾンウェブサービスジャパン株式会社 金融
 ソリューション本部のソリューションアーキテクトと
 して活動。\n銀行・証券などの金融系のお客様を中心
 に、日々クラウド活用のご支援をしています。\n\nOrgani
 zer & Co-Chairs\n吉田真吾 (サイダス / セクションナイン)\n
 \n\nCYDAS CTO / セクションナインCEO\nクラウドネイティブ
 なシステム構築・運用のかたわら、ServerlessConf TokyoやSe
 rverless Meetup Japan(Tokyo/Osaka/Sapporo/Fukuoka)の運営、また各
 種記事執筆を通じて、日本におけるサーバーレスの普
 及を促進。\n\nServerlessDays Tokyo / Fukuoka 2019が開催されま
 した。\nServerlessDays Tokyo 2019 の詳細\nhttps://tokyo.serverlessd
 ays.io\n\nカンファレンス参加者：310名\nhttps://yoshidashingo.
 hatenablog.com/entry/2019/10/26/191417\n\nServerlessDays Fukuoka 2019 の
 詳細\nhttps://fukuoka.serverlessdays.io/\n\nカンファレンス参加
 者：125名\nhttps://blog.seike460.com/2019/12/17/ServerlessDaysFukuoka2
 019/\n\nServerless Community(JP) にジョインしよう！\nコミュ
 ニティメンバー募集\n\n\nサーバーレスの活用について
 情報交換ができるグループを作りました。サーバーレ
 スアーキテクチャを活用する知見などの情報交換にご
 活用ください。\nServerless Community(JP) facebook\nServerless Comm
 unity(JP) slack\n\n\nアンチハラスメントポリシーについて\
 n当コミュニティではすべての参加者(スピーカー、ス
 タッフ、参加者、その他サポートしてくれるすべての
 関係者)は以下の規範に同意する必要があります。われ
 われはかかわるすべての人に安全な環境が提供される
 ように参加者全員がこれに協力することを期待します
 。\nアンチハラスメントポリシー(短縮版)\n性別、性の
 同一性や表現、年齢、性的指向、身体障害、体型、体
 格、人種、または宗教(または逆に信仰を持たないこと
 )にかかわらず、誰に対しても嫌がらせのない参加体験
 を提供することに努めます。参加者への嫌がらせはい
 かなる行為も容認しません。性的な表現や画像などは
 、講演、ワークショップ、パーティー、TwitterやFacebook
 およびその他すべてのオンラインメディアを含む、あ
 らゆる場において不適切とみなします。これらの規則
 に違反した参加者は、たとえ有料イベントであっても
 開催者の裁量で返金することなく、これらの場所から
 追放され今後の参加の一切を断る可能性があります。\
 nアンチハラスメントポリシー(完全版)\n「嫌がらせ」
 には、性別、年齢、性的指向、身体障害、体格、人種
 、宗教に関する不快な発言や、性的な画像の使用、意
 図的な脅迫、ストーキング行為、望まない写真撮影や
 録音・録画、議論の中断を招く不快な発言、不適切な
 身体的接触、歓迎すべきでない性的関心を引く行為が
 含まれます。\n嫌がらせ行為を中止するように求めら
 れた参加者は、直ちに遵守することが求められます。\
 n参加者が嫌がらせ行為に関与している場合、主催者は
 、違反者への警告や(たとえ有料イベントであっても)
 返金なしでの即時退場など、適切と思われる行動を取
 ることができます。\nあなたが嫌がらせを受けている
 、あるいは他の誰かが嫌がらせを受けていたり、その
 懸念がある場合には、すぐにスタッフに連絡してくだ
 さい。\nスタッフは、参加者が会場のセキュリティま
 たは警察機関に連絡して護衛を提供したり、またはそ
 の他の方法でイベントの開催中に当該参加者の安全が
 担保されることを支援します。つまりわれわれはあな
 たの参加を心から歓迎しています。\nわれわれは、す
 べての参加者が勉強会、カンファレンス、ワークショ
 ップといったイベントの会場やイベント関連のミート
 アップにおいてこれらの規則に従うことを期待します
 。\n個人情報保護について\n勉強会の会場へ入館申請を
 行うため、参加者の本名やメールアドレスの情報を頂
 く場合があります。\nそのため、connpassの事前アンケー
 トで頂いた個人情報を以下に定める内容にて取り扱い
 ます。\n個人情報の利用目的について\nご提供いただい
 た個人情報は、以下に定める目的にのみ利用いたしま
 す。\n\nコミュニティ開催会場の入館申請手続き\n勉強
 会の申し込み者の入館時のご本人確認\n\n個人情報の取
 扱\n取得した個人情報は、connpassでの入力により取得を
 行います。当サイト上での個人情報の取得にあたって
 は、提供時における確認などのクリックによって本人
 の同意を得たものとします。\n当コミュニティでは、
 次のいずれかに該当する場合を除き、個人情報を第三
 者に開示・提供いたしません。\n\n会場入館の目的に沿
 って会場提供者（社）に入館申請を行う場合\n本人の
 同意がある場合\n本人の生命の保護などのために必要
 な場合であって、緊急を要するなど、ご本人の同意を
 得ることが困難である場合\n
LOCATION:Serverless Community(JP) YouTubeチャンネル オンライン
URL:https://techplay.jp/event/804238?utm_medium=referral&utm_source=ics&utm
 _campaign=ics
END:VEVENT
END:VCALENDAR
