BEGIN:VCALENDAR
VERSION:2.0
PRODID:-//https://techplay.jp//JP
CALSCALE:GREGORIAN
METHOD:PUBLISH
X-WR-CALDESC:【追加開催決定！】アクセンチュアのデータ
 サイエンスチーム主催！アナリティクス勉強会＆座談
 会
X-WR-CALNAME:【追加開催決定！】アクセンチュアのデータ
 サイエンスチーム主催！アナリティクス勉強会＆座談
 会
X-WR-TIMEZONE:Asia/Tokyo
BEGIN:VTIMEZONE
TZID:Asia/Tokyo
BEGIN:STANDARD
DTSTART:19700101T000000
TZOFFSETFROM:+0900
TZOFFSETTO:+0900
TZNAME:JST
END:STANDARD
END:VTIMEZONE
BEGIN:VEVENT
UID:804365@techplay.jp
SUMMARY:【追加開催決定！】アクセンチュアのデータサイ
 エンスチーム主催！アナリティクス勉強会＆座談会
DTSTART;TZID=Asia/Tokyo:20210127T190000
DTEND;TZID=Asia/Tokyo:20210127T203000
DTSTAMP:20260420T060009Z
CREATED:20210106T044429Z
DESCRIPTION:イベント詳細はこちら\nhttps://techplay.jp/event/80436
 5?utm_medium=referral&utm_source=ics&utm_campaign=ics\n\n※ご好評に
 つき、11月イベントの追加開催が決定しましたのでお
 知らせします。前半の講演パートは、前回と同様の内
 容になります。【オンライン開催】当日の参加URLはア
 ンケートにご記入いただいたメールアドレスにご連絡
 します。定員を超える場合は抽選制となりますこと、
 ご了承ください。\nイベントの内容\n≪アクセンチュア
 のデータサイエンスチームが主催するイベントです！
 ≫\n前半のアナリティクス勉強会ではベイズ統計に関
 する講演をします。後半は複数名のチームメンバーが
 参加し、座談会を実施します。「コンサル業界のデー
 タサイエンティストってどんな仕事をしてるの？」「A
 I時代に専門性を磨くキャリアとは？」皆さんの疑問に
 、現役社員がお答えします。お気軽にご参加ください
 。\n対象者\n・AIや機械学習、統計処理の実務における
 活用に関心のある社会人経験のある方。・アクセンチ
 ュアのAIグループの活動やデータサイエンティストの
 働き方に関心のある社会人経験のある方。\n\nタイムス
 ケジュール\n\n\n\n\n時間\n内容\n\n\n19:00-19:10\nオープニン
 グ/組織概要\n\n\n19:10-19:50\n\n講演：なぜセンサーデータ
 にベイズ統計を使うのか\n\n\n\n19:50-20:25\n\nデータサイ
 エンスチームメンバーによる座談会\n\n\n\n20:25-20:30　\n
 クロージング\n\n\n\n・当日予告なく時間配分や内容が
 変更になる可能性がございます。\n参加費\n無料\n登壇
 者プロフィール（講演）\n須山 敦志\n国内メーカーの
 研究職、UK のスタートアップの研究職を経て、現在は
 アクセンチュアにてデータ解析に関するコンサルティ
 ングに従事。著書：ベイズ推論による機械学習入門（
 講談社，2017）、ベイズ深層学習（講談社，2019）\n参加
 方法\nこちらのオンライン勉強会は 「Microsoft Teams」 を
 使用して実施致します。申し込み頂いた方に、申し込
 みアンケートで記入頂いたメールアドレスへ当日の参
 加URLをお送り致します。お手数ですが、メールのご確
 認の程よろしくお願い致します。\n注意事項\n・応募者
 多数の場合は、抽選とさせていただきます。・参加目
 的が不適切だと判断される場合には、運営側で参加を
 キャンセルさせていただく場合があります。・本イベ
 ントは社会人経験のある方を対象としています。
LOCATION:オンライン（Microsoft Teams）
URL:https://techplay.jp/event/804365?utm_medium=referral&utm_source=ics&utm
 _campaign=ics
END:VEVENT
END:VCALENDAR
