BEGIN:VCALENDAR
VERSION:2.0
PRODID:-//https://techplay.jp//JP
CALSCALE:GREGORIAN
METHOD:PUBLISH
X-WR-CALDESC:【Web担当者必見！】第1回Webマーケティングの
 企画書の作り方講座『実践！ダメな企画と良い企画＋
 パワーポイントで効果的な企画書を作成するために』
X-WR-CALNAME:【Web担当者必見！】第1回Webマーケティングの
 企画書の作り方講座『実践！ダメな企画と良い企画＋
 パワーポイントで効果的な企画書を作成するために』
X-WR-TIMEZONE:Asia/Tokyo
BEGIN:VTIMEZONE
TZID:Asia/Tokyo
BEGIN:STANDARD
DTSTART:19700101T000000
TZOFFSETFROM:+0900
TZOFFSETTO:+0900
TZNAME:JST
END:STANDARD
END:VTIMEZONE
BEGIN:VEVENT
UID:804384@techplay.jp
SUMMARY:【Web担当者必見！】第1回Webマーケティングの企画
 書の作り方講座『実践！ダメな企画と良い企画＋パワ
 ーポイントで効果的な企画書を作成するために』
DTSTART;TZID=Asia/Tokyo:20210115T160000
DTEND;TZID=Asia/Tokyo:20210115T170000
DTSTAMP:20260423T015154Z
CREATED:20210106T060915Z
DESCRIPTION:イベント詳細はこちら\nhttps://techplay.jp/event/80438
 4?utm_medium=referral&utm_source=ics&utm_campaign=ics\n\n【Web担当者
 必見！】第1回Webマーケティングの企画書の作り方講座
 『実践！ダメな企画と良い企画＋パワーポイントで効
 果的な企画書を作成するために』\n概要\n【このような
 方におすすめです】・Webサイトのプロモーション施策
 を社内で企画、運用、報告する必要がある方・Webサイ
 トの分析報告やサイト改善案を社内で提案する必要が
 ある方・Webサイトのリニューアルを予定しており、上
 司に向け企画書を作る必要がある方【セミナー対象の
 方】・Web担歴1～3年程度の経験者・Webマーケティング
 を基礎から学びたいWeb担当者・Webサイトでの集客、ユ
 ーザビリティ、リピート確保を強化したいWeb担当者・W
 eb戦略やプロモーションなどの施策を考えているWeb担
 当者・社内でWebマーケティングの企画を通したいと考
 えているWeb担当者・Webプロモーションで次の一手をお
 考えのWeb担当者 など※個人、学生、代理店の方のお申
 し込みはご遠慮ください。デジタルマーケター1年～3
 年目の方に向けて、Webサイト売上アップのためのノウ
 ハウを伝授するオンラインセミナーを全3回に分けて実
 施します。Web担当者が直面する社内提案において、確
 実に社内稟議を通すための企画書の作成方法を解説し
 ます。企画書の基礎的な考え方からWebマーケティング
 全般の知識まで網羅することができます。本ウェビナ
 ーは第1回目の「実践！ダメな企画と良い企画＋パワー
 ポイントで効果的な企画書を作成するために」となり
 ます。\nタイムスケジュール\n\n\n\n\n16:00～16:50　\n\n\n●
 ダメな企画書～何がダメなのかを知る～\n●企画立案
 で大切なこと\n-誰に対しての企画提案か\n-ROIを考える\
 n-必要最低限の要素\n●良い企画書～何が良いのかを知
 る～\n●すべての企画作成で最初にやること～現状分
 析とペルソナ作成方法～\n●パワーポイントで効果的
 な企画書を作成するために\n-フォーマットの作成\n-フ
 ォントの基本\n-表での表記方法\n-文字揃え/タブ/イン
 デント など\n\n\n\n\n16:50～17:00\n\n質疑応答/個別相談会\n
 \n\n\n\n※プログラムは若干変更になる場合があります
 。\n※個別相談会はオンラインで実施します。ご希望
 者には別途、詳細をご連絡いたします。\n※同業他社
 様のご参加はご遠慮いただいております。予めご了承
 ください。\n※学生・個人の方のご参加は、ご遠慮く
 ださいますようお願いいたします。\n登壇者\n\n\n田中 
 雅人\nECマーケティング株式会社代表取締役\nPR会社を
 経て、1996年にWeb業界へ。IT上場企業の取締役を経てEC
 マーケティングへ参画。Webサイト制作、大規模システ
 ム開発、ECサイト構築、ECサイト運営・販売促進、SEM、
 CRM、WebPRなど、Webプロモーション戦略全般のコンサル
 ティングを20年以上実施。セミナー講師、Webメディア
 への執筆、eラーニング講師などの経験もあり。\n \n参
 加対象\nWebサイトを運営する担当者\n※同業他社様のご
 参加はご遠慮いただいております。予めご了承くださ
 い。\n※学生・個人の方のご参加は、ご遠慮ください
 ますようお願いいたします。\n※定員を超えた場合は
 抽選とさせていただきます。\n参加方法\nオンライン配
 信(ZOOM)の予定です。\n※セミナー開始１時間前までに
 、接続先の情報（ログインURL）をメールにてご案内し
 ます。\n参加費\n無料\n注意事項\n※ 参加を辞退する場
 合は、詳細ページより申込のキャンセルをお願い致し
 ます。※ 無断キャンセル・欠席が続く場合、次回以降
 の参加をお断りさせていただく場合がございますので
 ご了承ください。\n 
LOCATION:オンライン
URL:https://techplay.jp/event/804384?utm_medium=referral&utm_source=ics&utm
 _campaign=ics
END:VEVENT
END:VCALENDAR
