BEGIN:VCALENDAR
VERSION:2.0
PRODID:-//https://techplay.jp//JP
CALSCALE:GREGORIAN
METHOD:PUBLISH
X-WR-CALDESC:候補者に伝わるジョブディスクリプションの
 ポイント解説【Workship主催】
X-WR-CALNAME:候補者に伝わるジョブディスクリプションの
 ポイント解説【Workship主催】
X-WR-TIMEZONE:Asia/Tokyo
BEGIN:VTIMEZONE
TZID:Asia/Tokyo
BEGIN:STANDARD
DTSTART:19700101T000000
TZOFFSETFROM:+0900
TZOFFSETTO:+0900
TZNAME:JST
END:STANDARD
END:VTIMEZONE
BEGIN:VEVENT
UID:804677@techplay.jp
SUMMARY:候補者に伝わるジョブディスクリプションのポイ
 ント解説【Workship主催】
DTSTART;TZID=Asia/Tokyo:20210121T170000
DTEND;TZID=Asia/Tokyo:20210121T173000
DTSTAMP:20260422T061108Z
CREATED:20210108T090812Z
DESCRIPTION:イベント詳細はこちら\nhttps://techplay.jp/event/80467
 7?utm_medium=referral&utm_source=ics&utm_campaign=ics\n\n当イベント
 はオンライン（Zoom）開催です\n新型コロナウイルスの
 感染拡大に関して、安全性を考慮し、当イベントはオ
 ンライン開催とさせていただきます。\n▼▼▼お申し
 込みはこちら▼▼▼\nイベント内容\n昨今、新しい採用
 形態として注目を集めているのが「ジョブ型採用」で
 す。日立製作所やヤフーなど、日本を代表する企業で
 も導入が進められています。新型コロナウイルスの感
 染拡大により、在宅勤務など柔軟な働き方を志向する
 人材が増えている中で、多くの方が興味を持っていら
 っしゃるのではないでしょうか。\nしかし、「ジョブ
 型」に移行する際に課題となっているのが「ジョブデ
 ィスクリプション」の作成です。ジョブ型採用には必
 要不可欠なジョブディスクリプションですが、その作
 成の仕方が分からず悩まれている方が多くいらっしゃ
 います。\nそこで、ジョブディスクリプションについ
 て解説する場として、ウェビナーを開催することにい
 たしました。\n\n具体的には...\n\nそもそも「ジョブデ
 ィスクリプション」とは何か\n候補者に伝わる「ジョ
 ブディスクリプション」作成のポイント\nジョブ型採
 用・ジョブディスクリプションに関するよくある質問
 と回答\n\n...など、ジョブディスクリプションの作成や
 運用について抑えておきたい要点を、事例を交えなが
 ら解説いたします。\n株式会社GIGは、ジョブ型採用支
 援サービス「Workship」を通じて様々な企業の組織構築
 やメンバー採用に貢献してきました。ジョブ型雇用へ
 の移行を検討している経営者及び人事担当者の方、今
 後の採用手法へご興味をお持ちの方はぜひお申込みく
 ださい。\n\n▼▼▼お申し込みはこちら▼▼▼\n参加資
 格\n経営者、人事、マネージャー、ディレクターなど
 ジョブ型採用にご興味のある方\n▼このような方にお
 すすめ▼\n\nジョブディスクリプションの作成方法を知
 りたい\n実際に他の企業がどのようにジョブ型へ移行
 しているのか気になる\n今後の採用手法の変化に興味
 がある\n\nタイムスケジュール\n\n\n\n時間\n内容\n\n\n17:00
 ~\nZoom開場・ウェビナー開始\n\n\n17:25~\n質疑応答\n\n\n17:3
 0\n閉会予定\n\n\n\n※当日の内容やタイムスケジュール
 は予告なしに変更となる場合がございます。\n※16:55よ
 り入室可能です。\n※初めてZoomをご使用する場合は、
 参加用URLにアクセスしていただいた後、ツールのイン
 ストール作業（無料）に5分ほどお時間が必要となりま
 す。開始時間前に余裕をもってご接続ください。\n登
 壇者\n\n工藤 遼（くどう りょう）\n株式会社GIG マーケ
 ティング事業部 フィールドセールス リーダー\n筑波大
 学国際総合学類を卒業後、2019年4月に新卒でGIG入社。\n
 現在はスキルシェアリングプラットフォーム「Workship
 」にてインサイドセールス、フィールドセールスの両
 職を経験し、現在はリーダーとしてフィールドセール
 スを牽引。社内表彰での四半期MVPを複数回受賞\n主催
 者\n\nWorkship 　\nWorkshipはデザイナー、エンジニア、マ
 ーケター、ディレクターといったデジタル業界のフリ
 ーランスとプロジェクトの間をマッチングするジョブ
 型雇用支援サービス。2021年1月現在、登録会員数約24\,0
 00人、累計企業数約600社にご利用いただいいています
 。\n\n\n\n株式会社GIG\nナショナルクライアントからスタ
 ートアップまで、Webコンサルティング、UI/UXデザイン
 、システム開発など、DX支援をおこなう。また、約24\,0
 00人のITプロフェッショナルとプロジェクトマッチング
 サービス「Workship」を運営する。\n参加費\n無料\n注意
 事項\n・当日の内容は予告なしに変更となる場合がご
 ざいます。・主催、登壇者企業と競合するような企業
 、事業者のご参加はご遠慮願います。・お申し込み時
 のお客様情報に虚偽が発覚した場合、応募が無効とな
 る場合がございます。\n 
LOCATION:オンライン
URL:https://techplay.jp/event/804677?utm_medium=referral&utm_source=ics&utm
 _campaign=ics
END:VEVENT
END:VCALENDAR
