BEGIN:VCALENDAR
VERSION:2.0
PRODID:-//https://techplay.jp//JP
CALSCALE:GREGORIAN
METHOD:PUBLISH
X-WR-CALDESC:Kernel/VM探検隊online part2
X-WR-CALNAME:Kernel/VM探検隊online part2
X-WR-TIMEZONE:Asia/Tokyo
BEGIN:VTIMEZONE
TZID:Asia/Tokyo
BEGIN:STANDARD
DTSTART:19700101T000000
TZOFFSETFROM:+0900
TZOFFSETTO:+0900
TZNAME:JST
END:STANDARD
END:VTIMEZONE
BEGIN:VEVENT
UID:804724@techplay.jp
SUMMARY:Kernel/VM探検隊online part2
DTSTART;TZID=Asia/Tokyo:20210320T133000
DTEND;TZID=Asia/Tokyo:20210320T183000
DTSTAMP:20260419T153209Z
CREATED:20210108T142218Z
DESCRIPTION:イベント詳細はこちら\nhttps://techplay.jp/event/80472
 4?utm_medium=referral&utm_source=ics&utm_campaign=ics\n\nイベント概
 要\nカーネルやVM、およびその他なんでもIT技術の話題
 ジャンルについて誰でも何でも発表してワイワイ盛り
 上がろうという会です。ジャンルの指定は特にありま
 せん． 楽しければ何でもOK です．詳しい内容や，過去
 の発表についてはHPを参照してください．\nhttp://www.kern
 elvm.org/\nたとえばLinux・*BSD・Plan9・Windowsなどの各種OSの
 デベロッパー/ヘビーユーザー，セキュリティ界隈の方
 々，競技プログラミング方面や難読化プログラミング
 が趣味な方，VMMの研究者の方，社宅でBGP組みたい方，
 などなど様々な分野で御活躍中の方々に幅広くご参加
 頂いております。(公式ページより引用)\nイベント会場
 は電子空間です。参加登録なしでも配信URLにさえアク
 セスすれば誰にでも見られますし、録画したものを後
 から参照できるようにもする予定です。\nタイムテー
 ブル\n\n\n\n発表者\nタイトル\n時刻\n発表時間\n\n\n\n\nsat\
 nオープニング\n13:30\n5分\n\n\nrui314\n超高速リンカmold\n13:
 35\n35分\n\n\nKOBA789\n音の出る CPU(仮)\n14:10\n25分\n\n\ninductor
 \nRed Hatが新しく作り始めたVMMの話\n14:35\n10分\n\n\n---\n休
 憩\n14:45\n10分\n\n\nmsyksphinz\nRustで作るフルスクラッチQEMU
 型エミュレータ\n14:55\n25分\n\n\nnullpo_head\nWebAssemblyのWeb
 以外のこと全部話す\n15:20\n25分\n\n\nmzyy94\nHDMI探検隊(仮)
 \n15:45\n10分\n\n\nmu-mu-mu\nIntel MPK入門\n15:55\n10分\n\n\n---\n休
 憩\n16:05\n10分\n\n\nherumi\nWebAssembly向け多倍長演算の実装\
 n16:15\n25分\n\n\ngarasubo\nRustはOS界の銀の弾丸となりうる
 か\n16:40\n10分\n\n\ntj8000rpm\nOVS-DPDKとOpenStackで作るおうちN
 FV環境の構築\n16:50\n10分\n\n\nfadis\nWasserstein逆FM音源\n17:00
 \n10分\n\n\nUnterground_idol\nLinux KernelにおけるCompactionにつ
 いて\n17:10\n10分\n\n\nnhoriguchi\nLinuxのhugepageの開発動向\n17
 :20\n10分\n\n\nnekomatu\nクロージング\n17:30\n5分\n\n\n\n配信UR
 L\nhttps://youtu.be/brrm328XItM\n質問のあるかたはtwitterに #kern
 elvm タグを使って質問とわかるように書き込んでいた
 だくと、セッション後に時間があれば回答いたします
 。\nアンケート\nhttps://docs.google.com/forms/d/e/1FAIpQLSer5UojJ_Z
 MQuV1BGD425bMMw7J8YR2bjLXvKUS2P7Ej38Czg/viewform?usp=sf_link\n19時過ぎ
 にtwitterの@kernelvm垢で結果をつぶやきます\n備考\n質問
 事項などありましたら主催者の sat (twitter id: @satoru_takeu
 chi\, email: satoru.takeuchi@gmail.com)までご連絡ください。本
 ページのコメント欄に書いてくれても構いません。た
 とえば「発表したいものの既に枠が埋まっているので
 なんとかならないか」、「持ち時間を変更してほしい
 んだけど」、などです。\n発表者には「資料の公開」
 をお願いしています。
LOCATION:オンライン オンライン
URL:https://techplay.jp/event/804724?utm_medium=referral&utm_source=ics&utm
 _campaign=ics
END:VEVENT
END:VCALENDAR
