BEGIN:VCALENDAR
VERSION:2.0
PRODID:-//https://techplay.jp//JP
CALSCALE:GREGORIAN
METHOD:PUBLISH
X-WR-CALDESC:企業のSNS活用について専門家に学べる90分 （
 質疑応答つき！）
X-WR-CALNAME:企業のSNS活用について専門家に学べる90分 （
 質疑応答つき！）
X-WR-TIMEZONE:Asia/Tokyo
BEGIN:VTIMEZONE
TZID:Asia/Tokyo
BEGIN:STANDARD
DTSTART:19700101T000000
TZOFFSETFROM:+0900
TZOFFSETTO:+0900
TZNAME:JST
END:STANDARD
END:VTIMEZONE
BEGIN:VEVENT
UID:805017@techplay.jp
SUMMARY:企業のSNS活用について専門家に学べる90分 （質疑
 応答つき！）
DTSTART;TZID=Asia/Tokyo:20210126T150000
DTEND;TZID=Asia/Tokyo:20210126T163000
DTSTAMP:20260420T185138Z
CREATED:20210113T021850Z
DESCRIPTION:イベント詳細はこちら\nhttps://techplay.jp/event/80501
 7?utm_medium=referral&utm_source=ics&utm_campaign=ics\n\n【1月26日開
 催】\n企業のSNS活用について専門家に学べる90分\n（質
 疑応答つき！）\n\n \n\n▼セミナー概要\n 長引く新型コ
 ロナウイルス感染拡大の影響により、費用をかけずに
 集客・売上増加を達成することが喫緊の課題となって
 いる企業様が多いのではないでしょうか？\n　そんな
 中で最も注目されているのがSNSです。ひと言に「SNS」
 と言っても様々なツールがあり、それぞれ異なる特性
 があり、さらにトレンドの移り変わりは早く、例えばT
 witterフリート機能やInstagramリール機能など、新機能の
 追加や仕様改訂も頻繁に行われています。\n　その中
 でも今回のセミナーではTwitter・Instagram・YouTubeについ
 てお話しいたします。拡散性と即時性を兼ね備えるTwit
 ter、ブランディングの強化を測りやすいInstagram、動画
 コンテンツの重要性が増す中で欠かせないYouTubeは戦略
 を立て、正しいテクニックを活用すれば、大きな効果
 を出すことができます。\n \n例えば以下のような例が
 あります。\n\nTwitterでの口コミツイートが反響を呼び
 、売上が6倍に跳ね上がった食品メーカー\nInstagram投稿
 コンテンツの統一感を出し、世界観を形成することに
 よってフォロワーを増やす住宅メーカー\nYouTubeで実際
 の仕事の様子の動画を発信することによって見えづら
 い介護の実態を発信する介護事業社\n\n\n\n \n\n \n\n \n2020
 年のTwitter・Instagram・YouTubeのトレンドや新機能情報を
 まとめつつ、2021年、どのような運用をしていくべきか
 を徹底解説いたします。\n▼SNS SCHOOLについて\n\n企業様
 ごとにカリキュラムをカスタマイズし、運用・コンサ
 ル・研修 を一気通貫で行うプログラムです。\n今まで
 のSNS運用代行で個別にかかっていたコストを大幅に削
 減し、企業にとって一生モノの財産になる、人材のス
 キルアップを実現します。\n受講者数総勢7\,000人以上! 
 100回以上の研修実績があり、すでに数十社の企業に成
 果を実感頂いています。\nさらに！以下の条件を満た
 すとSNS SCHOOLを実質無料で受講することができます！\n\
 n採用5年以内・35歳未満の正規労働者が5名以上いらっ
 しゃる企業様\n\n　　→人材開発支援助成金が利用でき
 ます！\n\n常時使用する従業員の数5人以下の商業・サ
 ービス業の企業様\n常時使用する従業員の数20人以下の
 宿泊業・娯楽業・製造業・その他の企業様\n\n　　→小
 規模事業者持続化補助金が利用できます！\n詳しくは
 セミナー内でご説明いたします。\n\n \n▼セミナー詳細
 \n 日時 2021年1月26日(火)　15時～16時半（セミナー60分+
 質疑応答30分）会場 ZOOM（URLは開催日前日までにお送り
 します）定員 50名費用 無料\n \n▼セミナー内容\n〈第1
 部〉ティネクト株式会社パート\n\nなぜ企業がコンテン
 ツマーケティングを必要としているのか？\nSNSでウケ
 るコンテンツとは？\n集客向けコンテンツってどうや
 って作るの？\nでも、作るだけでは集客できませんよ
 ！SNSの活用が必須なのです！\n\n\n〈第2部〉株式会社BES
 パート\n\n企業のSNS活用の現状\nなぜ今SNSを活用すべき
 なのか？\nSNS運用失敗パターンとその解決法\nTwitter・In
 stagram・YouTubeの最新テクニック・トレンド情報\n\n　　-
 Twitterリストの活用方法\n　　-検索に引っかかる！Instag
 ramハッシュタグの使い方\n　　-YouTubeサムネイル・タイ
 トルのコツ\n　　-トレンド情報～「おうち時間の過ご
 し方」・ライブ配信・オリジナルARフィルターなど～\n
  \n▼こんな方におすすめです！\n\nTwitter・Instagram・YouTu
 be運用が上手くいっていない方\nTwitter・Instagram・YouTube
 運用を強化されたい方\n費用をかけずに集客・売上増
 加につなげたい方\nどのSNSを運用すればいいのか分か
 らない方\n新たな集客方法をお探しの方\nオンラインで
 の売上アップをこれから進めていく方\nすでにオンラ
 イン広告を出稿しているが費用対効果が合っていない
 方\n社内のマーケティング担当だがうまく成果が出せ
 ていない方\n\n \n▼登壇者\n\n楢原  一雅\nティネクト株
 式会社\n1975年福岡県生まれ。広告デザイン事務所で 3
 年間働いた後、東進ハイスクールへ転職。約 10年間勤
 務。2013年ティネクトを安達と立ちあげ、月間150万PVの
 ビジネスパーソン向けwebメディア『Books&Apps』を運営中
 。現在は企業のコンテンツマーケティング支援を中心
 に事業を拡大し営業及びマーケティング担当。\n\n田中
 　千晶　\n株式会社BES\n代表取締役\n2009年、大学在学中
 に会社を設立し、1年半で大手企業、中小企業50社と取
 引をする。Webプロモーション支援を得意とし、特にSNS
 活用支援で多くの実績をもつ。2012年から全国各地でセ
 ミナーを精力的に実施。シリコンバレーのFacebook本社
 やTwitter本社へ毎年出向いて直接SNSの最先端情報を仕入
 れてきている。角川出版社、マイナビ社、技術評論社
 、翔泳社、インプレス社でマーケティング支援の書籍
 を6冊出版。連載も7社で行う。自身のラジオ番組、パ
 ーソナリティとしても活動し、SNSの最新情報を届けて
 いる。\n\n参加費\n無料\n使用ツール\nZOOM（使用するURL
 はメールにてお送りいたします。）\n注意事項\n※ 参
 加を辞退する場合は、詳細ページより申込のキャンセ
 ルをお願い致します。※ 無断キャンセル・欠席が続く
 場合、次回以降の参加をお断りさせていただく場合が
 ございますのでご了承ください。\n※本セミナーは法
 人様限定のセミナーとなります。\n※審査の上、同業
 と判断される企業様のお申し込みはご遠慮いただいて
 おります。\n\n 
LOCATION:オンライン(ZOOM)
URL:https://techplay.jp/event/805017?utm_medium=referral&utm_source=ics&utm
 _campaign=ics
END:VEVENT
END:VCALENDAR
